BEGIN:VCALENDAR
VERSION:2.0
PRODID:-//QuickScores.com//BQ Dynamic iCal Creator//EN
METHOD:PUBLISH
X-WR-CALNAME:Oregon City Brant - #10 Junior National - Spring 2026
X-WR-CALDESC:QuickScores game calendar
X-PUBLISHED-TTL:PT24H
REFRESH-INTERVAL;VALUE=DURATION:PT24H
CALSCALE:GREGORIAN
BEGIN:VTIMEZONE
TZID:America/Los_Angeles
X-LIC-LOCATION:America/Los_Angeles
BEGIN:DAYLIGHT
TZNAME:PDT
TZOFFSETFROM:-0800
TZOFFSETTO:-0700
DTSTART:19700308T020000
RRULE:FREQ=YEARLY;BYMONTH=3;BYDAY=2SU
END:DAYLIGHT
BEGIN:STANDARD
TZNAME:PST
TZOFFSETFROM:-0700
TZOFFSETTO:-0800
DTSTART:19701101T020000
RRULE:FREQ=YEARLY;BYMONTH=11;BYDAY=1SU
END:STANDARD
END:VTIMEZONE
BEGIN:VEVENT
UID:ccjba-74365730-20260504T180000@quickscores.com
DTSTAMP:20260421T101700Z
DTSTART;TZID=America/Los_Angeles:20260504T180000
DURATION:PT1H0M0S
SUMMARY:Oregon City Richmond vs. Oregon City Brant
DESCRIPTION:#10 Junior National - Clackamas County Junior Baseball
LOCATION:TBD
CATEGORIES:QuickScores, Baseball Game
TRANSP:OPAQUE
BEGIN:VALARM
TRIGGER:-PT2H
ACTION:DISPLAY
DESCRIPTION:Oregon City Richmond vs. Oregon City Brant
END:VALARM
END:VEVENT
BEGIN:VEVENT
UID:ccjba-74365733-20260506T180000@quickscores.com
DTSTAMP:20260421T101700Z
DTSTART;TZID=America/Los_Angeles:20260506T180000
DURATION:PT1H0M0S
SUMMARY:Oregon City Kemper vs. Oregon City Brant
DESCRIPTION:#10 Junior National - Clackamas County Junior Baseball
LOCATION:TBD
CATEGORIES:QuickScores, Baseball Game
TRANSP:OPAQUE
BEGIN:VALARM
TRIGGER:-PT2H
ACTION:DISPLAY
DESCRIPTION:Oregon City Kemper vs. Oregon City Brant
END:VALARM
END:VEVENT
BEGIN:VEVENT
UID:ccjba-74365740-20260511T180000@quickscores.com
DTSTAMP:20260421T101700Z
DTSTART;TZID=America/Los_Angeles:20260511T180000
DURATION:PT1H0M0S
SUMMARY:Oregon City Brant vs. Gladstone Martin
DESCRIPTION:#10 Junior National - Clackamas County Junior Baseball
LOCATION:TBD
CATEGORIES:QuickScores, Baseball Game
TRANSP:OPAQUE
BEGIN:VALARM
TRIGGER:-PT2H
ACTION:DISPLAY
DESCRIPTION:Oregon City Brant vs. Gladstone Martin
END:VALARM
END:VEVENT
BEGIN:VEVENT
UID:ccjba-74365744-20260513T180000@quickscores.com
DTSTAMP:20260421T101700Z
DTSTART;TZID=America/Los_Angeles:20260513T180000
DURATION:PT1H0M0S
SUMMARY:Canby Roberts vs. Oregon City Brant
DESCRIPTION:#10 Junior National - Clackamas County Junior Baseball
LOCATION:TBD
CATEGORIES:QuickScores, Baseball Game
TRANSP:OPAQUE
BEGIN:VALARM
TRIGGER:-PT2H
ACTION:DISPLAY
DESCRIPTION:Canby Roberts vs. Oregon City Brant
END:VALARM
END:VEVENT
BEGIN:VEVENT
UID:ccjba-74365748-20260518T180000@quickscores.com
DTSTAMP:20260421T101700Z
DTSTART;TZID=America/Los_Angeles:20260518T180000
DURATION:PT1H0M0S
SUMMARY:Milwaukie Robinson vs. Oregon City Brant
DESCRIPTION:#10 Junior National - Clackamas County Junior Baseball
LOCATION:TBD
CATEGORIES:QuickScores, Baseball Game
TRANSP:OPAQUE
BEGIN:VALARM
TRIGGER:-PT2H
ACTION:DISPLAY
DESCRIPTION:Milwaukie Robinson vs. Oregon City Brant
END:VALARM
END:VEVENT
BEGIN:VEVENT
UID:ccjba-74365752-20260520T180000@quickscores.com
DTSTAMP:20260421T101700Z
DTSTART;TZID=America/Los_Angeles:20260520T180000
DURATION:PT1H0M0S
SUMMARY:Oregon City Brant vs. Molalla Reynolds
DESCRIPTION:#10 Junior National - Clackamas County Junior Baseball
LOCATION:TBD
CATEGORIES:QuickScores, Baseball Game
TRANSP:OPAQUE
BEGIN:VALARM
TRIGGER:-PT2H
ACTION:DISPLAY
DESCRIPTION:Oregon City Brant vs. Molalla Reynolds
END:VALARM
END:VEVENT
BEGIN:VEVENT
UID:ccjba-74365754-20260527T180000@quickscores.com
DTSTAMP:20260421T101700Z
DTSTART;TZID=America/Los_Angeles:20260527T180000
DURATION:PT1H0M0S
SUMMARY:Estacada Zimmerman vs. Oregon City Brant
DESCRIPTION:#10 Junior National - Clackamas County Junior Baseball
LOCATION:TBD
CATEGORIES:QuickScores, Baseball Game
TRANSP:OPAQUE
BEGIN:VALARM
TRIGGER:-PT2H
ACTION:DISPLAY
DESCRIPTION:Estacada Zimmerman vs. Oregon City Brant
END:VALARM
END:VEVENT
BEGIN:VEVENT
UID:ccjba-74365758-20260601T180000@quickscores.com
DTSTAMP:20260421T101700Z
DTSTART;TZID=America/Los_Angeles:20260601T180000
DURATION:PT1H0M0S
SUMMARY:Oregon City Brant vs. Oregon City Richmond
DESCRIPTION:#10 Junior National - Clackamas County Junior Baseball
LOCATION:TBD
CATEGORIES:QuickScores, Baseball Game
TRANSP:OPAQUE
BEGIN:VALARM
TRIGGER:-PT2H
ACTION:DISPLAY
DESCRIPTION:Oregon City Brant vs. Oregon City Richmond
END:VALARM
END:VEVENT
BEGIN:VEVENT
UID:ccjba-74365764-20260603T180000@quickscores.com
DTSTAMP:20260421T101700Z
DTSTART;TZID=America/Los_Angeles:20260603T180000
DURATION:PT1H0M0S
SUMMARY:Molalla Reynolds vs. Oregon City Brant
DESCRIPTION:#10 Junior National - Clackamas County Junior Baseball
LOCATION:TBD
CATEGORIES:QuickScores, Baseball Game
TRANSP:OPAQUE
BEGIN:VALARM
TRIGGER:-PT2H
ACTION:DISPLAY
DESCRIPTION:Molalla Reynolds vs. Oregon City Brant
END:VALARM
END:VEVENT
BEGIN:VEVENT
UID:ccjba-74365768-20260608T180000@quickscores.com
DTSTAMP:20260421T101700Z
DTSTART;TZID=America/Los_Angeles:20260608T180000
DURATION:PT1H0M0S
SUMMARY:Gladstone Martin vs. Oregon City Brant
DESCRIPTION:#10 Junior National - Clackamas County Junior Baseball
LOCATION:TBD
CATEGORIES:QuickScores, Baseball Game
TRANSP:OPAQUE
BEGIN:VALARM
TRIGGER:-PT2H
ACTION:DISPLAY
DESCRIPTION:Gladstone Martin vs. Oregon City Brant
END:VALARM
END:VEVENT
BEGIN:VEVENT
UID:ccjba-74365769-20260610T180000@quickscores.com
DTSTAMP:20260421T101700Z
DTSTART;TZID=America/Los_Angeles:20260610T180000
DURATION:PT1H0M0S
SUMMARY:Oregon City Brant vs. Canby Roberts
DESCRIPTION:#10 Junior National - Clackamas County Junior Baseball
LOCATION:TBD
CATEGORIES:QuickScores, Baseball Game
TRANSP:OPAQUE
BEGIN:VALARM
TRIGGER:-PT2H
ACTION:DISPLAY
DESCRIPTION:Oregon City Brant vs. Canby Roberts
END:VALARM
END:VEVENT
BEGIN:VEVENT
UID:ccjba-74365774-20260615T180000@quickscores.com
DTSTAMP:20260421T101700Z
DTSTART;TZID=America/Los_Angeles:20260615T180000
DURATION:PT1H0M0S
SUMMARY:Oregon City Brant vs. Milwaukie Robinson
DESCRIPTION:#10 Junior National - Clackamas County Junior Baseball
LOCATION:TBD
CATEGORIES:QuickScores, Baseball Game
TRANSP:OPAQUE
BEGIN:VALARM
TRIGGER:-PT2H
ACTION:DISPLAY
DESCRIPTION:Oregon City Brant vs. Milwaukie Robinson
END:VALARM
END:VEVENT
BEGIN:VEVENT
UID:ccjba-74365780-20260617T180000@quickscores.com
DTSTAMP:20260421T101700Z
DTSTART;TZID=America/Los_Angeles:20260617T180000
DURATION:PT1H0M0S
SUMMARY:Oregon City Brant vs. Oregon City Kemper
DESCRIPTION:#10 Junior National - Clackamas County Junior Baseball
LOCATION:TBD
CATEGORIES:QuickScores, Baseball Game
TRANSP:OPAQUE
BEGIN:VALARM
TRIGGER:-PT2H
ACTION:DISPLAY
DESCRIPTION:Oregon City Brant vs. Oregon City Kemper
END:VALARM
END:VEVENT
BEGIN:VEVENT
UID:ccjba-74365782-20260622T180000@quickscores.com
DTSTAMP:20260421T101700Z
DTSTART;TZID=America/Los_Angeles:20260622T180000
DURATION:PT1H0M0S
SUMMARY:Oregon City Brant vs. Estacada Zimmerman
DESCRIPTION:#10 Junior National - Clackamas County Junior Baseball
LOCATION:TBD
CATEGORIES:QuickScores, Baseball Game
TRANSP:OPAQUE
BEGIN:VALARM
TRIGGER:-PT2H
ACTION:DISPLAY
DESCRIPTION:Oregon City Brant vs. Estacada Zimmerman
END:VALARM
END:VEVENT
BEGIN:VEVENT
UID:ccjba-74365788-20260624T180000@quickscores.com
DTSTAMP:20260421T101700Z
DTSTART;TZID=America/Los_Angeles:20260624T180000
DURATION:PT1H0M0S
SUMMARY:Canby Roberts vs. Oregon City Brant
DESCRIPTION:#10 Junior National - Clackamas County Junior Baseball
LOCATION:TBD
CATEGORIES:QuickScores, Baseball Game
TRANSP:OPAQUE
BEGIN:VALARM
TRIGGER:-PT2H
ACTION:DISPLAY
DESCRIPTION:Canby Roberts vs. Oregon City Brant
END:VALARM
END:VEVENT
BEGIN:VEVENT
UID:ccjba-74463339-20260705T180000@quickscores.com
DTSTAMP:20260421T101700Z
DTSTART;TZID=America/Los_Angeles:20260705T180000
DURATION:PT1H0M0S
SUMMARY:Oregon City Brant vs. Oregon City Richmond
DESCRIPTION:TBD Game - Needs to be scheduled --- #10 Junior National - Clackamas County Junior Baseball
LOCATION:TBD
CATEGORIES:QuickScores, Baseball Game
TRANSP:OPAQUE
BEGIN:VALARM
TRIGGER:-PT2H
ACTION:DISPLAY
DESCRIPTION:Oregon City Brant vs. Oregon City Richmond
END:VALARM
END:VEVENT
END:VCALENDAR
