BEGIN:VCALENDAR
VERSION:2.0
PRODID:-//QuickScores.com//BQ Dynamic iCal Creator//EN
METHOD:PUBLISH
X-WR-CALNAME:Nelson Espeland - #2 Minor National - Spring 2026
X-WR-CALDESC:QuickScores game calendar
X-PUBLISHED-TTL:PT24H
REFRESH-INTERVAL;VALUE=DURATION:PT24H
CALSCALE:GREGORIAN
BEGIN:VTIMEZONE
TZID:America/Los_Angeles
X-LIC-LOCATION:America/Los_Angeles
BEGIN:DAYLIGHT
TZNAME:PDT
TZOFFSETFROM:-0800
TZOFFSETTO:-0700
DTSTART:19700308T020000
RRULE:FREQ=YEARLY;BYMONTH=3;BYDAY=2SU
END:DAYLIGHT
BEGIN:STANDARD
TZNAME:PST
TZOFFSETFROM:-0700
TZOFFSETTO:-0800
DTSTART:19701101T020000
RRULE:FREQ=YEARLY;BYMONTH=11;BYDAY=1SU
END:STANDARD
END:VTIMEZONE
BEGIN:VEVENT
UID:ccjba-74364818-20260504T180000@quickscores.com
DTSTAMP:20260422T123600Z
DTSTART;TZID=America/Los_Angeles:20260504T180000
DURATION:PT1H0M0S
SUMMARY:Woodburn Hayden* vs. Nelson Espeland
DESCRIPTION:#2 Minor National - Clackamas County Junior Baseball
LOCATION:TBD
CATEGORIES:QuickScores, Baseball Game
TRANSP:OPAQUE
BEGIN:VALARM
TRIGGER:-PT2H
ACTION:DISPLAY
DESCRIPTION:Woodburn Hayden* vs. Nelson Espeland
END:VALARM
END:VEVENT
BEGIN:VEVENT
UID:ccjba-74364823-20260506T180000@quickscores.com
DTSTAMP:20260422T123600Z
DTSTART;TZID=America/Los_Angeles:20260506T180000
DURATION:PT1H0M0S
SUMMARY:Nelson Espeland vs. Colton Banta
DESCRIPTION:#2 Minor National - Clackamas County Junior Baseball
LOCATION:TBD
CATEGORIES:QuickScores, Baseball Game
TRANSP:OPAQUE
BEGIN:VALARM
TRIGGER:-PT2H
ACTION:DISPLAY
DESCRIPTION:Nelson Espeland vs. Colton Banta
END:VALARM
END:VEVENT
BEGIN:VEVENT
UID:ccjba-74364826-20260511T180000@quickscores.com
DTSTAMP:20260422T123600Z
DTSTART;TZID=America/Los_Angeles:20260511T180000
DURATION:PT1H0M0S
SUMMARY:Mt Angel Beyer vs. Nelson Espeland
DESCRIPTION:#2 Minor National - Clackamas County Junior Baseball
LOCATION:TBD
CATEGORIES:QuickScores, Baseball Game
TRANSP:OPAQUE
BEGIN:VALARM
TRIGGER:-PT2H
ACTION:DISPLAY
DESCRIPTION:Mt Angel Beyer vs. Nelson Espeland
END:VALARM
END:VEVENT
BEGIN:VEVENT
UID:ccjba-74364832-20260518T180000@quickscores.com
DTSTAMP:20260422T123600Z
DTSTART;TZID=America/Los_Angeles:20260518T180000
DURATION:PT1H0M0S
SUMMARY:Nelson Espeland vs. Estacada Juarez
DESCRIPTION:#2 Minor National - Clackamas County Junior Baseball
LOCATION:TBD
CATEGORIES:QuickScores, Baseball Game
TRANSP:OPAQUE
BEGIN:VALARM
TRIGGER:-PT2H
ACTION:DISPLAY
DESCRIPTION:Nelson Espeland vs. Estacada Juarez
END:VALARM
END:VEVENT
BEGIN:VEVENT
UID:ccjba-74364837-20260520T180000@quickscores.com
DTSTAMP:20260422T123600Z
DTSTART;TZID=America/Los_Angeles:20260520T180000
DURATION:PT1H0M0S
SUMMARY:Nelson Espeland vs. Country Christian Duhrkoop
DESCRIPTION:#2 Minor National - Clackamas County Junior Baseball
LOCATION:TBD
CATEGORIES:QuickScores, Baseball Game
TRANSP:OPAQUE
BEGIN:VALARM
TRIGGER:-PT2H
ACTION:DISPLAY
DESCRIPTION:Nelson Espeland vs. Country Christian Duhrkoop
END:VALARM
END:VEVENT
BEGIN:VEVENT
UID:ccjba-74364842-20260527T180000@quickscores.com
DTSTAMP:20260422T123600Z
DTSTART;TZID=America/Los_Angeles:20260527T180000
DURATION:PT1H0M0S
SUMMARY:Gladstone Morse vs. Nelson Espeland
DESCRIPTION:#2 Minor National - Clackamas County Junior Baseball
LOCATION:TBD
CATEGORIES:QuickScores, Baseball Game
TRANSP:OPAQUE
BEGIN:VALARM
TRIGGER:-PT2H
ACTION:DISPLAY
DESCRIPTION:Gladstone Morse vs. Nelson Espeland
END:VALARM
END:VEVENT
BEGIN:VEVENT
UID:ccjba-74364846-20260601T180000@quickscores.com
DTSTAMP:20260422T123600Z
DTSTART;TZID=America/Los_Angeles:20260601T180000
DURATION:PT1H0M0S
SUMMARY:Nelson Espeland vs. Woodburn Hayden*
DESCRIPTION:#2 Minor National - Clackamas County Junior Baseball
LOCATION:TBD
CATEGORIES:QuickScores, Baseball Game
TRANSP:OPAQUE
BEGIN:VALARM
TRIGGER:-PT2H
ACTION:DISPLAY
DESCRIPTION:Nelson Espeland vs. Woodburn Hayden*
END:VALARM
END:VEVENT
BEGIN:VEVENT
UID:ccjba-74364849-20260603T180000@quickscores.com
DTSTAMP:20260422T123600Z
DTSTART;TZID=America/Los_Angeles:20260603T180000
DURATION:PT1H0M0S
SUMMARY:Country Christian Duhrkoop vs. Nelson Espeland
DESCRIPTION:#2 Minor National - Clackamas County Junior Baseball
LOCATION:TBD
CATEGORIES:QuickScores, Baseball Game
TRANSP:OPAQUE
BEGIN:VALARM
TRIGGER:-PT2H
ACTION:DISPLAY
DESCRIPTION:Country Christian Duhrkoop vs. Nelson Espeland
END:VALARM
END:VEVENT
BEGIN:VEVENT
UID:ccjba-74364854-20260608T180000@quickscores.com
DTSTAMP:20260422T123600Z
DTSTART;TZID=America/Los_Angeles:20260608T180000
DURATION:PT1H0M0S
SUMMARY:Nelson Espeland vs. Mt Angel Beyer
DESCRIPTION:#2 Minor National - Clackamas County Junior Baseball
LOCATION:TBD
CATEGORIES:QuickScores, Baseball Game
TRANSP:OPAQUE
BEGIN:VALARM
TRIGGER:-PT2H
ACTION:DISPLAY
DESCRIPTION:Nelson Espeland vs. Mt Angel Beyer
END:VALARM
END:VEVENT
BEGIN:VEVENT
UID:ccjba-74364863-20260615T180000@quickscores.com
DTSTAMP:20260422T123600Z
DTSTART;TZID=America/Los_Angeles:20260615T180000
DURATION:PT1H0M0S
SUMMARY:Estacada Juarez vs. Nelson Espeland
DESCRIPTION:#2 Minor National - Clackamas County Junior Baseball
LOCATION:TBD
CATEGORIES:QuickScores, Baseball Game
TRANSP:OPAQUE
BEGIN:VALARM
TRIGGER:-PT2H
ACTION:DISPLAY
DESCRIPTION:Estacada Juarez vs. Nelson Espeland
END:VALARM
END:VEVENT
BEGIN:VEVENT
UID:ccjba-74364865-20260617T180000@quickscores.com
DTSTAMP:20260422T123600Z
DTSTART;TZID=America/Los_Angeles:20260617T180000
DURATION:PT1H0M0S
SUMMARY:Colton Banta vs. Nelson Espeland
DESCRIPTION:#2 Minor National - Clackamas County Junior Baseball
LOCATION:TBD
CATEGORIES:QuickScores, Baseball Game
TRANSP:OPAQUE
BEGIN:VALARM
TRIGGER:-PT2H
ACTION:DISPLAY
DESCRIPTION:Colton Banta vs. Nelson Espeland
END:VALARM
END:VEVENT
BEGIN:VEVENT
UID:ccjba-74364869-20260622T180000@quickscores.com
DTSTAMP:20260422T123600Z
DTSTART;TZID=America/Los_Angeles:20260622T180000
DURATION:PT1H0M0S
SUMMARY:Nelson Espeland vs. Gladstone Morse
DESCRIPTION:#2 Minor National - Clackamas County Junior Baseball
LOCATION:TBD
CATEGORIES:QuickScores, Baseball Game
TRANSP:OPAQUE
BEGIN:VALARM
TRIGGER:-PT2H
ACTION:DISPLAY
DESCRIPTION:Nelson Espeland vs. Gladstone Morse
END:VALARM
END:VEVENT
BEGIN:VEVENT
UID:ccjba-74460761-20260705T180000@quickscores.com
DTSTAMP:20260422T123600Z
DTSTART;TZID=America/Los_Angeles:20260705T180000
DURATION:PT1H0M0S
SUMMARY:Estacada Juarez vs. Nelson Espeland
DESCRIPTION:TBD Game - Need to schedule --- #2 Minor National - Clackamas County Junior Baseball
LOCATION:TBD
CATEGORIES:QuickScores, Baseball Game
TRANSP:OPAQUE
BEGIN:VALARM
TRIGGER:-PT2H
ACTION:DISPLAY
DESCRIPTION:Estacada Juarez vs. Nelson Espeland
END:VALARM
END:VEVENT
END:VCALENDAR
