BEGIN:VCALENDAR
VERSION:2.0
PRODID:-//QuickScores.com//BQ Dynamic iCal Creator//EN
METHOD:PUBLISH
X-WR-CALNAME:Gladstone Morse - #2 Minor National - Spring 2026
X-WR-CALDESC:QuickScores game calendar
X-PUBLISHED-TTL:PT24H
REFRESH-INTERVAL;VALUE=DURATION:PT24H
CALSCALE:GREGORIAN
BEGIN:VTIMEZONE
TZID:America/Los_Angeles
X-LIC-LOCATION:America/Los_Angeles
BEGIN:DAYLIGHT
TZNAME:PDT
TZOFFSETFROM:-0800
TZOFFSETTO:-0700
DTSTART:19700308T020000
RRULE:FREQ=YEARLY;BYMONTH=3;BYDAY=2SU
END:DAYLIGHT
BEGIN:STANDARD
TZNAME:PST
TZOFFSETFROM:-0700
TZOFFSETTO:-0800
DTSTART:19701101T020000
RRULE:FREQ=YEARLY;BYMONTH=11;BYDAY=1SU
END:STANDARD
END:VTIMEZONE
BEGIN:VEVENT
UID:ccjba-74364822-20260506T180000@quickscores.com
DTSTAMP:20260422T193200Z
DTSTART;TZID=America/Los_Angeles:20260506T180000
DURATION:PT1H0M0S
SUMMARY:Woodburn Hayden* vs. Gladstone Morse
DESCRIPTION:#2 Minor National - Clackamas County Junior Baseball
LOCATION:TBD
CATEGORIES:QuickScores, Baseball Game
TRANSP:OPAQUE
BEGIN:VALARM
TRIGGER:-PT2H
ACTION:DISPLAY
DESCRIPTION:Woodburn Hayden* vs. Gladstone Morse
END:VALARM
END:VEVENT
BEGIN:VEVENT
UID:ccjba-74364824-20260511T180000@quickscores.com
DTSTAMP:20260422T193200Z
DTSTART;TZID=America/Los_Angeles:20260511T180000
DURATION:PT1H0M0S
SUMMARY:Gladstone Morse vs. Estacada Juarez
DESCRIPTION:#2 Minor National - Clackamas County Junior Baseball
LOCATION:TBD
CATEGORIES:QuickScores, Baseball Game
TRANSP:OPAQUE
BEGIN:VALARM
TRIGGER:-PT2H
ACTION:DISPLAY
DESCRIPTION:Gladstone Morse vs. Estacada Juarez
END:VALARM
END:VEVENT
BEGIN:VEVENT
UID:ccjba-74364830-20260513T180000@quickscores.com
DTSTAMP:20260422T193200Z
DTSTART;TZID=America/Los_Angeles:20260513T180000
DURATION:PT1H0M0S
SUMMARY:Mt Angel Beyer vs. Gladstone Morse
DESCRIPTION:#2 Minor National - Clackamas County Junior Baseball
LOCATION:TBD
CATEGORIES:QuickScores, Baseball Game
TRANSP:OPAQUE
BEGIN:VALARM
TRIGGER:-PT2H
ACTION:DISPLAY
DESCRIPTION:Mt Angel Beyer vs. Gladstone Morse
END:VALARM
END:VEVENT
BEGIN:VEVENT
UID:ccjba-74364833-20260518T180000@quickscores.com
DTSTAMP:20260422T193200Z
DTSTART;TZID=America/Los_Angeles:20260518T180000
DURATION:PT1H0M0S
SUMMARY:Gladstone Morse vs. Country Christian Duhrkoop
DESCRIPTION:#2 Minor National - Clackamas County Junior Baseball
LOCATION:TBD
CATEGORIES:QuickScores, Baseball Game
TRANSP:OPAQUE
BEGIN:VALARM
TRIGGER:-PT2H
ACTION:DISPLAY
DESCRIPTION:Gladstone Morse vs. Country Christian Duhrkoop
END:VALARM
END:VEVENT
BEGIN:VEVENT
UID:ccjba-74364838-20260520T180000@quickscores.com
DTSTAMP:20260422T193200Z
DTSTART;TZID=America/Los_Angeles:20260520T180000
DURATION:PT1H0M0S
SUMMARY:Colton Banta vs. Gladstone Morse
DESCRIPTION:#2 Minor National - Clackamas County Junior Baseball
LOCATION:TBD
CATEGORIES:QuickScores, Baseball Game
TRANSP:OPAQUE
BEGIN:VALARM
TRIGGER:-PT2H
ACTION:DISPLAY
DESCRIPTION:Colton Banta vs. Gladstone Morse
END:VALARM
END:VEVENT
BEGIN:VEVENT
UID:ccjba-74364842-20260527T180000@quickscores.com
DTSTAMP:20260422T193200Z
DTSTART;TZID=America/Los_Angeles:20260527T180000
DURATION:PT1H0M0S
SUMMARY:Gladstone Morse vs. Nelson Espeland
DESCRIPTION:#2 Minor National - Clackamas County Junior Baseball
LOCATION:TBD
CATEGORIES:QuickScores, Baseball Game
TRANSP:OPAQUE
BEGIN:VALARM
TRIGGER:-PT2H
ACTION:DISPLAY
DESCRIPTION:Gladstone Morse vs. Nelson Espeland
END:VALARM
END:VEVENT
BEGIN:VEVENT
UID:ccjba-74364850-20260603T180000@quickscores.com
DTSTAMP:20260422T193200Z
DTSTART;TZID=America/Los_Angeles:20260603T180000
DURATION:PT1H0M0S
SUMMARY:Gladstone Morse vs. Colton Banta
DESCRIPTION:#2 Minor National - Clackamas County Junior Baseball
LOCATION:TBD
CATEGORIES:QuickScores, Baseball Game
TRANSP:OPAQUE
BEGIN:VALARM
TRIGGER:-PT2H
ACTION:DISPLAY
DESCRIPTION:Gladstone Morse vs. Colton Banta
END:VALARM
END:VEVENT
BEGIN:VEVENT
UID:ccjba-74364852-20260608T180000@quickscores.com
DTSTAMP:20260422T193200Z
DTSTART;TZID=America/Los_Angeles:20260608T180000
DURATION:PT1H0M0S
SUMMARY:Estacada Juarez vs. Gladstone Morse
DESCRIPTION:#2 Minor National - Clackamas County Junior Baseball
LOCATION:TBD
CATEGORIES:QuickScores, Baseball Game
TRANSP:OPAQUE
BEGIN:VALARM
TRIGGER:-PT2H
ACTION:DISPLAY
DESCRIPTION:Estacada Juarez vs. Gladstone Morse
END:VALARM
END:VEVENT
BEGIN:VEVENT
UID:ccjba-74364858-20260610T180000@quickscores.com
DTSTAMP:20260422T193200Z
DTSTART;TZID=America/Los_Angeles:20260610T180000
DURATION:PT1H0M0S
SUMMARY:Gladstone Morse vs. Mt Angel Beyer
DESCRIPTION:#2 Minor National - Clackamas County Junior Baseball
LOCATION:TBD
CATEGORIES:QuickScores, Baseball Game
TRANSP:OPAQUE
BEGIN:VALARM
TRIGGER:-PT2H
ACTION:DISPLAY
DESCRIPTION:Gladstone Morse vs. Mt Angel Beyer
END:VALARM
END:VEVENT
BEGIN:VEVENT
UID:ccjba-74364860-20260615T180000@quickscores.com
DTSTAMP:20260422T193200Z
DTSTART;TZID=America/Los_Angeles:20260615T180000
DURATION:PT1H0M0S
SUMMARY:Country Christian Duhrkoop vs. Gladstone Morse
DESCRIPTION:#2 Minor National - Clackamas County Junior Baseball
LOCATION:TBD
CATEGORIES:QuickScores, Baseball Game
TRANSP:OPAQUE
BEGIN:VALARM
TRIGGER:-PT2H
ACTION:DISPLAY
DESCRIPTION:Country Christian Duhrkoop vs. Gladstone Morse
END:VALARM
END:VEVENT
BEGIN:VEVENT
UID:ccjba-74364867-20260617T180000@quickscores.com
DTSTAMP:20260422T193200Z
DTSTART;TZID=America/Los_Angeles:20260617T180000
DURATION:PT1H0M0S
SUMMARY:Gladstone Morse vs. Woodburn Hayden*
DESCRIPTION:#2 Minor National - Clackamas County Junior Baseball
LOCATION:TBD
CATEGORIES:QuickScores, Baseball Game
TRANSP:OPAQUE
BEGIN:VALARM
TRIGGER:-PT2H
ACTION:DISPLAY
DESCRIPTION:Gladstone Morse vs. Woodburn Hayden*
END:VALARM
END:VEVENT
BEGIN:VEVENT
UID:ccjba-74364869-20260622T180000@quickscores.com
DTSTAMP:20260422T193200Z
DTSTART;TZID=America/Los_Angeles:20260622T180000
DURATION:PT1H0M0S
SUMMARY:Nelson Espeland vs. Gladstone Morse
DESCRIPTION:#2 Minor National - Clackamas County Junior Baseball
LOCATION:TBD
CATEGORIES:QuickScores, Baseball Game
TRANSP:OPAQUE
BEGIN:VALARM
TRIGGER:-PT2H
ACTION:DISPLAY
DESCRIPTION:Nelson Espeland vs. Gladstone Morse
END:VALARM
END:VEVENT
BEGIN:VEVENT
UID:ccjba-74364874-20260624T180000@quickscores.com
DTSTAMP:20260422T193200Z
DTSTART;TZID=America/Los_Angeles:20260624T180000
DURATION:PT1H0M0S
SUMMARY:Gladstone Morse vs. Mt Angel Beyer
DESCRIPTION:#2 Minor National - Clackamas County Junior Baseball
LOCATION:TBD
CATEGORIES:QuickScores, Baseball Game
TRANSP:OPAQUE
BEGIN:VALARM
TRIGGER:-PT2H
ACTION:DISPLAY
DESCRIPTION:Gladstone Morse vs. Mt Angel Beyer
END:VALARM
END:VEVENT
END:VCALENDAR
