BEGIN:VCALENDAR
VERSION:2.0
PRODID:-//QuickScores.com//BQ Dynamic iCal Creator//EN
METHOD:PUBLISH
X-WR-CALNAME:Tualatin Foiles - #17 Junior Federal - Spring 2026
X-WR-CALDESC:QuickScores game calendar
X-PUBLISHED-TTL:PT24H
REFRESH-INTERVAL;VALUE=DURATION:PT24H
CALSCALE:GREGORIAN
BEGIN:VTIMEZONE
TZID:America/Los_Angeles
X-LIC-LOCATION:America/Los_Angeles
BEGIN:DAYLIGHT
TZNAME:PDT
TZOFFSETFROM:-0800
TZOFFSETTO:-0700
DTSTART:19700308T020000
RRULE:FREQ=YEARLY;BYMONTH=3;BYDAY=2SU
END:DAYLIGHT
BEGIN:STANDARD
TZNAME:PST
TZOFFSETFROM:-0700
TZOFFSETTO:-0800
DTSTART:19701101T020000
RRULE:FREQ=YEARLY;BYMONTH=11;BYDAY=1SU
END:STANDARD
END:VTIMEZONE
BEGIN:VEVENT
UID:ccjba-74360121-20260423T180000@quickscores.com
DTSTAMP:20260421T135000Z
DTSTART;TZID=America/Los_Angeles:20260423T180000
DURATION:PT1H0M0S
SUMMARY:West Linn Mitchell vs. Tualatin Foiles
DESCRIPTION:#17 Junior Federal - Clackamas County Junior Baseball
LOCATION:TBD
CATEGORIES:QuickScores, Baseball Game
TRANSP:OPAQUE
BEGIN:VALARM
TRIGGER:-PT2H
ACTION:DISPLAY
DESCRIPTION:West Linn Mitchell vs. Tualatin Foiles
END:VALARM
END:VEVENT
BEGIN:VEVENT
UID:ccjba-74360123-20260428T180000@quickscores.com
DTSTAMP:20260421T135000Z
DTSTART;TZID=America/Los_Angeles:20260428T180000
DURATION:PT1H0M0S
SUMMARY:Tualatin Foiles vs. Clackamas Elliott
DESCRIPTION:#17 Junior Federal - Clackamas County Junior Baseball
LOCATION:TBD
CATEGORIES:QuickScores, Baseball Game
TRANSP:OPAQUE
BEGIN:VALARM
TRIGGER:-PT2H
ACTION:DISPLAY
DESCRIPTION:Tualatin Foiles vs. Clackamas Elliott
END:VALARM
END:VEVENT
BEGIN:VEVENT
UID:ccjba-74360134-20260505T180000@quickscores.com
DTSTAMP:20260421T135000Z
DTSTART;TZID=America/Los_Angeles:20260505T180000
DURATION:PT1H0M0S
SUMMARY:Canby Rash vs. Tualatin Foiles
DESCRIPTION:#17 Junior Federal - Clackamas County Junior Baseball
LOCATION:TBD
CATEGORIES:QuickScores, Baseball Game
TRANSP:OPAQUE
BEGIN:VALARM
TRIGGER:-PT2H
ACTION:DISPLAY
DESCRIPTION:Canby Rash vs. Tualatin Foiles
END:VALARM
END:VEVENT
BEGIN:VEVENT
UID:ccjba-74360136-20260507T180000@quickscores.com
DTSTAMP:20260421T135000Z
DTSTART;TZID=America/Los_Angeles:20260507T180000
DURATION:PT1H0M0S
SUMMARY:Tualatin Foiles vs. Oregon City Glynn
DESCRIPTION:#17 Junior Federal - Clackamas County Junior Baseball
LOCATION:TBD
CATEGORIES:QuickScores, Baseball Game
TRANSP:OPAQUE
BEGIN:VALARM
TRIGGER:-PT2H
ACTION:DISPLAY
DESCRIPTION:Tualatin Foiles vs. Oregon City Glynn
END:VALARM
END:VEVENT
BEGIN:VEVENT
UID:ccjba-74360141-20260512T180000@quickscores.com
DTSTAMP:20260421T135000Z
DTSTART;TZID=America/Los_Angeles:20260512T180000
DURATION:PT1H0M0S
SUMMARY:Tualatin Foiles vs. West Linn Mitchell
DESCRIPTION:#17 Junior Federal - Clackamas County Junior Baseball
LOCATION:TBD
CATEGORIES:QuickScores, Baseball Game
TRANSP:OPAQUE
BEGIN:VALARM
TRIGGER:-PT2H
ACTION:DISPLAY
DESCRIPTION:Tualatin Foiles vs. West Linn Mitchell
END:VALARM
END:VEVENT
BEGIN:VEVENT
UID:ccjba-74360145-20260514T180000@quickscores.com
DTSTAMP:20260421T135000Z
DTSTART;TZID=America/Los_Angeles:20260514T180000
DURATION:PT1H0M0S
SUMMARY:Tualatin Foiles vs. Nelson Coburn
DESCRIPTION:#17 Junior Federal - Clackamas County Junior Baseball
LOCATION:TBD
CATEGORIES:QuickScores, Baseball Game
TRANSP:OPAQUE
BEGIN:VALARM
TRIGGER:-PT2H
ACTION:DISPLAY
DESCRIPTION:Tualatin Foiles vs. Nelson Coburn
END:VALARM
END:VEVENT
BEGIN:VEVENT
UID:ccjba-74360151-20260521T180000@quickscores.com
DTSTAMP:20260421T135000Z
DTSTART;TZID=America/Los_Angeles:20260521T180000
DURATION:PT1H0M0S
SUMMARY:Clackamas Elliott vs. Tualatin Foiles
DESCRIPTION:#17 Junior Federal - Clackamas County Junior Baseball
LOCATION:TBD
CATEGORIES:QuickScores, Baseball Game
TRANSP:OPAQUE
BEGIN:VALARM
TRIGGER:-PT2H
ACTION:DISPLAY
DESCRIPTION:Clackamas Elliott vs. Tualatin Foiles
END:VALARM
END:VEVENT
BEGIN:VEVENT
UID:ccjba-74360163-20260602T180000@quickscores.com
DTSTAMP:20260421T135000Z
DTSTART;TZID=America/Los_Angeles:20260602T180000
DURATION:PT1H0M0S
SUMMARY:Tualatin Foiles vs. Clackamas Elliott
DESCRIPTION:#17 Junior Federal - Clackamas County Junior Baseball
LOCATION:TBD
CATEGORIES:QuickScores, Baseball Game
TRANSP:OPAQUE
BEGIN:VALARM
TRIGGER:-PT2H
ACTION:DISPLAY
DESCRIPTION:Tualatin Foiles vs. Clackamas Elliott
END:VALARM
END:VEVENT
BEGIN:VEVENT
UID:ccjba-74360169-20260604T180000@quickscores.com
DTSTAMP:20260421T135000Z
DTSTART;TZID=America/Los_Angeles:20260604T180000
DURATION:PT1H0M0S
SUMMARY:West Linn Mitchell vs. Tualatin Foiles
DESCRIPTION:#17 Junior Federal - Clackamas County Junior Baseball
LOCATION:TBD
CATEGORIES:QuickScores, Baseball Game
TRANSP:OPAQUE
BEGIN:VALARM
TRIGGER:-PT2H
ACTION:DISPLAY
DESCRIPTION:West Linn Mitchell vs. Tualatin Foiles
END:VALARM
END:VEVENT
BEGIN:VEVENT
UID:ccjba-74360173-20260609T180000@quickscores.com
DTSTAMP:20260421T135000Z
DTSTART;TZID=America/Los_Angeles:20260609T180000
DURATION:PT1H0M0S
SUMMARY:Nelson Coburn vs. Tualatin Foiles
DESCRIPTION:#17 Junior Federal - Clackamas County Junior Baseball
LOCATION:TBD
CATEGORIES:QuickScores, Baseball Game
TRANSP:OPAQUE
BEGIN:VALARM
TRIGGER:-PT2H
ACTION:DISPLAY
DESCRIPTION:Nelson Coburn vs. Tualatin Foiles
END:VALARM
END:VEVENT
BEGIN:VEVENT
UID:ccjba-74360162-20260611T180000@quickscores.com
DTSTAMP:20260421T135000Z
DTSTART;TZID=America/Los_Angeles:20260611T180000
DURATION:PT1H0M0S
SUMMARY:Tualatin Foiles vs. Canby Rash
DESCRIPTION:#17 Junior Federal - Clackamas County Junior Baseball
LOCATION:TBD
CATEGORIES:QuickScores, Baseball Game
TRANSP:OPAQUE
BEGIN:VALARM
TRIGGER:-PT2H
ACTION:DISPLAY
DESCRIPTION:Tualatin Foiles vs. Canby Rash
END:VALARM
END:VEVENT
BEGIN:VEVENT
UID:ccjba-74360182-20260616T180000@quickscores.com
DTSTAMP:20260421T135000Z
DTSTART;TZID=America/Los_Angeles:20260616T180000
DURATION:PT1H0M0S
SUMMARY:Oregon City Glynn vs. Tualatin Foiles
DESCRIPTION:#17 Junior Federal - Clackamas County Junior Baseball
LOCATION:TBD
CATEGORIES:QuickScores, Baseball Game
TRANSP:OPAQUE
BEGIN:VALARM
TRIGGER:-PT2H
ACTION:DISPLAY
DESCRIPTION:Oregon City Glynn vs. Tualatin Foiles
END:VALARM
END:VEVENT
BEGIN:VEVENT
UID:ccjba-74360193-20260625T180000@quickscores.com
DTSTAMP:20260421T135000Z
DTSTART;TZID=America/Los_Angeles:20260625T180000
DURATION:PT1H0M0S
SUMMARY:Oregon City Glynn vs. Tualatin Foiles
DESCRIPTION:#17 Junior Federal - Clackamas County Junior Baseball
LOCATION:TBD
CATEGORIES:QuickScores, Baseball Game
TRANSP:OPAQUE
BEGIN:VALARM
TRIGGER:-PT2H
ACTION:DISPLAY
DESCRIPTION:Oregon City Glynn vs. Tualatin Foiles
END:VALARM
END:VEVENT
BEGIN:VEVENT
UID:ccjba-74360197-20260630T180000@quickscores.com
DTSTAMP:20260421T135000Z
DTSTART;TZID=America/Los_Angeles:20260630T180000
DURATION:PT1H0M0S
SUMMARY:Nelson Coburn vs. Tualatin Foiles
DESCRIPTION:#17 Junior Federal - Clackamas County Junior Baseball
LOCATION:TBD
CATEGORIES:QuickScores, Baseball Game
TRANSP:OPAQUE
BEGIN:VALARM
TRIGGER:-PT2H
ACTION:DISPLAY
DESCRIPTION:Nelson Coburn vs. Tualatin Foiles
END:VALARM
END:VEVENT
BEGIN:VEVENT
UID:ccjba-74360201-20260702T180000@quickscores.com
DTSTAMP:20260421T135000Z
DTSTART;TZID=America/Los_Angeles:20260702T180000
DURATION:PT1H0M0S
SUMMARY:Tualatin Foiles vs. Canby Rash
DESCRIPTION:#17 Junior Federal - Clackamas County Junior Baseball
LOCATION:TBD
CATEGORIES:QuickScores, Baseball Game
TRANSP:OPAQUE
BEGIN:VALARM
TRIGGER:-PT2H
ACTION:DISPLAY
DESCRIPTION:Tualatin Foiles vs. Canby Rash
END:VALARM
END:VEVENT
END:VCALENDAR
