BEGIN:VCALENDAR
VERSION:2.0
PRODID:-//QuickScores.com//BQ Dynamic iCal Creator//EN
METHOD:PUBLISH
X-WR-CALNAME:Oregon City Glynn - #17 Junior Federal - Spring 2026
X-WR-CALDESC:QuickScores game calendar
X-PUBLISHED-TTL:PT24H
REFRESH-INTERVAL;VALUE=DURATION:PT24H
CALSCALE:GREGORIAN
BEGIN:VTIMEZONE
TZID:America/Los_Angeles
X-LIC-LOCATION:America/Los_Angeles
BEGIN:DAYLIGHT
TZNAME:PDT
TZOFFSETFROM:-0800
TZOFFSETTO:-0700
DTSTART:19700308T020000
RRULE:FREQ=YEARLY;BYMONTH=3;BYDAY=2SU
END:DAYLIGHT
BEGIN:STANDARD
TZNAME:PST
TZOFFSETFROM:-0700
TZOFFSETTO:-0800
DTSTART:19701101T020000
RRULE:FREQ=YEARLY;BYMONTH=11;BYDAY=1SU
END:STANDARD
END:VTIMEZONE
BEGIN:VEVENT
UID:ccjba-74360124-20260428T180000@quickscores.com
DTSTAMP:20260421T200000Z
DTSTART;TZID=America/Los_Angeles:20260428T180000
DURATION:PT1H0M0S
SUMMARY:Oregon City Glynn vs. West Linn Mitchell
DESCRIPTION:#17 Junior Federal - Clackamas County Junior Baseball
LOCATION:TBD
CATEGORIES:QuickScores, Baseball Game
TRANSP:OPAQUE
BEGIN:VALARM
TRIGGER:-PT2H
ACTION:DISPLAY
DESCRIPTION:Oregon City Glynn vs. West Linn Mitchell
END:VALARM
END:VEVENT
BEGIN:VEVENT
UID:ccjba-74360131-20260505T180000@quickscores.com
DTSTAMP:20260421T200000Z
DTSTART;TZID=America/Los_Angeles:20260505T180000
DURATION:PT1H0M0S
SUMMARY:Oregon City Glynn vs. Clackamas Elliott
DESCRIPTION:#17 Junior Federal - Clackamas County Junior Baseball
LOCATION:TBD
CATEGORIES:QuickScores, Baseball Game
TRANSP:OPAQUE
BEGIN:VALARM
TRIGGER:-PT2H
ACTION:DISPLAY
DESCRIPTION:Oregon City Glynn vs. Clackamas Elliott
END:VALARM
END:VEVENT
BEGIN:VEVENT
UID:ccjba-74360136-20260507T180000@quickscores.com
DTSTAMP:20260421T200000Z
DTSTART;TZID=America/Los_Angeles:20260507T180000
DURATION:PT1H0M0S
SUMMARY:Tualatin Foiles vs. Oregon City Glynn
DESCRIPTION:#17 Junior Federal - Clackamas County Junior Baseball
LOCATION:TBD
CATEGORIES:QuickScores, Baseball Game
TRANSP:OPAQUE
BEGIN:VALARM
TRIGGER:-PT2H
ACTION:DISPLAY
DESCRIPTION:Tualatin Foiles vs. Oregon City Glynn
END:VALARM
END:VEVENT
BEGIN:VEVENT
UID:ccjba-74360144-20260514T180000@quickscores.com
DTSTAMP:20260421T200000Z
DTSTART;TZID=America/Los_Angeles:20260514T180000
DURATION:PT1H0M0S
SUMMARY:Canby Rash vs. Oregon City Glynn
DESCRIPTION:#17 Junior Federal - Clackamas County Junior Baseball
LOCATION:TBD
CATEGORIES:QuickScores, Baseball Game
TRANSP:OPAQUE
BEGIN:VALARM
TRIGGER:-PT2H
ACTION:DISPLAY
DESCRIPTION:Canby Rash vs. Oregon City Glynn
END:VALARM
END:VEVENT
BEGIN:VEVENT
UID:ccjba-74360148-20260519T180000@quickscores.com
DTSTAMP:20260421T200000Z
DTSTART;TZID=America/Los_Angeles:20260519T180000
DURATION:PT1H0M0S
SUMMARY:Nelson Coburn vs. Oregon City Glynn
DESCRIPTION:#17 Junior Federal - Clackamas County Junior Baseball
LOCATION:TBD
CATEGORIES:QuickScores, Baseball Game
TRANSP:OPAQUE
BEGIN:VALARM
TRIGGER:-PT2H
ACTION:DISPLAY
DESCRIPTION:Nelson Coburn vs. Oregon City Glynn
END:VALARM
END:VEVENT
BEGIN:VEVENT
UID:ccjba-74360152-20260521T180000@quickscores.com
DTSTAMP:20260421T200000Z
DTSTART;TZID=America/Los_Angeles:20260521T180000
DURATION:PT1H0M0S
SUMMARY:West Linn Mitchell vs. Oregon City Glynn
DESCRIPTION:#17 Junior Federal - Clackamas County Junior Baseball
LOCATION:TBD
CATEGORIES:QuickScores, Baseball Game
TRANSP:OPAQUE
BEGIN:VALARM
TRIGGER:-PT2H
ACTION:DISPLAY
DESCRIPTION:West Linn Mitchell vs. Oregon City Glynn
END:VALARM
END:VEVENT
BEGIN:VEVENT
UID:ccjba-74360159-20260528T180000@quickscores.com
DTSTAMP:20260421T200000Z
DTSTART;TZID=America/Los_Angeles:20260528T180000
DURATION:PT1H0M0S
SUMMARY:Clackamas Elliott vs. Oregon City Glynn
DESCRIPTION:#17 Junior Federal - Clackamas County Junior Baseball
LOCATION:TBD
CATEGORIES:QuickScores, Baseball Game
TRANSP:OPAQUE
BEGIN:VALARM
TRIGGER:-PT2H
ACTION:DISPLAY
DESCRIPTION:Clackamas Elliott vs. Oregon City Glynn
END:VALARM
END:VEVENT
BEGIN:VEVENT
UID:ccjba-74360164-20260602T180000@quickscores.com
DTSTAMP:20260421T200000Z
DTSTART;TZID=America/Los_Angeles:20260602T180000
DURATION:PT1H0M0S
SUMMARY:Oregon City Glynn vs. West Linn Mitchell
DESCRIPTION:#17 Junior Federal - Clackamas County Junior Baseball
LOCATION:TBD
CATEGORIES:QuickScores, Baseball Game
TRANSP:OPAQUE
BEGIN:VALARM
TRIGGER:-PT2H
ACTION:DISPLAY
DESCRIPTION:Oregon City Glynn vs. West Linn Mitchell
END:VALARM
END:VEVENT
BEGIN:VEVENT
UID:ccjba-74360174-20260609T180000@quickscores.com
DTSTAMP:20260421T200000Z
DTSTART;TZID=America/Los_Angeles:20260609T180000
DURATION:PT1H0M0S
SUMMARY:Oregon City Glynn vs. Canby Rash
DESCRIPTION:#17 Junior Federal - Clackamas County Junior Baseball
LOCATION:TBD
CATEGORIES:QuickScores, Baseball Game
TRANSP:OPAQUE
BEGIN:VALARM
TRIGGER:-PT2H
ACTION:DISPLAY
DESCRIPTION:Oregon City Glynn vs. Canby Rash
END:VALARM
END:VEVENT
BEGIN:VEVENT
UID:ccjba-74360175-20260611T180000@quickscores.com
DTSTAMP:20260421T200000Z
DTSTART;TZID=America/Los_Angeles:20260611T180000
DURATION:PT1H0M0S
SUMMARY:Oregon City Glynn vs. Nelson Coburn
DESCRIPTION:#17 Junior Federal - Clackamas County Junior Baseball
LOCATION:TBD
CATEGORIES:QuickScores, Baseball Game
TRANSP:OPAQUE
BEGIN:VALARM
TRIGGER:-PT2H
ACTION:DISPLAY
DESCRIPTION:Oregon City Glynn vs. Nelson Coburn
END:VALARM
END:VEVENT
BEGIN:VEVENT
UID:ccjba-74360182-20260616T180000@quickscores.com
DTSTAMP:20260421T200000Z
DTSTART;TZID=America/Los_Angeles:20260616T180000
DURATION:PT1H0M0S
SUMMARY:Oregon City Glynn vs. Tualatin Foiles
DESCRIPTION:#17 Junior Federal - Clackamas County Junior Baseball
LOCATION:TBD
CATEGORIES:QuickScores, Baseball Game
TRANSP:OPAQUE
BEGIN:VALARM
TRIGGER:-PT2H
ACTION:DISPLAY
DESCRIPTION:Oregon City Glynn vs. Tualatin Foiles
END:VALARM
END:VEVENT
BEGIN:VEVENT
UID:ccjba-74360189-20260623T180000@quickscores.com
DTSTAMP:20260421T200000Z
DTSTART;TZID=America/Los_Angeles:20260623T180000
DURATION:PT1H0M0S
SUMMARY:Oregon City Glynn vs. Clackamas Elliott
DESCRIPTION:#17 Junior Federal - Clackamas County Junior Baseball
LOCATION:TBD
CATEGORIES:QuickScores, Baseball Game
TRANSP:OPAQUE
BEGIN:VALARM
TRIGGER:-PT2H
ACTION:DISPLAY
DESCRIPTION:Oregon City Glynn vs. Clackamas Elliott
END:VALARM
END:VEVENT
BEGIN:VEVENT
UID:ccjba-74360193-20260625T180000@quickscores.com
DTSTAMP:20260421T200000Z
DTSTART;TZID=America/Los_Angeles:20260625T180000
DURATION:PT1H0M0S
SUMMARY:Oregon City Glynn vs. Tualatin Foiles
DESCRIPTION:#17 Junior Federal - Clackamas County Junior Baseball
LOCATION:TBD
CATEGORIES:QuickScores, Baseball Game
TRANSP:OPAQUE
BEGIN:VALARM
TRIGGER:-PT2H
ACTION:DISPLAY
DESCRIPTION:Oregon City Glynn vs. Tualatin Foiles
END:VALARM
END:VEVENT
BEGIN:VEVENT
UID:ccjba-74360196-20260630T180000@quickscores.com
DTSTAMP:20260421T200000Z
DTSTART;TZID=America/Los_Angeles:20260630T180000
DURATION:PT1H0M0S
SUMMARY:Canby Rash vs. Oregon City Glynn
DESCRIPTION:#17 Junior Federal - Clackamas County Junior Baseball
LOCATION:TBD
CATEGORIES:QuickScores, Baseball Game
TRANSP:OPAQUE
BEGIN:VALARM
TRIGGER:-PT2H
ACTION:DISPLAY
DESCRIPTION:Canby Rash vs. Oregon City Glynn
END:VALARM
END:VEVENT
BEGIN:VEVENT
UID:ccjba-74360199-20260702T180000@quickscores.com
DTSTAMP:20260421T200000Z
DTSTART;TZID=America/Los_Angeles:20260702T180000
DURATION:PT1H0M0S
SUMMARY:Nelson Coburn vs. Oregon City Glynn
DESCRIPTION:#17 Junior Federal - Clackamas County Junior Baseball
LOCATION:TBD
CATEGORIES:QuickScores, Baseball Game
TRANSP:OPAQUE
BEGIN:VALARM
TRIGGER:-PT2H
ACTION:DISPLAY
DESCRIPTION:Nelson Coburn vs. Oregon City Glynn
END:VALARM
END:VEVENT
END:VCALENDAR
