BEGIN:VCALENDAR
VERSION:2.0
PRODID:-//QuickScores.com//BQ Dynamic iCal Creator//EN
METHOD:PUBLISH
X-WR-CALNAME:Country Christian Meisch - #21 Senior National - Spring 2026
X-WR-CALDESC:QuickScores game calendar
X-PUBLISHED-TTL:PT24H
REFRESH-INTERVAL;VALUE=DURATION:PT24H
CALSCALE:GREGORIAN
BEGIN:VTIMEZONE
TZID:America/Los_Angeles
X-LIC-LOCATION:America/Los_Angeles
BEGIN:DAYLIGHT
TZNAME:PDT
TZOFFSETFROM:-0800
TZOFFSETTO:-0700
DTSTART:19700308T020000
RRULE:FREQ=YEARLY;BYMONTH=3;BYDAY=2SU
END:DAYLIGHT
BEGIN:STANDARD
TZNAME:PST
TZOFFSETFROM:-0700
TZOFFSETTO:-0800
DTSTART:19701101T020000
RRULE:FREQ=YEARLY;BYMONTH=11;BYDAY=1SU
END:STANDARD
END:VTIMEZONE
BEGIN:VEVENT
UID:ccjba-74347618-20260421T180000@quickscores.com
DTSTAMP:20260422T030600Z
DTSTART;TZID=America/Los_Angeles:20260421T180000
DURATION:PT1H0M0S
SUMMARY:Country Christian Meisch vs. Clackamas Ositis
DESCRIPTION:#21 Senior National - Clackamas County Junior Baseball
LOCATION:TBD
CATEGORIES:QuickScores, Baseball Game
TRANSP:OPAQUE
BEGIN:VALARM
TRIGGER:-PT2H
ACTION:DISPLAY
DESCRIPTION:Country Christian Meisch vs. Clackamas Ositis
END:VALARM
END:VEVENT
BEGIN:VEVENT
UID:ccjba-74347628-20260428T180000@quickscores.com
DTSTAMP:20260422T030600Z
DTSTART;TZID=America/Los_Angeles:20260428T180000
DURATION:PT1H0M0S
SUMMARY:Woodburn Goode* vs. Country Christian Meisch
DESCRIPTION:#21 Senior National - Clackamas County Junior Baseball
LOCATION:TBD
CATEGORIES:QuickScores, Baseball Game
TRANSP:OPAQUE
BEGIN:VALARM
TRIGGER:-PT2H
ACTION:DISPLAY
DESCRIPTION:Woodburn Goode* vs. Country Christian Meisch
END:VALARM
END:VEVENT
BEGIN:VEVENT
UID:ccjba-74347631-20260430T180000@quickscores.com
DTSTAMP:20260422T030600Z
DTSTART;TZID=America/Los_Angeles:20260430T180000
DURATION:PT1H0M0S
SUMMARY:Country Christian Meisch vs. Tualatin Hornaday
DESCRIPTION:#21 Senior National - Clackamas County Junior Baseball
LOCATION:TBD
CATEGORIES:QuickScores, Baseball Game
TRANSP:OPAQUE
BEGIN:VALARM
TRIGGER:-PT2H
ACTION:DISPLAY
DESCRIPTION:Country Christian Meisch vs. Tualatin Hornaday
END:VALARM
END:VEVENT
BEGIN:VEVENT
UID:ccjba-74347635-20260505T180000@quickscores.com
DTSTAMP:20260422T030600Z
DTSTART;TZID=America/Los_Angeles:20260505T180000
DURATION:PT1H0M0S
SUMMARY:Country Christian Meisch vs. McNary Kuckkahn
DESCRIPTION:#21 Senior National - Clackamas County Junior Baseball
LOCATION:TBD
CATEGORIES:QuickScores, Baseball Game
TRANSP:OPAQUE
BEGIN:VALARM
TRIGGER:-PT2H
ACTION:DISPLAY
DESCRIPTION:Country Christian Meisch vs. McNary Kuckkahn
END:VALARM
END:VEVENT
BEGIN:VEVENT
UID:ccjba-74347638-20260507T180000@quickscores.com
DTSTAMP:20260422T030600Z
DTSTART;TZID=America/Los_Angeles:20260507T180000
DURATION:PT1H0M0S
SUMMARY:Clackamas Ositis vs. Country Christian Meisch
DESCRIPTION:#21 Senior National - Clackamas County Junior Baseball
LOCATION:TBD
CATEGORIES:QuickScores, Baseball Game
TRANSP:OPAQUE
BEGIN:VALARM
TRIGGER:-PT2H
ACTION:DISPLAY
DESCRIPTION:Clackamas Ositis vs. Country Christian Meisch
END:VALARM
END:VEVENT
BEGIN:VEVENT
UID:ccjba-74347641-20260512T180000@quickscores.com
DTSTAMP:20260422T030600Z
DTSTART;TZID=America/Los_Angeles:20260512T180000
DURATION:PT1H0M0S
SUMMARY:Gladstone Smail vs. Country Christian Meisch
DESCRIPTION:#21 Senior National - Clackamas County Junior Baseball
LOCATION:TBD
CATEGORIES:QuickScores, Baseball Game
TRANSP:OPAQUE
BEGIN:VALARM
TRIGGER:-PT2H
ACTION:DISPLAY
DESCRIPTION:Gladstone Smail vs. Country Christian Meisch
END:VALARM
END:VEVENT
BEGIN:VEVENT
UID:ccjba-74347647-20260514T180000@quickscores.com
DTSTAMP:20260422T030600Z
DTSTART;TZID=America/Los_Angeles:20260514T180000
DURATION:PT1H0M0S
SUMMARY:Country Christian Meisch vs. Oregon City Hull
DESCRIPTION:#21 Senior National - Clackamas County Junior Baseball
LOCATION:TBD
CATEGORIES:QuickScores, Baseball Game
TRANSP:OPAQUE
BEGIN:VALARM
TRIGGER:-PT2H
ACTION:DISPLAY
DESCRIPTION:Country Christian Meisch vs. Oregon City Hull
END:VALARM
END:VEVENT
BEGIN:VEVENT
UID:ccjba-74347656-20260521T180000@quickscores.com
DTSTAMP:20260422T030600Z
DTSTART;TZID=America/Los_Angeles:20260521T180000
DURATION:PT1H0M0S
SUMMARY:Country Christian Meisch vs. Woodburn Goode*
DESCRIPTION:#21 Senior National - Clackamas County Junior Baseball
LOCATION:TBD
CATEGORIES:QuickScores, Baseball Game
TRANSP:OPAQUE
BEGIN:VALARM
TRIGGER:-PT2H
ACTION:DISPLAY
DESCRIPTION:Country Christian Meisch vs. Woodburn Goode*
END:VALARM
END:VEVENT
BEGIN:VEVENT
UID:ccjba-74347659-20260526T180000@quickscores.com
DTSTAMP:20260422T030600Z
DTSTART;TZID=America/Los_Angeles:20260526T180000
DURATION:PT1H0M0S
SUMMARY:Tualatin Hornaday vs. Country Christian Meisch
DESCRIPTION:#21 Senior National - Clackamas County Junior Baseball
LOCATION:TBD
CATEGORIES:QuickScores, Baseball Game
TRANSP:OPAQUE
BEGIN:VALARM
TRIGGER:-PT2H
ACTION:DISPLAY
DESCRIPTION:Tualatin Hornaday vs. Country Christian Meisch
END:VALARM
END:VEVENT
BEGIN:VEVENT
UID:ccjba-74347666-20260602T180000@quickscores.com
DTSTAMP:20260422T030600Z
DTSTART;TZID=America/Los_Angeles:20260602T180000
DURATION:PT1H0M0S
SUMMARY:Country Christian Meisch vs. Clackamas Ositis
DESCRIPTION:#21 Senior National - Clackamas County Junior Baseball
LOCATION:TBD
CATEGORIES:QuickScores, Baseball Game
TRANSP:OPAQUE
BEGIN:VALARM
TRIGGER:-PT2H
ACTION:DISPLAY
DESCRIPTION:Country Christian Meisch vs. Clackamas Ositis
END:VALARM
END:VEVENT
BEGIN:VEVENT
UID:ccjba-74347669-20260604T180000@quickscores.com
DTSTAMP:20260422T030600Z
DTSTART;TZID=America/Los_Angeles:20260604T180000
DURATION:PT1H0M0S
SUMMARY:Country Christian Meisch vs. Gladstone Smail
DESCRIPTION:#21 Senior National - Clackamas County Junior Baseball
LOCATION:TBD
CATEGORIES:QuickScores, Baseball Game
TRANSP:OPAQUE
BEGIN:VALARM
TRIGGER:-PT2H
ACTION:DISPLAY
DESCRIPTION:Country Christian Meisch vs. Gladstone Smail
END:VALARM
END:VEVENT
BEGIN:VEVENT
UID:ccjba-74347676-20260609T180000@quickscores.com
DTSTAMP:20260422T030600Z
DTSTART;TZID=America/Los_Angeles:20260609T180000
DURATION:PT1H0M0S
SUMMARY:Oregon City Hull vs. Country Christian Meisch
DESCRIPTION:#21 Senior National - Clackamas County Junior Baseball
LOCATION:TBD
CATEGORIES:QuickScores, Baseball Game
TRANSP:OPAQUE
BEGIN:VALARM
TRIGGER:-PT2H
ACTION:DISPLAY
DESCRIPTION:Oregon City Hull vs. Country Christian Meisch
END:VALARM
END:VEVENT
BEGIN:VEVENT
UID:ccjba-74347680-20260611T180000@quickscores.com
DTSTAMP:20260422T030600Z
DTSTART;TZID=America/Los_Angeles:20260611T180000
DURATION:PT1H0M0S
SUMMARY:McNary Kuckkahn vs. Country Christian Meisch
DESCRIPTION:#21 Senior National - Clackamas County Junior Baseball
LOCATION:TBD
CATEGORIES:QuickScores, Baseball Game
TRANSP:OPAQUE
BEGIN:VALARM
TRIGGER:-PT2H
ACTION:DISPLAY
DESCRIPTION:McNary Kuckkahn vs. Country Christian Meisch
END:VALARM
END:VEVENT
BEGIN:VEVENT
UID:ccjba-74347683-20260616T180000@quickscores.com
DTSTAMP:20260422T030600Z
DTSTART;TZID=America/Los_Angeles:20260616T180000
DURATION:PT1H0M0S
SUMMARY:Woodburn Goode* vs. Country Christian Meisch
DESCRIPTION:#21 Senior National - Clackamas County Junior Baseball
LOCATION:TBD
CATEGORIES:QuickScores, Baseball Game
TRANSP:OPAQUE
BEGIN:VALARM
TRIGGER:-PT2H
ACTION:DISPLAY
DESCRIPTION:Woodburn Goode* vs. Country Christian Meisch
END:VALARM
END:VEVENT
BEGIN:VEVENT
UID:ccjba-74347687-20260618T180000@quickscores.com
DTSTAMP:20260422T030600Z
DTSTART;TZID=America/Los_Angeles:20260618T180000
DURATION:PT1H0M0S
SUMMARY:McNary Kuckkahn vs. Country Christian Meisch
DESCRIPTION:#21 Senior National - Clackamas County Junior Baseball
LOCATION:TBD
CATEGORIES:QuickScores, Baseball Game
TRANSP:OPAQUE
BEGIN:VALARM
TRIGGER:-PT2H
ACTION:DISPLAY
DESCRIPTION:McNary Kuckkahn vs. Country Christian Meisch
END:VALARM
END:VEVENT
BEGIN:VEVENT
UID:ccjba-74347692-20260623T180000@quickscores.com
DTSTAMP:20260422T030600Z
DTSTART;TZID=America/Los_Angeles:20260623T180000
DURATION:PT1H0M0S
SUMMARY:Oregon City Hull vs. Country Christian Meisch
DESCRIPTION:#21 Senior National - Clackamas County Junior Baseball
LOCATION:TBD
CATEGORIES:QuickScores, Baseball Game
TRANSP:OPAQUE
BEGIN:VALARM
TRIGGER:-PT2H
ACTION:DISPLAY
DESCRIPTION:Oregon City Hull vs. Country Christian Meisch
END:VALARM
END:VEVENT
BEGIN:VEVENT
UID:ccjba-74347693-20260625T180000@quickscores.com
DTSTAMP:20260422T030600Z
DTSTART;TZID=America/Los_Angeles:20260625T180000
DURATION:PT1H0M0S
SUMMARY:Country Christian Meisch vs. Gladstone Smail
DESCRIPTION:#21 Senior National - Clackamas County Junior Baseball
LOCATION:TBD
CATEGORIES:QuickScores, Baseball Game
TRANSP:OPAQUE
BEGIN:VALARM
TRIGGER:-PT2H
ACTION:DISPLAY
DESCRIPTION:Country Christian Meisch vs. Gladstone Smail
END:VALARM
END:VEVENT
BEGIN:VEVENT
UID:ccjba-74463751-20260705T180000@quickscores.com
DTSTAMP:20260422T030600Z
DTSTART;TZID=America/Los_Angeles:20260705T180000
DURATION:PT1H0M0S
SUMMARY:Tualatin Hornaday vs. Country Christian Meisch
DESCRIPTION:TBD Game - Needs to be scheduled --- #21 Senior National - Clackamas County Junior Baseball
LOCATION:TBD
CATEGORIES:QuickScores, Baseball Game
TRANSP:OPAQUE
BEGIN:VALARM
TRIGGER:-PT2H
ACTION:DISPLAY
DESCRIPTION:Tualatin Hornaday vs. Country Christian Meisch
END:VALARM
END:VEVENT
END:VCALENDAR
