BEGIN:VCALENDAR
VERSION:2.0
PRODID:-//QuickScores.com//BQ Dynamic iCal Creator//EN
METHOD:PUBLISH
X-WR-CALNAME:Baylor Heart Hospital - B Division - 2025 Corporate Challenge
X-WR-CALDESC:QuickScores game calendar
X-PUBLISHED-TTL:PT24H
REFRESH-INTERVAL;VALUE=DURATION:PT24H
CALSCALE:GREGORIAN
BEGIN:VTIMEZONE
TZID:America/Chicago
X-LIC-LOCATION:America/Chicago
BEGIN:DAYLIGHT
TZNAME:CDT
TZOFFSETFROM:-0600
TZOFFSETTO:-0500
DTSTART:19700308T020000
RRULE:FREQ=YEARLY;BYMONTH=3;BYDAY=2SU
END:DAYLIGHT
BEGIN:STANDARD
TZNAME:CST
TZOFFSETFROM:-0500
TZOFFSETTO:-0600
DTSTART:19701101T020000
RRULE:FREQ=YEARLY;BYMONTH=11;BYDAY=1SU
END:STANDARD
END:VTIMEZONE
BEGIN:VEVENT
UID:cc2-69912585-20250902T193500@quickscores.com
DTSTAMP:20260419T104200Z
DTSTART;TZID=America/Chicago:20250902T193500
DURATION:PT1H5M0S
SUMMARY:Baylor Heart Hospital vs. Globe Life
DESCRIPTION:B Division - City of Richardson Corporate Challenge<br>Sponsored by State Farm
LOCATION:Carpenter Park Field B
CATEGORIES:QuickScores, Soccer Game
TRANSP:OPAQUE
BEGIN:VALARM
TRIGGER:-PT2H
ACTION:DISPLAY
DESCRIPTION:Baylor Heart Hospital vs. Globe Life
END:VALARM
END:VEVENT
BEGIN:VEVENT
UID:cc2-69912591-20250904T193500@quickscores.com
DTSTAMP:20260419T104200Z
DTSTART;TZID=America/Chicago:20250904T193500
DURATION:PT1H5M0S
SUMMARY:7-Eleven vs. Baylor Heart Hospital
DESCRIPTION:B Division - City of Richardson Corporate Challenge<br>Sponsored by State Farm
LOCATION:Carpenter Park Field A
CATEGORIES:QuickScores, Soccer Game
TRANSP:OPAQUE
BEGIN:VALARM
TRIGGER:-PT2H
ACTION:DISPLAY
DESCRIPTION:7-Eleven vs. Baylor Heart Hospital
END:VALARM
END:VEVENT
BEGIN:VEVENT
UID:cc2-69814861-20250911T192000@quickscores.com
DTSTAMP:20260419T104200Z
DTSTART;TZID=America/Chicago:20250911T192000
DURATION:PT1H0M0S
SUMMARY:[C1] LJA Engineering vs. [A2] Baylor Heart Hospital
DESCRIPTION:B Division - City of Richardson Corporate Challenge<br>Sponsored by State Farm
LOCATION:Carpenter Park Field D
CATEGORIES:QuickScores, Soccer Game
TRANSP:OPAQUE
BEGIN:VALARM
TRIGGER:-PT2H
ACTION:DISPLAY
DESCRIPTION:[C1] LJA Engineering vs. [A2] Baylor Heart Hospital
END:VALARM
END:VEVENT
BEGIN:VEVENT
UID:cc2-69814863-20250911T213000@quickscores.com
DTSTAMP:20260419T104200Z
DTSTART;TZID=America/Chicago:20250911T213000
DURATION:PT1H0M0S
SUMMARY:[B1] Cisco vs. [A2] Baylor Heart Hospital
DESCRIPTION:B Division - City of Richardson Corporate Challenge<br>Sponsored by State Farm
LOCATION:Carpenter Park Field D
CATEGORIES:QuickScores, Soccer Game
TRANSP:OPAQUE
BEGIN:VALARM
TRIGGER:-PT2H
ACTION:DISPLAY
DESCRIPTION:[B1] Cisco vs. [A2] Baylor Heart Hospital
END:VALARM
END:VEVENT
BEGIN:VEVENT
UID:cc2-69814866-20250912T202500@quickscores.com
DTSTAMP:20260419T104200Z
DTSTART;TZID=America/Chicago:20250912T202500
DURATION:PT1H0M0S
SUMMARY:[C2] Texas Capital Bank vs. [A2] Baylor Heart Hospital
DESCRIPTION:B Division - City of Richardson Corporate Challenge<br>Sponsored by State Farm
LOCATION:Carpenter Park Field A
CATEGORIES:QuickScores, Soccer Game
TRANSP:OPAQUE
BEGIN:VALARM
TRIGGER:-PT2H
ACTION:DISPLAY
DESCRIPTION:[C2] Texas Capital Bank vs. [A2] Baylor Heart Hospital
END:VALARM
END:VEVENT
END:VCALENDAR
