BEGIN:VCALENDAR
VERSION:2.0
PRODID:-//QuickScores.com//BQ Dynamic iCal Creator//EN
METHOD:PUBLISH
X-WR-CALNAME:State Farm - 2025 Summer Basketball League - Summer 2025
X-WR-CALDESC:QuickScores game calendar
X-PUBLISHED-TTL:PT24H
REFRESH-INTERVAL;VALUE=DURATION:PT24H
CALSCALE:GREGORIAN
BEGIN:VTIMEZONE
TZID:America/Chicago
X-LIC-LOCATION:America/Chicago
BEGIN:DAYLIGHT
TZNAME:CDT
TZOFFSETFROM:-0600
TZOFFSETTO:-0500
DTSTART:19700308T020000
RRULE:FREQ=YEARLY;BYMONTH=3;BYDAY=2SU
END:DAYLIGHT
BEGIN:STANDARD
TZNAME:CST
TZOFFSETFROM:-0500
TZOFFSETTO:-0600
DTSTART:19701101T020000
RRULE:FREQ=YEARLY;BYMONTH=11;BYDAY=1SU
END:STANDARD
END:VTIMEZONE
BEGIN:VEVENT
UID:cc2-69283228-20250605T183000@quickscores.com
DTSTAMP:20260419T233900Z
DTSTART;TZID=America/Chicago:20250605T183000
DURATION:PT1H0M0S
SUMMARY:State Farm vs. GEICO
DESCRIPTION:2025 Summer Basketball League - City of Richardson Corporate Challenge<br>Sponsored by State Farm
LOCATION:Huffhines Rec Center
CATEGORIES:QuickScores, Basketball Game
TRANSP:OPAQUE
BEGIN:VALARM
TRIGGER:-PT2H
ACTION:DISPLAY
DESCRIPTION:State Farm vs. GEICO
END:VALARM
END:VEVENT
BEGIN:VEVENT
UID:cc2-69283231-20250612T193000@quickscores.com
DTSTAMP:20260419T233900Z
DTSTART;TZID=America/Chicago:20250612T193000
DURATION:PT1H0M0S
SUMMARY:State Farm vs. LJA Engineering
DESCRIPTION:2025 Summer Basketball League - City of Richardson Corporate Challenge<br>Sponsored by State Farm
LOCATION:Huffhines Rec Center
CATEGORIES:QuickScores, Basketball Game
TRANSP:OPAQUE
BEGIN:VALARM
TRIGGER:-PT2H
ACTION:DISPLAY
DESCRIPTION:State Farm vs. LJA Engineering
END:VALARM
END:VEVENT
BEGIN:VEVENT
UID:cc2-69283234-20250619T203000@quickscores.com
DTSTAMP:20260419T233900Z
DTSTART;TZID=America/Chicago:20250619T203000
DURATION:PT1H0M0S
SUMMARY:State Farm vs. ISN Swishers
DESCRIPTION:2025 Summer Basketball League - City of Richardson Corporate Challenge<br>Sponsored by State Farm
LOCATION:Huffhines Rec Center
CATEGORIES:QuickScores, Basketball Game
TRANSP:OPAQUE
BEGIN:VALARM
TRIGGER:-PT2H
ACTION:DISPLAY
DESCRIPTION:State Farm vs. ISN Swishers
END:VALARM
END:VEVENT
BEGIN:VEVENT
UID:cc2-69283240-20250626T193000@quickscores.com
DTSTAMP:20260419T233900Z
DTSTART;TZID=America/Chicago:20250626T193000
DURATION:PT1H0M0S
SUMMARY:State Farm vs. KPMG
DESCRIPTION:2025 Summer Basketball League - City of Richardson Corporate Challenge<br>Sponsored by State Farm
LOCATION:Huffhines Rec Center
CATEGORIES:QuickScores, Basketball Game
TRANSP:OPAQUE
BEGIN:VALARM
TRIGGER:-PT2H
ACTION:DISPLAY
DESCRIPTION:State Farm vs. KPMG
END:VALARM
END:VEVENT
BEGIN:VEVENT
UID:cc2-69283243-20250710T183000@quickscores.com
DTSTAMP:20260419T233900Z
DTSTART;TZID=America/Chicago:20250710T183000
DURATION:PT1H0M0S
SUMMARY:GEICO vs. State Farm
DESCRIPTION:2025 Summer Basketball League - City of Richardson Corporate Challenge<br>Sponsored by State Farm
LOCATION:Huffhines Rec Center
CATEGORIES:QuickScores, Basketball Game
TRANSP:OPAQUE
BEGIN:VALARM
TRIGGER:-PT2H
ACTION:DISPLAY
DESCRIPTION:GEICO vs. State Farm
END:VALARM
END:VEVENT
BEGIN:VEVENT
UID:cc2-69283246-20250717T203000@quickscores.com
DTSTAMP:20260419T233900Z
DTSTART;TZID=America/Chicago:20250717T203000
DURATION:PT1H0M0S
SUMMARY:LJA Engineering vs. State Farm
DESCRIPTION:2025 Summer Basketball League - City of Richardson Corporate Challenge<br>Sponsored by State Farm
LOCATION:Huffhines Rec Center
CATEGORIES:QuickScores, Basketball Game
TRANSP:OPAQUE
BEGIN:VALARM
TRIGGER:-PT2H
ACTION:DISPLAY
DESCRIPTION:LJA Engineering vs. State Farm
END:VALARM
END:VEVENT
BEGIN:VEVENT
UID:cc2-69283249-20250724T183000@quickscores.com
DTSTAMP:20260419T233900Z
DTSTART;TZID=America/Chicago:20250724T183000
DURATION:PT1H0M0S
SUMMARY:ISN Swishers vs. State Farm
DESCRIPTION:2025 Summer Basketball League - City of Richardson Corporate Challenge<br>Sponsored by State Farm
LOCATION:Huffhines Rec Center
CATEGORIES:QuickScores, Basketball Game
TRANSP:OPAQUE
BEGIN:VALARM
TRIGGER:-PT2H
ACTION:DISPLAY
DESCRIPTION:ISN Swishers vs. State Farm
END:VALARM
END:VEVENT
BEGIN:VEVENT
UID:cc2-69283237-20250731T193000@quickscores.com
DTSTAMP:20260419T233900Z
DTSTART;TZID=America/Chicago:20250731T193000
DURATION:PT1H0M0S
SUMMARY:Always Open vs. State Farm
DESCRIPTION:2025 Summer Basketball League - City of Richardson Corporate Challenge<br>Sponsored by State Farm
LOCATION:Huffhines Rec Center
CATEGORIES:QuickScores, Basketball Game
TRANSP:OPAQUE
BEGIN:VALARM
TRIGGER:-PT2H
ACTION:DISPLAY
DESCRIPTION:Always Open vs. State Farm
END:VALARM
END:VEVENT
BEGIN:VEVENT
UID:cc2-70033672-20250807T183000@quickscores.com
DTSTAMP:20260419T233900Z
DTSTART;TZID=America/Chicago:20250807T183000
DURATION:PT1H0M0S
SUMMARY:State Farm vs. Always Open
DESCRIPTION:2025 Summer Basketball League - City of Richardson Corporate Challenge<br>Sponsored by State Farm
LOCATION:Huffhines Rec Center
CATEGORIES:QuickScores, Basketball Game
TRANSP:OPAQUE
BEGIN:VALARM
TRIGGER:-PT2H
ACTION:DISPLAY
DESCRIPTION:State Farm vs. Always Open
END:VALARM
END:VEVENT
END:VCALENDAR
