BEGIN:VCALENDAR
VERSION:2.0
PRODID:-//QuickScores.com//BQ Dynamic iCal Creator//EN
METHOD:PUBLISH
X-WR-CALNAME:Slug &#039;N&#039; Chug - Coed Softball 2025 - Summer 2025
X-WR-CALDESC:QuickScores game calendar
X-PUBLISHED-TTL:PT24H
REFRESH-INTERVAL;VALUE=DURATION:PT24H
CALSCALE:GREGORIAN
BEGIN:VTIMEZONE
TZID:America/Denver
X-LIC-LOCATION:America/Denver
BEGIN:DAYLIGHT
TZNAME:MDT
TZOFFSETFROM:-0700
TZOFFSETTO:-0600
DTSTART:19700308T020000
RRULE:FREQ=YEARLY;BYMONTH=3;BYDAY=2SU
END:DAYLIGHT
BEGIN:STANDARD
TZNAME:MST
TZOFFSETFROM:-0600
TZOFFSETTO:-0700
DTSTART:19701101T020000
RRULE:FREQ=YEARLY;BYMONTH=11;BYDAY=1SU
END:STANDARD
END:VTIMEZONE
BEGIN:VEVENT
UID:carbondalerec-69040660-20250609T203000@quickscores.com
DTSTAMP:20260421T192400Z
DTSTART;TZID=America/Denver:20250609T203000
DURATION:PT1H0M0S
SUMMARY:Slug 'N' Chug vs. Bonedale Bombers
DESCRIPTION:Coed Softball 2025 - Carbondale Parks and Recreation
LOCATION:North Face Field
CATEGORIES:QuickScores, Softball - Adult Game
TRANSP:OPAQUE
BEGIN:VALARM
TRIGGER:-PT2H
ACTION:DISPLAY
DESCRIPTION:Slug 'N' Chug vs. Bonedale Bombers
END:VALARM
END:VEVENT
BEGIN:VEVENT
UID:carbondalerec-69040668-20250616T193000@quickscores.com
DTSTAMP:20260421T192400Z
DTSTART;TZID=America/Denver:20250616T193000
DURATION:PT1H0M0S
SUMMARY:Slug 'N' Chug vs. Jaywalker Lodge
DESCRIPTION:Coed Softball 2025 - Carbondale Parks and Recreation
LOCATION:North Face Field
CATEGORIES:QuickScores, Softball - Adult Game
TRANSP:OPAQUE
BEGIN:VALARM
TRIGGER:-PT2H
ACTION:DISPLAY
DESCRIPTION:Slug 'N' Chug vs. Jaywalker Lodge
END:VALARM
END:VEVENT
BEGIN:VEVENT
UID:carbondalerec-69040673-20250623T193000@quickscores.com
DTSTAMP:20260421T192400Z
DTSTART;TZID=America/Denver:20250623T193000
DURATION:PT1H0M0S
SUMMARY:The Romero Group vs. Slug 'N' Chug
DESCRIPTION:Coed Softball 2025 - Carbondale Parks and Recreation
LOCATION:North Face Field
CATEGORIES:QuickScores, Softball - Adult Game
TRANSP:OPAQUE
BEGIN:VALARM
TRIGGER:-PT2H
ACTION:DISPLAY
DESCRIPTION:The Romero Group vs. Slug 'N' Chug
END:VALARM
END:VEVENT
BEGIN:VEVENT
UID:carbondalerec-69040690-20250630T193000@quickscores.com
DTSTAMP:20260421T192400Z
DTSTART;TZID=America/Denver:20250630T193000
DURATION:PT1H0M0S
SUMMARY:Fresh Trout vs. Slug 'N' Chug
DESCRIPTION:Coed Softball 2025 - Carbondale Parks and Recreation
LOCATION:North Face Field
CATEGORIES:QuickScores, Softball - Adult Game
TRANSP:OPAQUE
BEGIN:VALARM
TRIGGER:-PT2H
ACTION:DISPLAY
DESCRIPTION:Fresh Trout vs. Slug 'N' Chug
END:VALARM
END:VEVENT
BEGIN:VEVENT
UID:carbondalerec-69040684-20250708T183000@quickscores.com
DTSTAMP:20260421T192400Z
DTSTART;TZID=America/Denver:20250708T183000
DURATION:PT1H0M0S
SUMMARY:Bunt Cakes vs. Slug 'N' Chug
DESCRIPTION:Coed Softball 2025 - Carbondale Parks and Recreation
LOCATION:North Face Field
CATEGORIES:QuickScores, Softball - Adult Game
TRANSP:OPAQUE
BEGIN:VALARM
TRIGGER:-PT2H
ACTION:DISPLAY
DESCRIPTION:Bunt Cakes vs. Slug 'N' Chug
END:VALARM
END:VEVENT
BEGIN:VEVENT
UID:carbondalerec-69040680-20250714T203000@quickscores.com
DTSTAMP:20260421T192400Z
DTSTART;TZID=America/Denver:20250714T203000
DURATION:PT1H0M0S
SUMMARY:Slug 'N' Chug vs. KFH
DESCRIPTION:Coed Softball 2025 - Carbondale Parks and Recreation
LOCATION:North Face Field
CATEGORIES:QuickScores, Softball - Adult Game
TRANSP:OPAQUE
BEGIN:VALARM
TRIGGER:-PT2H
ACTION:DISPLAY
DESCRIPTION:Slug 'N' Chug vs. KFH
END:VALARM
END:VEVENT
BEGIN:VEVENT
UID:carbondalerec-69040696-20250721T193000@quickscores.com
DTSTAMP:20260421T192400Z
DTSTART;TZID=America/Denver:20250721T193000
DURATION:PT1H0M0S
SUMMARY:Roaring Fork Club vs. Slug 'N' Chug
DESCRIPTION:Coed Softball 2025 - Carbondale Parks and Recreation
LOCATION:North Face Field
CATEGORIES:QuickScores, Softball - Adult Game
TRANSP:OPAQUE
BEGIN:VALARM
TRIGGER:-PT2H
ACTION:DISPLAY
DESCRIPTION:Roaring Fork Club vs. Slug 'N' Chug
END:VALARM
END:VEVENT
BEGIN:VEVENT
UID:carbondalerec-69040702-20250728T193000@quickscores.com
DTSTAMP:20260421T192400Z
DTSTART;TZID=America/Denver:20250728T193000
DURATION:PT1H0M0S
SUMMARY:Crushers vs. Slug 'N' Chug
DESCRIPTION:Coed Softball 2025 - Carbondale Parks and Recreation
LOCATION:North Face Field
CATEGORIES:QuickScores, Softball - Adult Game
TRANSP:OPAQUE
BEGIN:VALARM
TRIGGER:-PT2H
ACTION:DISPLAY
DESCRIPTION:Crushers vs. Slug 'N' Chug
END:VALARM
END:VEVENT
BEGIN:VEVENT
UID:carbondalerec-69040711-20250805T183000@quickscores.com
DTSTAMP:20260421T192400Z
DTSTART;TZID=America/Denver:20250805T183000
DURATION:PT1H0M0S
SUMMARY:Slug 'N' Chug vs. RVR
DESCRIPTION:Coed Softball 2025 - Carbondale Parks and Recreation
LOCATION:North Face Field
CATEGORIES:QuickScores, Softball - Adult Game
TRANSP:OPAQUE
BEGIN:VALARM
TRIGGER:-PT2H
ACTION:DISPLAY
DESCRIPTION:Slug 'N' Chug vs. RVR
END:VALARM
END:VEVENT
BEGIN:VEVENT
UID:carbondalerec-69040714-20250811T193000@quickscores.com
DTSTAMP:20260421T192400Z
DTSTART;TZID=America/Denver:20250811T193000
DURATION:PT1H0M0S
SUMMARY:Slug 'N' Chug vs. Pancake Batters
DESCRIPTION:Coed Softball 2025 - Carbondale Parks and Recreation
LOCATION:North Face Field
CATEGORIES:QuickScores, Softball - Adult Game
TRANSP:OPAQUE
BEGIN:VALARM
TRIGGER:-PT2H
ACTION:DISPLAY
DESCRIPTION:Slug 'N' Chug vs. Pancake Batters
END:VALARM
END:VEVENT
BEGIN:VEVENT
UID:carbondalerec-69040723-20250819T203000@quickscores.com
DTSTAMP:20260421T192400Z
DTSTART;TZID=America/Denver:20250819T203000
DURATION:PT1H0M0S
SUMMARY:The Jortstops vs. Slug 'N' Chug
DESCRIPTION:Coed Softball 2025 - Carbondale Parks and Recreation
LOCATION:North Face Field
CATEGORIES:QuickScores, Softball - Adult Game
TRANSP:OPAQUE
BEGIN:VALARM
TRIGGER:-PT2H
ACTION:DISPLAY
DESCRIPTION:The Jortstops vs. Slug 'N' Chug
END:VALARM
END:VEVENT
BEGIN:VEVENT
UID:carbondalerec-70281240-20250826T193000@quickscores.com
DTSTAMP:20260421T192400Z
DTSTART;TZID=America/Denver:20250826T193000
DURATION:PT1H0M0S
SUMMARY:[5] Bonedale Bombers vs. [12] Slug 'N' Chug
DESCRIPTION:Coed Softball 2025 - Carbondale Parks and Recreation
LOCATION:North Face Field
CATEGORIES:QuickScores, Softball - Adult Game
TRANSP:OPAQUE
BEGIN:VALARM
TRIGGER:-PT2H
ACTION:DISPLAY
DESCRIPTION:[5] Bonedale Bombers vs. [12] Slug 'N' Chug
END:VALARM
END:VEVENT
END:VCALENDAR
