BEGIN:VCALENDAR
VERSION:2.0
PRODID:-//QuickScores.com//BQ Dynamic iCal Creator//EN
METHOD:PUBLISH
X-WR-CALNAME:The Jortstops - Coed Softball 2025 - Summer 2025
X-WR-CALDESC:QuickScores game calendar
X-PUBLISHED-TTL:PT24H
REFRESH-INTERVAL;VALUE=DURATION:PT24H
CALSCALE:GREGORIAN
BEGIN:VTIMEZONE
TZID:America/Denver
X-LIC-LOCATION:America/Denver
BEGIN:DAYLIGHT
TZNAME:MDT
TZOFFSETFROM:-0700
TZOFFSETTO:-0600
DTSTART:19700308T020000
RRULE:FREQ=YEARLY;BYMONTH=3;BYDAY=2SU
END:DAYLIGHT
BEGIN:STANDARD
TZNAME:MST
TZOFFSETFROM:-0600
TZOFFSETTO:-0700
DTSTART:19701101T020000
RRULE:FREQ=YEARLY;BYMONTH=11;BYDAY=1SU
END:STANDARD
END:VTIMEZONE
BEGIN:VEVENT
UID:carbondalerec-69040663-20250610T203000@quickscores.com
DTSTAMP:20260422T023100Z
DTSTART;TZID=America/Denver:20250610T203000
DURATION:PT1H0M0S
SUMMARY:The Jortstops vs. Jaywalker Lodge
DESCRIPTION:Coed Softball 2025 - Carbondale Parks and Recreation
LOCATION:North Face Field
CATEGORIES:QuickScores, Softball - Adult Game
TRANSP:OPAQUE
BEGIN:VALARM
TRIGGER:-PT2H
ACTION:DISPLAY
DESCRIPTION:The Jortstops vs. Jaywalker Lodge
END:VALARM
END:VEVENT
BEGIN:VEVENT
UID:carbondalerec-69040666-20250616T203000@quickscores.com
DTSTAMP:20260422T023100Z
DTSTART;TZID=America/Denver:20250616T203000
DURATION:PT1H0M0S
SUMMARY:RVR vs. The Jortstops
DESCRIPTION:Coed Softball 2025 - Carbondale Parks and Recreation
LOCATION:North Face Field
CATEGORIES:QuickScores, Softball - Adult Game
TRANSP:OPAQUE
BEGIN:VALARM
TRIGGER:-PT2H
ACTION:DISPLAY
DESCRIPTION:RVR vs. The Jortstops
END:VALARM
END:VEVENT
BEGIN:VEVENT
UID:carbondalerec-69040672-20250623T203000@quickscores.com
DTSTAMP:20260422T023100Z
DTSTART;TZID=America/Denver:20250623T203000
DURATION:PT1H0M0S
SUMMARY:Pancake Batters vs. The Jortstops
DESCRIPTION:Coed Softball 2025 - Carbondale Parks and Recreation
LOCATION:North Face Field
CATEGORIES:QuickScores, Softball - Adult Game
TRANSP:OPAQUE
BEGIN:VALARM
TRIGGER:-PT2H
ACTION:DISPLAY
DESCRIPTION:Pancake Batters vs. The Jortstops
END:VALARM
END:VEVENT
BEGIN:VEVENT
UID:carbondalerec-69040693-20250701T203000@quickscores.com
DTSTAMP:20260422T023100Z
DTSTART;TZID=America/Denver:20250701T203000
DURATION:PT1H0M0S
SUMMARY:The Jortstops vs. Roaring Fork Club
DESCRIPTION:Coed Softball 2025 - Carbondale Parks and Recreation
LOCATION:North Face Field
CATEGORIES:QuickScores, Softball - Adult Game
TRANSP:OPAQUE
BEGIN:VALARM
TRIGGER:-PT2H
ACTION:DISPLAY
DESCRIPTION:The Jortstops vs. Roaring Fork Club
END:VALARM
END:VEVENT
BEGIN:VEVENT
UID:carbondalerec-69040685-20250707T203000@quickscores.com
DTSTAMP:20260422T023100Z
DTSTART;TZID=America/Denver:20250707T203000
DURATION:PT1H0M0S
SUMMARY:Crushers vs. The Jortstops
DESCRIPTION:Coed Softball 2025 - Carbondale Parks and Recreation
LOCATION:North Face Field
CATEGORIES:QuickScores, Softball - Adult Game
TRANSP:OPAQUE
BEGIN:VALARM
TRIGGER:-PT2H
ACTION:DISPLAY
DESCRIPTION:Crushers vs. The Jortstops
END:VALARM
END:VEVENT
BEGIN:VEVENT
UID:carbondalerec-69040676-20250715T203000@quickscores.com
DTSTAMP:20260422T023100Z
DTSTART;TZID=America/Denver:20250715T203000
DURATION:PT1H0M0S
SUMMARY:The Jortstops vs. Bunt Cakes
DESCRIPTION:Coed Softball 2025 - Carbondale Parks and Recreation
LOCATION:North Face Field
CATEGORIES:QuickScores, Softball - Adult Game
TRANSP:OPAQUE
BEGIN:VALARM
TRIGGER:-PT2H
ACTION:DISPLAY
DESCRIPTION:The Jortstops vs. Bunt Cakes
END:VALARM
END:VEVENT
BEGIN:VEVENT
UID:carbondalerec-69040697-20250721T203000@quickscores.com
DTSTAMP:20260422T023100Z
DTSTART;TZID=America/Denver:20250721T203000
DURATION:PT1H0M0S
SUMMARY:Fresh Trout vs. The Jortstops
DESCRIPTION:Coed Softball 2025 - Carbondale Parks and Recreation
LOCATION:North Face Field
CATEGORIES:QuickScores, Softball - Adult Game
TRANSP:OPAQUE
BEGIN:VALARM
TRIGGER:-PT2H
ACTION:DISPLAY
DESCRIPTION:Fresh Trout vs. The Jortstops
END:VALARM
END:VEVENT
BEGIN:VEVENT
UID:carbondalerec-69040704-20250729T193000@quickscores.com
DTSTAMP:20260422T023100Z
DTSTART;TZID=America/Denver:20250729T193000
DURATION:PT1H0M0S
SUMMARY:The Jortstops vs. The Romero Group
DESCRIPTION:Coed Softball 2025 - Carbondale Parks and Recreation
LOCATION:North Face Field
CATEGORIES:QuickScores, Softball - Adult Game
TRANSP:OPAQUE
BEGIN:VALARM
TRIGGER:-PT2H
ACTION:DISPLAY
DESCRIPTION:The Jortstops vs. The Romero Group
END:VALARM
END:VEVENT
BEGIN:VEVENT
UID:carbondalerec-69040708-20250805T193000@quickscores.com
DTSTAMP:20260422T023100Z
DTSTART;TZID=America/Denver:20250805T193000
DURATION:PT1H0M0S
SUMMARY:KFH vs. The Jortstops
DESCRIPTION:Coed Softball 2025 - Carbondale Parks and Recreation
LOCATION:North Face Field
CATEGORIES:QuickScores, Softball - Adult Game
TRANSP:OPAQUE
BEGIN:VALARM
TRIGGER:-PT2H
ACTION:DISPLAY
DESCRIPTION:KFH vs. The Jortstops
END:VALARM
END:VEVENT
BEGIN:VEVENT
UID:carbondalerec-69040716-20250812T193000@quickscores.com
DTSTAMP:20260422T023100Z
DTSTART;TZID=America/Denver:20250812T193000
DURATION:PT1H0M0S
SUMMARY:Bonedale Bombers vs. The Jortstops
DESCRIPTION:Coed Softball 2025 - Carbondale Parks and Recreation
LOCATION:North Face Field
CATEGORIES:QuickScores, Softball - Adult Game
TRANSP:OPAQUE
BEGIN:VALARM
TRIGGER:-PT2H
ACTION:DISPLAY
DESCRIPTION:Bonedale Bombers vs. The Jortstops
END:VALARM
END:VEVENT
BEGIN:VEVENT
UID:carbondalerec-69040723-20250819T203000@quickscores.com
DTSTAMP:20260422T023100Z
DTSTART;TZID=America/Denver:20250819T203000
DURATION:PT1H0M0S
SUMMARY:The Jortstops vs. Slug 'N' Chug
DESCRIPTION:Coed Softball 2025 - Carbondale Parks and Recreation
LOCATION:North Face Field
CATEGORIES:QuickScores, Softball - Adult Game
TRANSP:OPAQUE
BEGIN:VALARM
TRIGGER:-PT2H
ACTION:DISPLAY
DESCRIPTION:The Jortstops vs. Slug 'N' Chug
END:VALARM
END:VEVENT
BEGIN:VEVENT
UID:carbondalerec-70281246-20250826T203000@quickscores.com
DTSTAMP:20260422T023100Z
DTSTART;TZID=America/Denver:20250826T203000
DURATION:PT1H0M0S
SUMMARY:[4] The Jortstops vs. [5] Bonedale Bombers
DESCRIPTION:Coed Softball 2025 - Carbondale Parks and Recreation
LOCATION:North Face Field
CATEGORIES:QuickScores, Softball - Adult Game
TRANSP:OPAQUE
BEGIN:VALARM
TRIGGER:-PT2H
ACTION:DISPLAY
DESCRIPTION:[4] The Jortstops vs. [5] Bonedale Bombers
END:VALARM
END:VEVENT
END:VCALENDAR
