BEGIN:VCALENDAR
VERSION:2.0
PRODID:-//QuickScores.com//BQ Dynamic iCal Creator//EN
METHOD:PUBLISH
X-WR-CALNAME:Life&#039;s a Beach - Rec Volleyball Winter 2025 - Winter 2024-2025
X-WR-CALDESC:QuickScores game calendar
X-PUBLISHED-TTL:PT24H
REFRESH-INTERVAL;VALUE=DURATION:PT24H
CALSCALE:GREGORIAN
BEGIN:VTIMEZONE
TZID:America/Denver
X-LIC-LOCATION:America/Denver
BEGIN:DAYLIGHT
TZNAME:MDT
TZOFFSETFROM:-0700
TZOFFSETTO:-0600
DTSTART:19700308T020000
RRULE:FREQ=YEARLY;BYMONTH=3;BYDAY=2SU
END:DAYLIGHT
BEGIN:STANDARD
TZNAME:MST
TZOFFSETFROM:-0600
TZOFFSETTO:-0700
DTSTART:19701101T020000
RRULE:FREQ=YEARLY;BYMONTH=11;BYDAY=1SU
END:STANDARD
END:VTIMEZONE
BEGIN:VEVENT
UID:carbondalerec-66572644-20250106T180000@quickscores.com
DTSTAMP:20260419T123300Z
DTSTART;TZID=America/Denver:20250106T180000
DURATION:PT1H0M0S
SUMMARY:Life's a Beach vs. Block party
DESCRIPTION:Rec Volleyball Winter 2025 - Carbondale Parks and Recreation
LOCATION:East Gym
CATEGORIES:QuickScores, Volleyball - Adult Game
TRANSP:OPAQUE
BEGIN:VALARM
TRIGGER:-PT2H
ACTION:DISPLAY
DESCRIPTION:Life's a Beach vs. Block party
END:VALARM
END:VEVENT
BEGIN:VEVENT
UID:carbondalerec-66572652-20250120T180000@quickscores.com
DTSTAMP:20260419T123300Z
DTSTART;TZID=America/Denver:20250120T180000
DURATION:PT1H0M0S
SUMMARY:Life's a Beach vs. Volley Llamas
DESCRIPTION:Rec Volleyball Winter 2025 - Carbondale Parks and Recreation
LOCATION:East Gym
CATEGORIES:QuickScores, Volleyball - Adult Game
TRANSP:OPAQUE
BEGIN:VALARM
TRIGGER:-PT2H
ACTION:DISPLAY
DESCRIPTION:Life's a Beach vs. Volley Llamas
END:VALARM
END:VEVENT
BEGIN:VEVENT
UID:carbondalerec-66572656-20250127T180000@quickscores.com
DTSTAMP:20260419T123300Z
DTSTART;TZID=America/Denver:20250127T180000
DURATION:PT1H0M0S
SUMMARY:ValleyBalls vs. Life's a Beach
DESCRIPTION:Rec Volleyball Winter 2025 - Carbondale Parks and Recreation
LOCATION:East Gym
CATEGORIES:QuickScores, Volleyball - Adult Game
TRANSP:OPAQUE
BEGIN:VALARM
TRIGGER:-PT2H
ACTION:DISPLAY
DESCRIPTION:ValleyBalls vs. Life's a Beach
END:VALARM
END:VEVENT
BEGIN:VEVENT
UID:carbondalerec-66572662-20250203T200000@quickscores.com
DTSTAMP:20260419T123300Z
DTSTART;TZID=America/Denver:20250203T200000
DURATION:PT1H0M0S
SUMMARY:Life's a Beach vs. Orville Redenblocker
DESCRIPTION:Rec Volleyball Winter 2025 - Carbondale Parks and Recreation
LOCATION:East Gym
CATEGORIES:QuickScores, Volleyball - Adult Game
TRANSP:OPAQUE
BEGIN:VALARM
TRIGGER:-PT2H
ACTION:DISPLAY
DESCRIPTION:Life's a Beach vs. Orville Redenblocker
END:VALARM
END:VEVENT
BEGIN:VEVENT
UID:carbondalerec-66572665-20250210T190000@quickscores.com
DTSTAMP:20260419T123300Z
DTSTART;TZID=America/Denver:20250210T190000
DURATION:PT1H0M0S
SUMMARY:PREMARITAL SETS vs. Life's a Beach
DESCRIPTION:Rec Volleyball Winter 2025 - Carbondale Parks and Recreation
LOCATION:East Gym
CATEGORIES:QuickScores, Volleyball - Adult Game
TRANSP:OPAQUE
BEGIN:VALARM
TRIGGER:-PT2H
ACTION:DISPLAY
DESCRIPTION:PREMARITAL SETS vs. Life's a Beach
END:VALARM
END:VEVENT
BEGIN:VEVENT
UID:carbondalerec-66572670-20250217T200000@quickscores.com
DTSTAMP:20260419T123300Z
DTSTART;TZID=America/Denver:20250217T200000
DURATION:PT1H0M0S
SUMMARY:Bonedale Poopy Drops vs. Life's a Beach
DESCRIPTION:Rec Volleyball Winter 2025 - Carbondale Parks and Recreation
LOCATION:East Gym
CATEGORIES:QuickScores, Volleyball - Adult Game
TRANSP:OPAQUE
BEGIN:VALARM
TRIGGER:-PT2H
ACTION:DISPLAY
DESCRIPTION:Bonedale Poopy Drops vs. Life's a Beach
END:VALARM
END:VEVENT
BEGIN:VEVENT
UID:carbondalerec-67268897-20250310T190000@quickscores.com
DTSTAMP:20260419T123300Z
DTSTART;TZID=America/Denver:20250310T190000
DURATION:PT1H0M0S
SUMMARY:PREMARITAL SETS vs. Life's a Beach
DESCRIPTION:Rec Volleyball Winter 2025 - Carbondale Parks and Recreation
LOCATION:East Gym
CATEGORIES:QuickScores, Volleyball - Adult Game
TRANSP:OPAQUE
BEGIN:VALARM
TRIGGER:-PT2H
ACTION:DISPLAY
DESCRIPTION:PREMARITAL SETS vs. Life's a Beach
END:VALARM
END:VEVENT
BEGIN:VEVENT
UID:carbondalerec-67268900-20250317T180000@quickscores.com
DTSTAMP:20260419T123300Z
DTSTART;TZID=America/Denver:20250317T180000
DURATION:PT1H0M0S
SUMMARY:Life's a Beach vs. Bonedale Poopy Drops
DESCRIPTION:Rec Volleyball Winter 2025 - Carbondale Parks and Recreation
LOCATION:East Gym
CATEGORIES:QuickScores, Volleyball - Adult Game
TRANSP:OPAQUE
BEGIN:VALARM
TRIGGER:-PT2H
ACTION:DISPLAY
DESCRIPTION:Life's a Beach vs. Bonedale Poopy Drops
END:VALARM
END:VEVENT
BEGIN:VEVENT
UID:carbondalerec-67268905-20250331T200000@quickscores.com
DTSTAMP:20260419T123300Z
DTSTART;TZID=America/Denver:20250331T200000
DURATION:PT1H0M0S
SUMMARY:Volley Llamas vs. Life's a Beach
DESCRIPTION:Rec Volleyball Winter 2025 - Carbondale Parks and Recreation
LOCATION:East Gym
CATEGORIES:QuickScores, Volleyball - Adult Game
TRANSP:OPAQUE
BEGIN:VALARM
TRIGGER:-PT2H
ACTION:DISPLAY
DESCRIPTION:Volley Llamas vs. Life's a Beach
END:VALARM
END:VEVENT
BEGIN:VEVENT
UID:carbondalerec-68188604-20250407T180000@quickscores.com
DTSTAMP:20260419T123300Z
DTSTART;TZID=America/Denver:20250407T180000
DURATION:PT1H0M0S
SUMMARY:[4] Orville Redenblocker vs. [5] Life's a Beach
DESCRIPTION:Rec Volleyball Winter 2025 - Carbondale Parks and Recreation
LOCATION:East Gym
CATEGORIES:QuickScores, Volleyball - Adult Game
TRANSP:OPAQUE
BEGIN:VALARM
TRIGGER:-PT2H
ACTION:DISPLAY
DESCRIPTION:[4] Orville Redenblocker vs. [5] Life's a Beach
END:VALARM
END:VEVENT
END:VCALENDAR
