BEGIN:VCALENDAR
VERSION:2.0
PRODID:-//QuickScores.com//BQ Dynamic iCal Creator//EN
METHOD:PUBLISH
X-WR-CALNAME:Baker and the Cakes - Competitive Coed Fall Volleyball - Fall 2024
X-WR-CALDESC:QuickScores game calendar
X-PUBLISHED-TTL:PT24H
REFRESH-INTERVAL;VALUE=DURATION:PT24H
CALSCALE:GREGORIAN
BEGIN:VTIMEZONE
TZID:America/Denver
X-LIC-LOCATION:America/Denver
BEGIN:DAYLIGHT
TZNAME:MDT
TZOFFSETFROM:-0700
TZOFFSETTO:-0600
DTSTART:19700308T020000
RRULE:FREQ=YEARLY;BYMONTH=3;BYDAY=2SU
END:DAYLIGHT
BEGIN:STANDARD
TZNAME:MST
TZOFFSETFROM:-0600
TZOFFSETTO:-0700
DTSTART:19701101T020000
RRULE:FREQ=YEARLY;BYMONTH=11;BYDAY=1SU
END:STANDARD
END:VTIMEZONE
BEGIN:VEVENT
UID:carbondalerec-65133010-20240916T200000@quickscores.com
DTSTAMP:20260425T233300Z
DTSTART;TZID=America/Denver:20240916T200000
DURATION:PT1H0M0S
SUMMARY:Baker and the Cakes vs. Bonedale Bone Crushers
DESCRIPTION:Competitive Coed Fall Volleyball - Carbondale Parks and Recreation
LOCATION:West Gym
CATEGORIES:QuickScores, Volleyball - Adult Game
TRANSP:OPAQUE
BEGIN:VALARM
TRIGGER:-PT2H
ACTION:DISPLAY
DESCRIPTION:Baker and the Cakes vs. Bonedale Bone Crushers
END:VALARM
END:VEVENT
BEGIN:VEVENT
UID:carbondalerec-65133002-20240923T200000@quickscores.com
DTSTAMP:20260425T233300Z
DTSTART;TZID=America/Denver:20240923T200000
DURATION:PT1H0M0S
SUMMARY:Tiger Bomb vs. Baker and the Cakes
DESCRIPTION:Competitive Coed Fall Volleyball - Carbondale Parks and Recreation
LOCATION:West Gym
CATEGORIES:QuickScores, Volleyball - Adult Game
TRANSP:OPAQUE
BEGIN:VALARM
TRIGGER:-PT2H
ACTION:DISPLAY
DESCRIPTION:Tiger Bomb vs. Baker and the Cakes
END:VALARM
END:VEVENT
BEGIN:VEVENT
UID:carbondalerec-65133003-20240930T180000@quickscores.com
DTSTAMP:20260425T233300Z
DTSTART;TZID=America/Denver:20240930T180000
DURATION:PT1H0M0S
SUMMARY:Baker and the Cakes vs. Juan's Team
DESCRIPTION:Competitive Coed Fall Volleyball - Carbondale Parks and Recreation
LOCATION:West Gym
CATEGORIES:QuickScores, Volleyball - Adult Game
TRANSP:OPAQUE
BEGIN:VALARM
TRIGGER:-PT2H
ACTION:DISPLAY
DESCRIPTION:Baker and the Cakes vs. Juan's Team
END:VALARM
END:VEVENT
BEGIN:VEVENT
UID:carbondalerec-65133008-20241007T180000@quickscores.com
DTSTAMP:20260425T233300Z
DTSTART;TZID=America/Denver:20241007T180000
DURATION:PT1H0M0S
SUMMARY:Taters of the Carribean vs. Baker and the Cakes
DESCRIPTION:Competitive Coed Fall Volleyball - Carbondale Parks and Recreation
LOCATION:West Gym
CATEGORIES:QuickScores, Volleyball - Adult Game
TRANSP:OPAQUE
BEGIN:VALARM
TRIGGER:-PT2H
ACTION:DISPLAY
DESCRIPTION:Taters of the Carribean vs. Baker and the Cakes
END:VALARM
END:VEVENT
BEGIN:VEVENT
UID:carbondalerec-65132997-20241014T200000@quickscores.com
DTSTAMP:20260425T233300Z
DTSTART;TZID=America/Denver:20241014T200000
DURATION:PT1H0M0S
SUMMARY:_WAP vs. Baker and the Cakes
DESCRIPTION:Competitive Coed Fall Volleyball - Carbondale Parks and Recreation
LOCATION:West Gym
CATEGORIES:QuickScores, Volleyball - Adult Game
TRANSP:OPAQUE
BEGIN:VALARM
TRIGGER:-PT2H
ACTION:DISPLAY
DESCRIPTION:_WAP vs. Baker and the Cakes
END:VALARM
END:VEVENT
BEGIN:VEVENT
UID:carbondalerec-65638017-20241021T190000@quickscores.com
DTSTAMP:20260425T233300Z
DTSTART;TZID=America/Denver:20241021T190000
DURATION:PT1H0M0S
SUMMARY:Juan's Team vs. Baker and the Cakes
DESCRIPTION:Competitive Coed Fall Volleyball - Carbondale Parks and Recreation
LOCATION:West Gym
CATEGORIES:QuickScores, Volleyball - Adult Game
TRANSP:OPAQUE
BEGIN:VALARM
TRIGGER:-PT2H
ACTION:DISPLAY
DESCRIPTION:Juan's Team vs. Baker and the Cakes
END:VALARM
END:VEVENT
BEGIN:VEVENT
UID:carbondalerec-65638022-20241028T200000@quickscores.com
DTSTAMP:20260425T233300Z
DTSTART;TZID=America/Denver:20241028T200000
DURATION:PT1H0M0S
SUMMARY:_WAP vs. Baker and the Cakes
DESCRIPTION:Competitive Coed Fall Volleyball - Carbondale Parks and Recreation
LOCATION:West Gym
CATEGORIES:QuickScores, Volleyball - Adult Game
TRANSP:OPAQUE
BEGIN:VALARM
TRIGGER:-PT2H
ACTION:DISPLAY
DESCRIPTION:_WAP vs. Baker and the Cakes
END:VALARM
END:VEVENT
BEGIN:VEVENT
UID:carbondalerec-65638024-20241104T180000@quickscores.com
DTSTAMP:20260425T233300Z
DTSTART;TZID=America/Denver:20241104T180000
DURATION:PT1H0M0S
SUMMARY:Bonedale Bone Crushers vs. Baker and the Cakes
DESCRIPTION:Competitive Coed Fall Volleyball - Carbondale Parks and Recreation
LOCATION:West Gym
CATEGORIES:QuickScores, Volleyball - Adult Game
TRANSP:OPAQUE
BEGIN:VALARM
TRIGGER:-PT2H
ACTION:DISPLAY
DESCRIPTION:Bonedale Bone Crushers vs. Baker and the Cakes
END:VALARM
END:VEVENT
BEGIN:VEVENT
UID:carbondalerec-65638030-20241111T200000@quickscores.com
DTSTAMP:20260425T233300Z
DTSTART;TZID=America/Denver:20241111T200000
DURATION:PT1H0M0S
SUMMARY:Baker and the Cakes vs. Sugar and Spikes
DESCRIPTION:Competitive Coed Fall Volleyball - Carbondale Parks and Recreation
LOCATION:West Gym
CATEGORIES:QuickScores, Volleyball - Adult Game
TRANSP:OPAQUE
BEGIN:VALARM
TRIGGER:-PT2H
ACTION:DISPLAY
DESCRIPTION:Baker and the Cakes vs. Sugar and Spikes
END:VALARM
END:VEVENT
BEGIN:VEVENT
UID:carbondalerec-65638040-20241202T180000@quickscores.com
DTSTAMP:20260425T233300Z
DTSTART;TZID=America/Denver:20241202T180000
DURATION:PT1H0M0S
SUMMARY:Baker and the Cakes vs. Taters of the Carribean
DESCRIPTION:Competitive Coed Fall Volleyball - Carbondale Parks and Recreation
LOCATION:West Gym
CATEGORIES:QuickScores, Volleyball - Adult Game
TRANSP:OPAQUE
BEGIN:VALARM
TRIGGER:-PT2H
ACTION:DISPLAY
DESCRIPTION:Baker and the Cakes vs. Taters of the Carribean
END:VALARM
END:VEVENT
BEGIN:VEVENT
UID:carbondalerec-66238855-20241209T190000@quickscores.com
DTSTAMP:20260425T233300Z
DTSTART;TZID=America/Denver:20241209T190000
DURATION:PT1H0M0S
SUMMARY:[2] Taters of the Carribean vs. [7] Baker and the Cakes
DESCRIPTION:Competitive Coed Fall Volleyball - Carbondale Parks and Recreation
LOCATION:West Gym
CATEGORIES:QuickScores, Volleyball - Adult Game
TRANSP:OPAQUE
BEGIN:VALARM
TRIGGER:-PT2H
ACTION:DISPLAY
DESCRIPTION:[2] Taters of the Carribean vs. [7] Baker and the Cakes
END:VALARM
END:VEVENT
END:VCALENDAR
