BEGIN:VCALENDAR
VERSION:2.0
PRODID:-//QuickScores.com//BQ Dynamic iCal Creator//EN
METHOD:PUBLISH
X-WR-CALNAME:The Romero Group - Summer Coed Softball 2023 - Summer 2023
X-WR-CALDESC:QuickScores game calendar
X-PUBLISHED-TTL:PT24H
REFRESH-INTERVAL;VALUE=DURATION:PT24H
CALSCALE:GREGORIAN
BEGIN:VTIMEZONE
TZID:America/Denver
X-LIC-LOCATION:America/Denver
BEGIN:DAYLIGHT
TZNAME:MDT
TZOFFSETFROM:-0700
TZOFFSETTO:-0600
DTSTART:19700308T020000
RRULE:FREQ=YEARLY;BYMONTH=3;BYDAY=2SU
END:DAYLIGHT
BEGIN:STANDARD
TZNAME:MST
TZOFFSETFROM:-0600
TZOFFSETTO:-0700
DTSTART:19701101T020000
RRULE:FREQ=YEARLY;BYMONTH=11;BYDAY=1SU
END:STANDARD
END:VTIMEZONE
BEGIN:VEVENT
UID:carbondalerec-58648912-20230619T210000@quickscores.com
DTSTAMP:20260422T021200Z
DTSTART;TZID=America/Denver:20230619T210000
DURATION:PT1H0M0S
SUMMARY:Fighting Trout vs. The Romero Group
DESCRIPTION:Summer Coed Softball 2023 - Carbondale Parks and Recreation
LOCATION:North Face Field
CATEGORIES:QuickScores, Softball - Adult Game
TRANSP:OPAQUE
BEGIN:VALARM
TRIGGER:-PT2H
ACTION:DISPLAY
DESCRIPTION:Fighting Trout vs. The Romero Group
END:VALARM
END:VEVENT
BEGIN:VEVENT
UID:carbondalerec-58648903-20230626T210000@quickscores.com
DTSTAMP:20260422T021200Z
DTSTART;TZID=America/Denver:20230626T210000
DURATION:PT1H0M0S
SUMMARY:The Romero Group vs. Slug 'N' Chug
DESCRIPTION:Summer Coed Softball 2023 - Carbondale Parks and Recreation
LOCATION:North Face Field
CATEGORIES:QuickScores, Softball - Adult Game
TRANSP:OPAQUE
BEGIN:VALARM
TRIGGER:-PT2H
ACTION:DISPLAY
DESCRIPTION:The Romero Group vs. Slug 'N' Chug
END:VALARM
END:VEVENT
BEGIN:VEVENT
UID:carbondalerec-58648922-20230710T190000@quickscores.com
DTSTAMP:20260422T021200Z
DTSTART;TZID=America/Denver:20230710T190000
DURATION:PT1H0M0S
SUMMARY:The Romero Group vs. JAYWALKER
DESCRIPTION:Summer Coed Softball 2023 - Carbondale Parks and Recreation
LOCATION:North Face Field
CATEGORIES:QuickScores, Softball - Adult Game
TRANSP:OPAQUE
BEGIN:VALARM
TRIGGER:-PT2H
ACTION:DISPLAY
DESCRIPTION:The Romero Group vs. JAYWALKER
END:VALARM
END:VEVENT
BEGIN:VEVENT
UID:carbondalerec-58648898-20230717T210000@quickscores.com
DTSTAMP:20260422T021200Z
DTSTART;TZID=America/Denver:20230717T210000
DURATION:PT1H0M0S
SUMMARY:Crushers vs. The Romero Group
DESCRIPTION:Summer Coed Softball 2023 - Carbondale Parks and Recreation
LOCATION:North Face Field
CATEGORIES:QuickScores, Softball - Adult Game
TRANSP:OPAQUE
BEGIN:VALARM
TRIGGER:-PT2H
ACTION:DISPLAY
DESCRIPTION:Crushers vs. The Romero Group
END:VALARM
END:VEVENT
BEGIN:VEVENT
UID:carbondalerec-58648935-20230731T200000@quickscores.com
DTSTAMP:20260422T021200Z
DTSTART;TZID=America/Denver:20230731T200000
DURATION:PT1H0M0S
SUMMARY:OLD AF vs. The Romero Group
DESCRIPTION:Summer Coed Softball 2023 - Carbondale Parks and Recreation
LOCATION:North Face Field
CATEGORIES:QuickScores, Softball - Adult Game
TRANSP:OPAQUE
BEGIN:VALARM
TRIGGER:-PT2H
ACTION:DISPLAY
DESCRIPTION:OLD AF vs. The Romero Group
END:VALARM
END:VEVENT
BEGIN:VEVENT
UID:carbondalerec-58648928-20230807T190000@quickscores.com
DTSTAMP:20260422T021200Z
DTSTART;TZID=America/Denver:20230807T190000
DURATION:PT1H0M0S
SUMMARY:The Romero Group vs. Local Roots LLC
DESCRIPTION:Summer Coed Softball 2023 - Carbondale Parks and Recreation
LOCATION:North Face Field
CATEGORIES:QuickScores, Softball - Adult Game
TRANSP:OPAQUE
BEGIN:VALARM
TRIGGER:-PT2H
ACTION:DISPLAY
DESCRIPTION:The Romero Group vs. Local Roots LLC
END:VALARM
END:VEVENT
BEGIN:VEVENT
UID:carbondalerec-58648891-20230814T180000@quickscores.com
DTSTAMP:20260422T021200Z
DTSTART;TZID=America/Denver:20230814T180000
DURATION:PT1H0M0S
SUMMARY:The Romero Group vs. The Jortstops
DESCRIPTION:Summer Coed Softball 2023 - Carbondale Parks and Recreation
LOCATION:North Face Field
CATEGORIES:QuickScores, Softball - Adult Game
TRANSP:OPAQUE
BEGIN:VALARM
TRIGGER:-PT2H
ACTION:DISPLAY
DESCRIPTION:The Romero Group vs. The Jortstops
END:VALARM
END:VEVENT
BEGIN:VEVENT
UID:carbondalerec-58648940-20230821T200000@quickscores.com
DTSTAMP:20260422T021200Z
DTSTART;TZID=America/Denver:20230821T200000
DURATION:PT1H0M0S
SUMMARY:Revel Bikes vs. The Romero Group
DESCRIPTION:Summer Coed Softball 2023 - Carbondale Parks and Recreation
LOCATION:North Face Field
CATEGORIES:QuickScores, Softball - Adult Game
TRANSP:OPAQUE
BEGIN:VALARM
TRIGGER:-PT2H
ACTION:DISPLAY
DESCRIPTION:Revel Bikes vs. The Romero Group
END:VALARM
END:VEVENT
BEGIN:VEVENT
UID:carbondalerec-59501447-20230911T190000@quickscores.com
DTSTAMP:20260422T021200Z
DTSTART;TZID=America/Denver:20230911T190000
DURATION:PT1H0M0S
SUMMARY:[2] The Romero Group vs. [7] OLD AF
DESCRIPTION:Summer Coed Softball 2023 - Carbondale Parks and Recreation
LOCATION:North Face Field
CATEGORIES:QuickScores, Softball - Adult Game
TRANSP:OPAQUE
BEGIN:VALARM
TRIGGER:-PT2H
ACTION:DISPLAY
DESCRIPTION:[2] The Romero Group vs. [7] OLD AF
END:VALARM
END:VEVENT
BEGIN:VEVENT
UID:carbondalerec-59501450-20230911T210000@quickscores.com
DTSTAMP:20260422T021200Z
DTSTART;TZID=America/Denver:20230911T210000
DURATION:PT1H0M0S
SUMMARY:[2] The Romero Group vs. [3] KFH
DESCRIPTION:Summer Coed Softball 2023 - Carbondale Parks and Recreation
LOCATION:North Face Field
CATEGORIES:QuickScores, Softball - Adult Game
TRANSP:OPAQUE
BEGIN:VALARM
TRIGGER:-PT2H
ACTION:DISPLAY
DESCRIPTION:[2] The Romero Group vs. [3] KFH
END:VALARM
END:VEVENT
END:VCALENDAR
