BEGIN:VCALENDAR
VERSION:2.0
PRODID:-//QuickScores.com//BQ Dynamic iCal Creator//EN
METHOD:PUBLISH
X-WR-CALNAME:mustangs - Jv - Fall 2023
X-WR-CALDESC:QuickScores game calendar
X-PUBLISHED-TTL:PT24H
REFRESH-INTERVAL;VALUE=DURATION:PT24H
CALSCALE:GREGORIAN
BEGIN:VTIMEZONE
TZID:America/Chicago
X-LIC-LOCATION:America/Chicago
BEGIN:DAYLIGHT
TZNAME:CDT
TZOFFSETFROM:-0600
TZOFFSETTO:-0500
DTSTART:19700308T020000
RRULE:FREQ=YEARLY;BYMONTH=3;BYDAY=2SU
END:DAYLIGHT
BEGIN:STANDARD
TZNAME:CST
TZOFFSETFROM:-0500
TZOFFSETTO:-0600
DTSTART:19701101T020000
RRULE:FREQ=YEARLY;BYMONTH=11;BYDAY=1SU
END:STANDARD
END:VTIMEZONE
BEGIN:VEVENT
UID:bgcwf-59911062-20230923T090000@quickscores.com
DTSTAMP:20260423T133700Z
DTSTART;TZID=America/Chicago:20230923T090000
DURATION:PT1H0M0S
SUMMARY:mustangs vs. packers
DESCRIPTION:Jv - Boys and Girls Club of Wichita Falls
LOCATION:BC Field 2
CATEGORIES:QuickScores, Football Game
TRANSP:OPAQUE
BEGIN:VALARM
TRIGGER:-PT2H
ACTION:DISPLAY
DESCRIPTION:mustangs vs. packers
END:VALARM
END:VEVENT
BEGIN:VEVENT
UID:bgcwf-59911065-20230930T110000@quickscores.com
DTSTAMP:20260423T133700Z
DTSTART;TZID=America/Chicago:20230930T110000
DURATION:PT1H0M0S
SUMMARY:mustangs vs. Wildcats
DESCRIPTION:Jv - Boys and Girls Club of Wichita Falls
LOCATION:BC Field 2
CATEGORIES:QuickScores, Football Game
TRANSP:OPAQUE
BEGIN:VALARM
TRIGGER:-PT2H
ACTION:DISPLAY
DESCRIPTION:mustangs vs. Wildcats
END:VALARM
END:VEVENT
BEGIN:VEVENT
UID:bgcwf-59911069-20231007T090000@quickscores.com
DTSTAMP:20260423T133700Z
DTSTART;TZID=America/Chicago:20231007T090000
DURATION:PT1H0M0S
SUMMARY:mustangs vs. Coyotes
DESCRIPTION:Jv - Boys and Girls Club of Wichita Falls
LOCATION:BC Field 2
CATEGORIES:QuickScores, Football Game
TRANSP:OPAQUE
BEGIN:VALARM
TRIGGER:-PT2H
ACTION:DISPLAY
DESCRIPTION:mustangs vs. Coyotes
END:VALARM
END:VEVENT
BEGIN:VEVENT
UID:bgcwf-59911071-20231014T103000@quickscores.com
DTSTAMP:20260423T133700Z
DTSTART;TZID=America/Chicago:20231014T103000
DURATION:PT1H0M0S
SUMMARY:Wolverines vs. mustangs
DESCRIPTION:Jv - Boys and Girls Club of Wichita Falls
LOCATION:BC Field 2
CATEGORIES:QuickScores, Football Game
TRANSP:OPAQUE
BEGIN:VALARM
TRIGGER:-PT2H
ACTION:DISPLAY
DESCRIPTION:Wolverines vs. mustangs
END:VALARM
END:VEVENT
BEGIN:VEVENT
UID:bgcwf-59911075-20231021T120000@quickscores.com
DTSTAMP:20260423T133700Z
DTSTART;TZID=America/Chicago:20231021T120000
DURATION:PT1H0M0S
SUMMARY:Texoma Dawgs vs. mustangs
DESCRIPTION:Jv - Boys and Girls Club of Wichita Falls
LOCATION:BC Field 2
CATEGORIES:QuickScores, Football Game
TRANSP:OPAQUE
BEGIN:VALARM
TRIGGER:-PT2H
ACTION:DISPLAY
DESCRIPTION:Texoma Dawgs vs. mustangs
END:VALARM
END:VEVENT
BEGIN:VEVENT
UID:bgcwf-59911077-20231030T170000@quickscores.com
DTSTAMP:20260423T133700Z
DTSTART;TZID=America/Chicago:20231030T170000
DURATION:PT1H0M0S
SUMMARY:packers vs. mustangs
DESCRIPTION:Jv - Boys and Girls Club of Wichita Falls
LOCATION:BC Field 2
CATEGORIES:QuickScores, Football Game
TRANSP:OPAQUE
BEGIN:VALARM
TRIGGER:-PT2H
ACTION:DISPLAY
DESCRIPTION:packers vs. mustangs
END:VALARM
END:VEVENT
BEGIN:VEVENT
UID:bgcwf-60550657-20231111T103000@quickscores.com
DTSTAMP:20260423T133700Z
DTSTART;TZID=America/Chicago:20231111T103000
DURATION:PT1H0M0S
SUMMARY:[2] mustangs vs. [3] Wolverines
DESCRIPTION:Jv - Boys and Girls Club of Wichita Falls
LOCATION:BC Field 2
CATEGORIES:QuickScores, Football Game
TRANSP:OPAQUE
BEGIN:VALARM
TRIGGER:-PT2H
ACTION:DISPLAY
DESCRIPTION:[2] mustangs vs. [3] Wolverines
END:VALARM
END:VEVENT
BEGIN:VEVENT
UID:bgcwf-60550658-20231118T090000@quickscores.com
DTSTAMP:20260423T133700Z
DTSTART;TZID=America/Chicago:20231118T090000
DURATION:PT1H0M0S
SUMMARY:[1] packers vs. [2] mustangs
DESCRIPTION:Jv - Boys and Girls Club of Wichita Falls
LOCATION:City View High School (Veterans' Field)
CATEGORIES:QuickScores, Football Game
TRANSP:OPAQUE
BEGIN:VALARM
TRIGGER:-PT2H
ACTION:DISPLAY
DESCRIPTION:[1] packers vs. [2] mustangs
END:VALARM
END:VEVENT
END:VCALENDAR
