BEGIN:VCALENDAR
VERSION:2.0
PRODID:-//QuickScores.com//BQ Dynamic iCal Creator//EN
METHOD:PUBLISH
X-WR-CALNAME:DYNAMO - 2021 Varsity Soccer - Spring 2021
X-WR-CALDESC:QuickScores game calendar
X-PUBLISHED-TTL:PT24H
REFRESH-INTERVAL;VALUE=DURATION:PT24H
CALSCALE:GREGORIAN
BEGIN:VTIMEZONE
TZID:America/New_York
X-LIC-LOCATION:America/New_York
BEGIN:DAYLIGHT
TZNAME:EDT
TZOFFSETFROM:-0500
TZOFFSETTO:-0400
DTSTART:19700308T020000
RRULE:FREQ=YEARLY;BYMONTH=3;BYDAY=2SU
END:DAYLIGHT
BEGIN:STANDARD
TZNAME:EST
TZOFFSETFROM:-0400
TZOFFSETTO:-0500
DTSTART:19701101T020000
RRULE:FREQ=YEARLY;BYMONTH=11;BYDAY=1SU
END:STANDARD
END:VTIMEZONE
BEGIN:VEVENT
UID:bcparks-48759296-20210417T130000@quickscores.com
DTSTAMP:20260423T123700Z
DTSTART;TZID=America/New_York:20210417T130000
DURATION:PT1H0M0S
SUMMARY:MUSTANGS vs. DYNAMO
DESCRIPTION:ON LIGHTED FIELD --- 2021 Varsity Soccer - Brunswick County Parks & Recreation
LOCATION:NORTHWEST PARK VARSITY #1
CATEGORIES:QuickScores, Soccer - Youth Game
TRANSP:OPAQUE
BEGIN:VALARM
TRIGGER:-PT2H
ACTION:DISPLAY
DESCRIPTION:MUSTANGS vs. DYNAMO
END:VALARM
END:VEVENT
BEGIN:VEVENT
UID:bcparks-48759301-20210424T130000@quickscores.com
DTSTAMP:20260423T123700Z
DTSTART;TZID=America/New_York:20210424T130000
DURATION:PT1H0M0S
SUMMARY:DYNAMO vs. FIRE
DESCRIPTION:MIDDLE FIELD OF PARK-FIRE DOUBLE HEADER --- 2021 Varsity Soccer - Brunswick County Parks & Recreation
LOCATION:NORTHWEST PARK VARSITY #2
CATEGORIES:QuickScores, Soccer - Youth Game
TRANSP:OPAQUE
BEGIN:VALARM
TRIGGER:-PT2H
ACTION:DISPLAY
DESCRIPTION:DYNAMO vs. FIRE
END:VALARM
END:VEVENT
BEGIN:VEVENT
UID:bcparks-48759309-20210501T130000@quickscores.com
DTSTAMP:20260423T123700Z
DTSTART;TZID=America/New_York:20210501T130000
DURATION:PT1H0M0S
SUMMARY:CELTICS vs. DYNAMO
DESCRIPTION:MIDDLE FIELD OF PARK-DYNAMO DOUBLE HEADER --- 2021 Varsity Soccer - Brunswick County Parks & Recreation
LOCATION:NORTHWEST PARK VARSITY #1
CATEGORIES:QuickScores, Soccer - Youth Game
TRANSP:OPAQUE
BEGIN:VALARM
TRIGGER:-PT2H
ACTION:DISPLAY
DESCRIPTION:CELTICS vs. DYNAMO
END:VALARM
END:VEVENT
BEGIN:VEVENT
UID:bcparks-48759312-20210501T143000@quickscores.com
DTSTAMP:20260423T123700Z
DTSTART;TZID=America/New_York:20210501T143000
DURATION:PT1H0M0S
SUMMARY:DYNAMO vs. GALAXY
DESCRIPTION:MIDDLE FIELD OF PARK-DYNAMO DOUBLE HEADER --- 2021 Varsity Soccer - Brunswick County Parks & Recreation
LOCATION:NORTHWEST PARK VARSITY #1
CATEGORIES:QuickScores, Soccer - Youth Game
TRANSP:OPAQUE
BEGIN:VALARM
TRIGGER:-PT2H
ACTION:DISPLAY
DESCRIPTION:DYNAMO vs. GALAXY
END:VALARM
END:VEVENT
BEGIN:VEVENT
UID:bcparks-48759322-20210515T143000@quickscores.com
DTSTAMP:20260423T123700Z
DTSTART;TZID=America/New_York:20210515T143000
DURATION:PT1H0M0S
SUMMARY:DYNAMO vs. CREW
DESCRIPTION:FRONT OF PARK --- 2021 Varsity Soccer - Brunswick County Parks & Recreation
LOCATION:SMITHVILLE PARK VARSITY #1
CATEGORIES:QuickScores, Soccer - Youth Game
TRANSP:OPAQUE
BEGIN:VALARM
TRIGGER:-PT2H
ACTION:DISPLAY
DESCRIPTION:DYNAMO vs. CREW
END:VALARM
END:VEVENT
BEGIN:VEVENT
UID:bcparks-48759325-20210522T130000@quickscores.com
DTSTAMP:20260423T123700Z
DTSTART;TZID=America/New_York:20210522T130000
DURATION:PT1H0M0S
SUMMARY:DYNAMO vs. MENACE
DESCRIPTION:MIDDLE FIELD OF PARK --- 2021 Varsity Soccer - Brunswick County Parks & Recreation
LOCATION:NORTHWEST PARK VARSITY #1
CATEGORIES:QuickScores, Soccer - Youth Game
TRANSP:OPAQUE
BEGIN:VALARM
TRIGGER:-PT2H
ACTION:DISPLAY
DESCRIPTION:DYNAMO vs. MENACE
END:VALARM
END:VEVENT
BEGIN:VEVENT
UID:bcparks-48759335-20210529T143000@quickscores.com
DTSTAMP:20260423T123700Z
DTSTART;TZID=America/New_York:20210529T143000
DURATION:PT1H0M0S
SUMMARY:MUTINY vs. DYNAMO
DESCRIPTION:ON LIGHTED FIELD --- 2021 Varsity Soccer - Brunswick County Parks & Recreation
LOCATION:NORTHWEST PARK VARSITY #2
CATEGORIES:QuickScores, Soccer - Youth Game
TRANSP:OPAQUE
BEGIN:VALARM
TRIGGER:-PT2H
ACTION:DISPLAY
DESCRIPTION:MUTINY vs. DYNAMO
END:VALARM
END:VEVENT
BEGIN:VEVENT
UID:bcparks-48759338-20210612T130000@quickscores.com
DTSTAMP:20260423T123700Z
DTSTART;TZID=America/New_York:20210612T130000
DURATION:PT1H0M0S
SUMMARY:PRIDE vs. DYNAMO
DESCRIPTION:RIGHT BACK --- 2021 Varsity Soccer - Brunswick County Parks & Recreation
LOCATION:O.I.B. PARK VARSITY #1
CATEGORIES:QuickScores, Soccer - Youth Game
TRANSP:OPAQUE
BEGIN:VALARM
TRIGGER:-PT2H
ACTION:DISPLAY
DESCRIPTION:PRIDE vs. DYNAMO
END:VALARM
END:VEVENT
END:VCALENDAR
