BEGIN:VCALENDAR
VERSION:2.0
PRODID:-//QuickScores.com//BQ Dynamic iCal Creator//EN
METHOD:PUBLISH
X-WR-CALNAME:WEST SHOCK - 2019 Fall Brunswick County Junior Varsity Youth Soccer - Fall 2019
X-WR-CALDESC:QuickScores game calendar
X-PUBLISHED-TTL:PT24H
REFRESH-INTERVAL;VALUE=DURATION:PT24H
CALSCALE:GREGORIAN
BEGIN:VTIMEZONE
TZID:America/New_York
X-LIC-LOCATION:America/New_York
BEGIN:DAYLIGHT
TZNAME:EDT
TZOFFSETFROM:-0500
TZOFFSETTO:-0400
DTSTART:19700308T020000
RRULE:FREQ=YEARLY;BYMONTH=3;BYDAY=2SU
END:DAYLIGHT
BEGIN:STANDARD
TZNAME:EST
TZOFFSETFROM:-0400
TZOFFSETTO:-0500
DTSTART:19701101T020000
RRULE:FREQ=YEARLY;BYMONTH=11;BYDAY=1SU
END:STANDARD
END:VTIMEZONE
BEGIN:VEVENT
UID:bcparks-44170477-20190921T133000@quickscores.com
DTSTAMP:20260425T121700Z
DTSTART;TZID=America/New_York:20190921T133000
DURATION:PT1H0M0S
SUMMARY:SOUTH SILVERBACKS vs. WEST SHOCK
DESCRIPTION:2019 Fall Brunswick County Junior Varsity Youth Soccer - Brunswick County Parks & Recreation
LOCATION:SMITHVILLE PARK J.V. #1
CATEGORIES:QuickScores, Soccer - Youth Game
TRANSP:OPAQUE
BEGIN:VALARM
TRIGGER:-PT2H
ACTION:DISPLAY
DESCRIPTION:SOUTH SILVERBACKS vs. WEST SHOCK
END:VALARM
END:VEVENT
BEGIN:VEVENT
UID:bcparks-44170481-20190928T120000@quickscores.com
DTSTAMP:20260425T121700Z
DTSTART;TZID=America/New_York:20190928T120000
DURATION:PT1H0M0S
SUMMARY:WEST SHOCK vs. NORTH ARMADA
DESCRIPTION:2019 Fall Brunswick County Junior Varsity Youth Soccer - Brunswick County Parks & Recreation
LOCATION:O.I.B. PARK J.V. #1
CATEGORIES:QuickScores, Soccer - Youth Game
TRANSP:OPAQUE
BEGIN:VALARM
TRIGGER:-PT2H
ACTION:DISPLAY
DESCRIPTION:WEST SHOCK vs. NORTH ARMADA
END:VALARM
END:VEVENT
BEGIN:VEVENT
UID:bcparks-44170484-20191005T121500@quickscores.com
DTSTAMP:20260425T121700Z
DTSTART;TZID=America/New_York:20191005T121500
DURATION:PT1H0M0S
SUMMARY:NORTH DRAGONS vs. WEST SHOCK
DESCRIPTION:2019 Fall Brunswick County Junior Varsity Youth Soccer - Brunswick County Parks & Recreation
LOCATION:NORTHWEST PARK J.V. #1
CATEGORIES:QuickScores, Soccer - Youth Game
TRANSP:OPAQUE
BEGIN:VALARM
TRIGGER:-PT2H
ACTION:DISPLAY
DESCRIPTION:NORTH DRAGONS vs. WEST SHOCK
END:VALARM
END:VEVENT
BEGIN:VEVENT
UID:bcparks-44170488-20191012T121500@quickscores.com
DTSTAMP:20260425T121700Z
DTSTART;TZID=America/New_York:20191012T121500
DURATION:PT1H0M0S
SUMMARY:NORTH STORM vs. WEST SHOCK
DESCRIPTION:2019 Fall Brunswick County Junior Varsity Youth Soccer - Brunswick County Parks & Recreation
LOCATION:NORTHWEST PARK J.V. #1
CATEGORIES:QuickScores, Soccer - Youth Game
TRANSP:OPAQUE
BEGIN:VALARM
TRIGGER:-PT2H
ACTION:DISPLAY
DESCRIPTION:NORTH STORM vs. WEST SHOCK
END:VALARM
END:VEVENT
BEGIN:VEVENT
UID:bcparks-44170491-20191019T120000@quickscores.com
DTSTAMP:20260425T121700Z
DTSTART;TZID=America/New_York:20191019T120000
DURATION:PT1H0M0S
SUMMARY:WEST MONARCHS vs. WEST SHOCK
DESCRIPTION:2019 Fall Brunswick County Junior Varsity Youth Soccer - Brunswick County Parks & Recreation
LOCATION:O.I.B. PARK J.V. #1
CATEGORIES:QuickScores, Soccer - Youth Game
TRANSP:OPAQUE
BEGIN:VALARM
TRIGGER:-PT2H
ACTION:DISPLAY
DESCRIPTION:WEST MONARCHS vs. WEST SHOCK
END:VALARM
END:VEVENT
BEGIN:VEVENT
UID:bcparks-44170495-20191026T120000@quickscores.com
DTSTAMP:20260425T121700Z
DTSTART;TZID=America/New_York:20191026T120000
DURATION:PT1H0M0S
SUMMARY:WEST SHOCK vs. SOUTH GALAXY
DESCRIPTION:2019 Fall Brunswick County Junior Varsity Youth Soccer - Brunswick County Parks & Recreation
LOCATION:O.I.B. PARK J.V. #1
CATEGORIES:QuickScores, Soccer - Youth Game
TRANSP:OPAQUE
BEGIN:VALARM
TRIGGER:-PT2H
ACTION:DISPLAY
DESCRIPTION:WEST SHOCK vs. SOUTH GALAXY
END:VALARM
END:VEVENT
BEGIN:VEVENT
UID:bcparks-44170498-20191102T120000@quickscores.com
DTSTAMP:20260425T121700Z
DTSTART;TZID=America/New_York:20191102T120000
DURATION:PT1H0M0S
SUMMARY:WEST SHOCK vs. SOUTH STARS
DESCRIPTION:2019 Fall Brunswick County Junior Varsity Youth Soccer - Brunswick County Parks & Recreation
LOCATION:O.I.B. PARK J.V. #1
CATEGORIES:QuickScores, Soccer - Youth Game
TRANSP:OPAQUE
BEGIN:VALARM
TRIGGER:-PT2H
ACTION:DISPLAY
DESCRIPTION:WEST SHOCK vs. SOUTH STARS
END:VALARM
END:VEVENT
END:VCALENDAR
