BEGIN:VCALENDAR
VERSION:2.0
PRODID:-//QuickScores.com//BQ Dynamic iCal Creator//EN
METHOD:PUBLISH
X-WR-CALNAME:SOUTH UNITED - 2019 Fall Brunswick County South Rookie Youth Soccer - Fall 2019
X-WR-CALDESC:QuickScores game calendar
X-PUBLISHED-TTL:PT24H
REFRESH-INTERVAL;VALUE=DURATION:PT24H
CALSCALE:GREGORIAN
BEGIN:VTIMEZONE
TZID:America/New_York
X-LIC-LOCATION:America/New_York
BEGIN:DAYLIGHT
TZNAME:EDT
TZOFFSETFROM:-0500
TZOFFSETTO:-0400
DTSTART:19700308T020000
RRULE:FREQ=YEARLY;BYMONTH=3;BYDAY=2SU
END:DAYLIGHT
BEGIN:STANDARD
TZNAME:EST
TZOFFSETFROM:-0400
TZOFFSETTO:-0500
DTSTART:19701101T020000
RRULE:FREQ=YEARLY;BYMONTH=11;BYDAY=1SU
END:STANDARD
END:VTIMEZONE
BEGIN:VEVENT
UID:bcparks-44170305-20190921T100000@quickscores.com
DTSTAMP:20260425T175300Z
DTSTART;TZID=America/New_York:20190921T100000
DURATION:PT1H0M0S
SUMMARY:SOUTH BLIZZARD vs. SOUTH UNITED
DESCRIPTION:2019 Fall Brunswick County South Rookie Youth Soccer - Brunswick County Parks & Recreation
LOCATION:SMITHVILLE PARK ROOKIE FIELD #1
CATEGORIES:QuickScores, Soccer - Youth Game
TRANSP:OPAQUE
BEGIN:VALARM
TRIGGER:-PT2H
ACTION:DISPLAY
DESCRIPTION:SOUTH BLIZZARD vs. SOUTH UNITED
END:VALARM
END:VEVENT
BEGIN:VEVENT
UID:bcparks-44170309-20190928T100000@quickscores.com
DTSTAMP:20260425T175300Z
DTSTART;TZID=America/New_York:20190928T100000
DURATION:PT1H0M0S
SUMMARY:SOUTH SPARTANS vs. SOUTH UNITED
DESCRIPTION:2019 Fall Brunswick County South Rookie Youth Soccer - Brunswick County Parks & Recreation
LOCATION:SMITHVILLE PARK ROOKIE FIELD #1
CATEGORIES:QuickScores, Soccer - Youth Game
TRANSP:OPAQUE
BEGIN:VALARM
TRIGGER:-PT2H
ACTION:DISPLAY
DESCRIPTION:SOUTH SPARTANS vs. SOUTH UNITED
END:VALARM
END:VEVENT
BEGIN:VEVENT
UID:bcparks-44170310-20190928T110000@quickscores.com
DTSTAMP:20260425T175300Z
DTSTART;TZID=America/New_York:20190928T110000
DURATION:PT1H0M0S
SUMMARY:SOUTH BLIZZARD vs. SOUTH UNITED
DESCRIPTION:2019 Fall Brunswick County South Rookie Youth Soccer - Brunswick County Parks & Recreation
LOCATION:SMITHVILLE PARK ROOKIE FIELD #2
CATEGORIES:QuickScores, Soccer - Youth Game
TRANSP:OPAQUE
BEGIN:VALARM
TRIGGER:-PT2H
ACTION:DISPLAY
DESCRIPTION:SOUTH BLIZZARD vs. SOUTH UNITED
END:VALARM
END:VEVENT
BEGIN:VEVENT
UID:bcparks-44170315-20191012T110000@quickscores.com
DTSTAMP:20260425T175300Z
DTSTART;TZID=America/New_York:20191012T110000
DURATION:PT1H0M0S
SUMMARY:SOUTH UNITED vs. SOUTH SKYHAWKS
DESCRIPTION:2019 Fall Brunswick County South Rookie Youth Soccer - Brunswick County Parks & Recreation
LOCATION:SMITHVILLE PARK ROOKIE FIELD #1
CATEGORIES:QuickScores, Soccer - Youth Game
TRANSP:OPAQUE
BEGIN:VALARM
TRIGGER:-PT2H
ACTION:DISPLAY
DESCRIPTION:SOUTH UNITED vs. SOUTH SKYHAWKS
END:VALARM
END:VEVENT
BEGIN:VEVENT
UID:bcparks-44170317-20191019T090000@quickscores.com
DTSTAMP:20260425T175300Z
DTSTART;TZID=America/New_York:20191019T090000
DURATION:PT1H0M0S
SUMMARY:SOUTH UNITED vs. SOUTH STRIKERS
DESCRIPTION:2019 Fall Brunswick County South Rookie Youth Soccer - Brunswick County Parks & Recreation
LOCATION:SMITHVILLE PARK ROOKIE FIELD #1
CATEGORIES:QuickScores, Soccer - Youth Game
TRANSP:OPAQUE
BEGIN:VALARM
TRIGGER:-PT2H
ACTION:DISPLAY
DESCRIPTION:SOUTH UNITED vs. SOUTH STRIKERS
END:VALARM
END:VEVENT
BEGIN:VEVENT
UID:bcparks-44170322-20191026T110000@quickscores.com
DTSTAMP:20260425T175300Z
DTSTART;TZID=America/New_York:20191026T110000
DURATION:PT1H0M0S
SUMMARY:SOUTH UNITED vs. SOUTH STRIKERS
DESCRIPTION:2019 Fall Brunswick County South Rookie Youth Soccer - Brunswick County Parks & Recreation
LOCATION:SMITHVILLE PARK ROOKIE FIELD #2
CATEGORIES:QuickScores, Soccer - Youth Game
TRANSP:OPAQUE
BEGIN:VALARM
TRIGGER:-PT2H
ACTION:DISPLAY
DESCRIPTION:SOUTH UNITED vs. SOUTH STRIKERS
END:VALARM
END:VEVENT
BEGIN:VEVENT
UID:bcparks-44170324-20191102T100000@quickscores.com
DTSTAMP:20260425T175300Z
DTSTART;TZID=America/New_York:20191102T100000
DURATION:PT1H0M0S
SUMMARY:SOUTH UNITED vs. SOUTH SKYHAWKS
DESCRIPTION:2019 Fall Brunswick County South Rookie Youth Soccer - Brunswick County Parks & Recreation
LOCATION:SMITHVILLE PARK ROOKIE FIELD #1
CATEGORIES:QuickScores, Soccer - Youth Game
TRANSP:OPAQUE
BEGIN:VALARM
TRIGGER:-PT2H
ACTION:DISPLAY
DESCRIPTION:SOUTH UNITED vs. SOUTH SKYHAWKS
END:VALARM
END:VEVENT
END:VCALENDAR
