BEGIN:VCALENDAR
VERSION:2.0
PRODID:-//QuickScores.com//BQ Dynamic iCal Creator//EN
METHOD:PUBLISH
X-WR-CALNAME:SOUTH RAMPAGE - South Lil&#039; Kicks Spring Soccer (pre-k & Kindergarten) - 2019 SPRING SOCCER
X-WR-CALDESC:QuickScores game calendar
X-PUBLISHED-TTL:PT24H
REFRESH-INTERVAL;VALUE=DURATION:PT24H
CALSCALE:GREGORIAN
BEGIN:VTIMEZONE
TZID:America/New_York
X-LIC-LOCATION:America/New_York
BEGIN:DAYLIGHT
TZNAME:EDT
TZOFFSETFROM:-0500
TZOFFSETTO:-0400
DTSTART:19700308T020000
RRULE:FREQ=YEARLY;BYMONTH=3;BYDAY=2SU
END:DAYLIGHT
BEGIN:STANDARD
TZNAME:EST
TZOFFSETFROM:-0400
TZOFFSETTO:-0500
DTSTART:19701101T020000
RRULE:FREQ=YEARLY;BYMONTH=11;BYDAY=1SU
END:STANDARD
END:VTIMEZONE
BEGIN:VEVENT
UID:bcparks-41509693-20190406T090000@quickscores.com
DTSTAMP:20260422T180200Z
DTSTART;TZID=America/New_York:20190406T090000
DURATION:PT1H0M0S
SUMMARY:SOUTH RAMPAGE vs. SOUTH PIRATES
DESCRIPTION:South Lil' Kicks Spring Soccer (pre-k & Kindergarten) - Brunswick County Parks & Recreation
LOCATION:SMITHVILLE PARK - LIL' KICKS 2
CATEGORIES:QuickScores, Soccer - Youth Game
TRANSP:OPAQUE
BEGIN:VALARM
TRIGGER:-PT2H
ACTION:DISPLAY
DESCRIPTION:SOUTH RAMPAGE vs. SOUTH PIRATES
END:VALARM
END:VEVENT
BEGIN:VEVENT
UID:bcparks-41509695-20190413T090000@quickscores.com
DTSTAMP:20260422T180200Z
DTSTART;TZID=America/New_York:20190413T090000
DURATION:PT1H0M0S
SUMMARY:SOUTH RAILHAWKS vs. SOUTH RAMPAGE
DESCRIPTION:South Lil' Kicks Spring Soccer (pre-k & Kindergarten) - Brunswick County Parks & Recreation
LOCATION:SMITHVILLE PARK - LIL' KICKS 1
CATEGORIES:QuickScores, Soccer - Youth Game
TRANSP:OPAQUE
BEGIN:VALARM
TRIGGER:-PT2H
ACTION:DISPLAY
DESCRIPTION:SOUTH RAILHAWKS vs. SOUTH RAMPAGE
END:VALARM
END:VEVENT
BEGIN:VEVENT
UID:bcparks-41509700-20190420T090000@quickscores.com
DTSTAMP:20260422T180200Z
DTSTART;TZID=America/New_York:20190420T090000
DURATION:PT1H0M0S
SUMMARY:SOUTH RAMPAGE vs. SOUTH SKY
DESCRIPTION:South Lil' Kicks Spring Soccer (pre-k & Kindergarten) - Brunswick County Parks & Recreation
LOCATION:SMITHVILLE PARK - LIL' KICKS 2
CATEGORIES:QuickScores, Soccer - Youth Game
TRANSP:OPAQUE
BEGIN:VALARM
TRIGGER:-PT2H
ACTION:DISPLAY
DESCRIPTION:SOUTH RAMPAGE vs. SOUTH SKY
END:VALARM
END:VEVENT
BEGIN:VEVENT
UID:bcparks-41509702-20190427T090000@quickscores.com
DTSTAMP:20260422T180200Z
DTSTART;TZID=America/New_York:20190427T090000
DURATION:PT1H0M0S
SUMMARY:SOUTH REBELLION vs. SOUTH RAMPAGE
DESCRIPTION:South Lil' Kicks Spring Soccer (pre-k & Kindergarten) - Brunswick County Parks & Recreation
LOCATION:SMITHVILLE PARK - LIL' KICKS 1
CATEGORIES:QuickScores, Soccer - Youth Game
TRANSP:OPAQUE
BEGIN:VALARM
TRIGGER:-PT2H
ACTION:DISPLAY
DESCRIPTION:SOUTH REBELLION vs. SOUTH RAMPAGE
END:VALARM
END:VEVENT
BEGIN:VEVENT
UID:bcparks-41509706-20190504T100000@quickscores.com
DTSTAMP:20260422T180200Z
DTSTART;TZID=America/New_York:20190504T100000
DURATION:PT1H0M0S
SUMMARY:SOUTH RAMPAGE vs. SOUTH LIONS
DESCRIPTION:South Lil' Kicks Spring Soccer (pre-k & Kindergarten) - Brunswick County Parks & Recreation
LOCATION:SMITHVILLE PARK - LIL' KICKS 1
CATEGORIES:QuickScores, Soccer - Youth Game
TRANSP:OPAQUE
BEGIN:VALARM
TRIGGER:-PT2H
ACTION:DISPLAY
DESCRIPTION:SOUTH RAMPAGE vs. SOUTH LIONS
END:VALARM
END:VEVENT
BEGIN:VEVENT
UID:bcparks-41509708-20190511T090000@quickscores.com
DTSTAMP:20260422T180200Z
DTSTART;TZID=America/New_York:20190511T090000
DURATION:PT1H0M0S
SUMMARY:SOUTH PIRATES vs. SOUTH RAMPAGE
DESCRIPTION:South Lil' Kicks Spring Soccer (pre-k & Kindergarten) - Brunswick County Parks & Recreation
LOCATION:SMITHVILLE PARK - LIL' KICKS 2
CATEGORIES:QuickScores, Soccer - Youth Game
TRANSP:OPAQUE
BEGIN:VALARM
TRIGGER:-PT2H
ACTION:DISPLAY
DESCRIPTION:SOUTH PIRATES vs. SOUTH RAMPAGE
END:VALARM
END:VEVENT
BEGIN:VEVENT
UID:bcparks-41509710-20190518T090000@quickscores.com
DTSTAMP:20260422T180200Z
DTSTART;TZID=America/New_York:20190518T090000
DURATION:PT1H0M0S
SUMMARY:SOUTH RAMPAGE vs. SOUTH RAILHAWKS
DESCRIPTION:South Lil' Kicks Spring Soccer (pre-k & Kindergarten) - Brunswick County Parks & Recreation
LOCATION:SMITHVILLE PARK - LIL' KICKS 1
CATEGORIES:QuickScores, Soccer - Youth Game
TRANSP:OPAQUE
BEGIN:VALARM
TRIGGER:-PT2H
ACTION:DISPLAY
DESCRIPTION:SOUTH RAMPAGE vs. SOUTH RAILHAWKS
END:VALARM
END:VEVENT
BEGIN:VEVENT
UID:bcparks-41509715-20190525T100000@quickscores.com
DTSTAMP:20260422T180200Z
DTSTART;TZID=America/New_York:20190525T100000
DURATION:PT1H0M0S
SUMMARY:SOUTH SKY vs. SOUTH RAMPAGE
DESCRIPTION:South Lil' Kicks Spring Soccer (pre-k & Kindergarten) - Brunswick County Parks & Recreation
LOCATION:SMITHVILLE PARK - LIL' KICKS 1
CATEGORIES:QuickScores, Soccer - Youth Game
TRANSP:OPAQUE
BEGIN:VALARM
TRIGGER:-PT2H
ACTION:DISPLAY
DESCRIPTION:SOUTH SKY vs. SOUTH RAMPAGE
END:VALARM
END:VEVENT
END:VCALENDAR
