BEGIN:VCALENDAR
VERSION:2.0
PRODID:-//QuickScores.com//BQ Dynamic iCal Creator//EN
METHOD:PUBLISH
X-WR-CALNAME:SOUTH REBELLION - South Lil&#039; Kicks Spring Soccer (pre-k & Kindergarten) - 2019 SPRING SOCCER
X-WR-CALDESC:QuickScores game calendar
X-PUBLISHED-TTL:PT24H
REFRESH-INTERVAL;VALUE=DURATION:PT24H
CALSCALE:GREGORIAN
BEGIN:VTIMEZONE
TZID:America/New_York
X-LIC-LOCATION:America/New_York
BEGIN:DAYLIGHT
TZNAME:EDT
TZOFFSETFROM:-0500
TZOFFSETTO:-0400
DTSTART:19700308T020000
RRULE:FREQ=YEARLY;BYMONTH=3;BYDAY=2SU
END:DAYLIGHT
BEGIN:STANDARD
TZNAME:EST
TZOFFSETFROM:-0400
TZOFFSETTO:-0500
DTSTART:19701101T020000
RRULE:FREQ=YEARLY;BYMONTH=11;BYDAY=1SU
END:STANDARD
END:VTIMEZONE
BEGIN:VEVENT
UID:bcparks-41509694-20190406T090000@quickscores.com
DTSTAMP:20260422T225500Z
DTSTART;TZID=America/New_York:20190406T090000
DURATION:PT1H0M0S
SUMMARY:SOUTH SKY vs. SOUTH REBELLION
DESCRIPTION:South Lil' Kicks Spring Soccer (pre-k & Kindergarten) - Brunswick County Parks & Recreation
LOCATION:SMITHVILLE PARK - LIL' KICKS 1
CATEGORIES:QuickScores, Soccer - Youth Game
TRANSP:OPAQUE
BEGIN:VALARM
TRIGGER:-PT2H
ACTION:DISPLAY
DESCRIPTION:SOUTH SKY vs. SOUTH REBELLION
END:VALARM
END:VEVENT
BEGIN:VEVENT
UID:bcparks-41509697-20190413T100000@quickscores.com
DTSTAMP:20260422T225500Z
DTSTART;TZID=America/New_York:20190413T100000
DURATION:PT1H0M0S
SUMMARY:SOUTH REBELLION vs. SOUTH PIRATES
DESCRIPTION:South Lil' Kicks Spring Soccer (pre-k & Kindergarten) - Brunswick County Parks & Recreation
LOCATION:SMITHVILLE PARK - LIL' KICKS 1
CATEGORIES:QuickScores, Soccer - Youth Game
TRANSP:OPAQUE
BEGIN:VALARM
TRIGGER:-PT2H
ACTION:DISPLAY
DESCRIPTION:SOUTH REBELLION vs. SOUTH PIRATES
END:VALARM
END:VEVENT
BEGIN:VEVENT
UID:bcparks-41509699-20190420T090000@quickscores.com
DTSTAMP:20260422T225500Z
DTSTART;TZID=America/New_York:20190420T090000
DURATION:PT1H0M0S
SUMMARY:SOUTH LIONS vs. SOUTH REBELLION
DESCRIPTION:South Lil' Kicks Spring Soccer (pre-k & Kindergarten) - Brunswick County Parks & Recreation
LOCATION:SMITHVILLE PARK - LIL' KICKS 1
CATEGORIES:QuickScores, Soccer - Youth Game
TRANSP:OPAQUE
BEGIN:VALARM
TRIGGER:-PT2H
ACTION:DISPLAY
DESCRIPTION:SOUTH LIONS vs. SOUTH REBELLION
END:VALARM
END:VEVENT
BEGIN:VEVENT
UID:bcparks-41509702-20190427T090000@quickscores.com
DTSTAMP:20260422T225500Z
DTSTART;TZID=America/New_York:20190427T090000
DURATION:PT1H0M0S
SUMMARY:SOUTH REBELLION vs. SOUTH RAMPAGE
DESCRIPTION:South Lil' Kicks Spring Soccer (pre-k & Kindergarten) - Brunswick County Parks & Recreation
LOCATION:SMITHVILLE PARK - LIL' KICKS 1
CATEGORIES:QuickScores, Soccer - Youth Game
TRANSP:OPAQUE
BEGIN:VALARM
TRIGGER:-PT2H
ACTION:DISPLAY
DESCRIPTION:SOUTH REBELLION vs. SOUTH RAMPAGE
END:VALARM
END:VEVENT
BEGIN:VEVENT
UID:bcparks-41509704-20190504T090000@quickscores.com
DTSTAMP:20260422T225500Z
DTSTART;TZID=America/New_York:20190504T090000
DURATION:PT1H0M0S
SUMMARY:SOUTH RAILHAWKS vs. SOUTH REBELLION
DESCRIPTION:South Lil' Kicks Spring Soccer (pre-k & Kindergarten) - Brunswick County Parks & Recreation
LOCATION:SMITHVILLE PARK - LIL' KICKS 2
CATEGORIES:QuickScores, Soccer - Youth Game
TRANSP:OPAQUE
BEGIN:VALARM
TRIGGER:-PT2H
ACTION:DISPLAY
DESCRIPTION:SOUTH RAILHAWKS vs. SOUTH REBELLION
END:VALARM
END:VEVENT
BEGIN:VEVENT
UID:bcparks-41509709-20190511T100000@quickscores.com
DTSTAMP:20260422T225500Z
DTSTART;TZID=America/New_York:20190511T100000
DURATION:PT1H0M0S
SUMMARY:SOUTH REBELLION vs. SOUTH SKY
DESCRIPTION:South Lil' Kicks Spring Soccer (pre-k & Kindergarten) - Brunswick County Parks & Recreation
LOCATION:SMITHVILLE PARK - LIL' KICKS 1
CATEGORIES:QuickScores, Soccer - Youth Game
TRANSP:OPAQUE
BEGIN:VALARM
TRIGGER:-PT2H
ACTION:DISPLAY
DESCRIPTION:SOUTH REBELLION vs. SOUTH SKY
END:VALARM
END:VEVENT
BEGIN:VEVENT
UID:bcparks-41509712-20190518T090000@quickscores.com
DTSTAMP:20260422T225500Z
DTSTART;TZID=America/New_York:20190518T090000
DURATION:PT1H0M0S
SUMMARY:SOUTH PIRATES vs. SOUTH REBELLION
DESCRIPTION:South Lil' Kicks Spring Soccer (pre-k & Kindergarten) - Brunswick County Parks & Recreation
LOCATION:SMITHVILLE PARK - LIL' KICKS 2
CATEGORIES:QuickScores, Soccer - Youth Game
TRANSP:OPAQUE
BEGIN:VALARM
TRIGGER:-PT2H
ACTION:DISPLAY
DESCRIPTION:SOUTH PIRATES vs. SOUTH REBELLION
END:VALARM
END:VEVENT
BEGIN:VEVENT
UID:bcparks-41509714-20190525T090000@quickscores.com
DTSTAMP:20260422T225500Z
DTSTART;TZID=America/New_York:20190525T090000
DURATION:PT1H0M0S
SUMMARY:SOUTH REBELLION vs. SOUTH LIONS
DESCRIPTION:South Lil' Kicks Spring Soccer (pre-k & Kindergarten) - Brunswick County Parks & Recreation
LOCATION:SMITHVILLE PARK - LIL' KICKS 2
CATEGORIES:QuickScores, Soccer - Youth Game
TRANSP:OPAQUE
BEGIN:VALARM
TRIGGER:-PT2H
ACTION:DISPLAY
DESCRIPTION:SOUTH REBELLION vs. SOUTH LIONS
END:VALARM
END:VEVENT
END:VCALENDAR
