BEGIN:VCALENDAR
VERSION:2.0
PRODID:-//QuickScores.com//BQ Dynamic iCal Creator//EN
METHOD:PUBLISH
X-WR-CALNAME:SOUTH BAYHAWKS - (3rd & 4th Grade) Junior Varsity Girls - Winter 2018-2019
X-WR-CALDESC:QuickScores game calendar
X-PUBLISHED-TTL:PT24H
REFRESH-INTERVAL;VALUE=DURATION:PT24H
CALSCALE:GREGORIAN
BEGIN:VTIMEZONE
TZID:America/New_York
X-LIC-LOCATION:America/New_York
BEGIN:DAYLIGHT
TZNAME:EDT
TZOFFSETFROM:-0500
TZOFFSETTO:-0400
DTSTART:19700308T020000
RRULE:FREQ=YEARLY;BYMONTH=3;BYDAY=2SU
END:DAYLIGHT
BEGIN:STANDARD
TZNAME:EST
TZOFFSETFROM:-0400
TZOFFSETTO:-0500
DTSTART:19701101T020000
RRULE:FREQ=YEARLY;BYMONTH=11;BYDAY=1SU
END:STANDARD
END:VTIMEZONE
BEGIN:VEVENT
UID:bcparks-40426840-20190112T130000@quickscores.com
DTSTAMP:20260423T153600Z
DTSTART;TZID=America/New_York:20190112T130000
DURATION:PT1H0M0S
SUMMARY:NORTH ENERGY vs. SOUTH BAYHAWKS
DESCRIPTION:(3rd & 4th Grade) Junior Varsity Girls - Brunswick County Parks & Recreation
LOCATION:LELAND MIDDLE SCHOOL
CATEGORIES:QuickScores, Basketball - Youth Game
TRANSP:OPAQUE
BEGIN:VALARM
TRIGGER:-PT2H
ACTION:DISPLAY
DESCRIPTION:NORTH ENERGY vs. SOUTH BAYHAWKS
END:VALARM
END:VEVENT
BEGIN:VEVENT
UID:bcparks-40426844-20190126T110000@quickscores.com
DTSTAMP:20260423T153600Z
DTSTART;TZID=America/New_York:20190126T110000
DURATION:PT1H0M0S
SUMMARY:WEST MERCURY vs. SOUTH BAYHAWKS
DESCRIPTION:(3rd & 4th Grade) Junior Varsity Girls - Brunswick County Parks & Recreation
LOCATION:SOUTH BRUNSWICK MIDDLE SCHOOL
CATEGORIES:QuickScores, Basketball - Youth Game
TRANSP:OPAQUE
BEGIN:VALARM
TRIGGER:-PT2H
ACTION:DISPLAY
DESCRIPTION:WEST MERCURY vs. SOUTH BAYHAWKS
END:VALARM
END:VEVENT
BEGIN:VEVENT
UID:bcparks-40426846-20190202T130000@quickscores.com
DTSTAMP:20260423T153600Z
DTSTART;TZID=America/New_York:20190202T130000
DURATION:PT1H0M0S
SUMMARY:SOUTH BAYHAWKS vs. NORTH ENERGY
DESCRIPTION:FORFEIT --- (3rd & 4th Grade) Junior Varsity Girls - Brunswick County Parks & Recreation
LOCATION:SOUTH BRUNSWICK MIDDLE SCHOOL
CATEGORIES:QuickScores, Basketball - Youth Game
TRANSP:OPAQUE
BEGIN:VALARM
TRIGGER:-PT2H
ACTION:DISPLAY
DESCRIPTION:SOUTH BAYHAWKS vs. NORTH ENERGY
END:VALARM
END:VEVENT
BEGIN:VEVENT
UID:bcparks-40426847-20190202T140000@quickscores.com
DTSTAMP:20260423T153600Z
DTSTART;TZID=America/New_York:20190202T140000
DURATION:PT1H0M0S
SUMMARY:NORTH ENERGY vs. SOUTH BAYHAWKS
DESCRIPTION:FORFEIT --- (3rd & 4th Grade) Junior Varsity Girls - Brunswick County Parks & Recreation
LOCATION:SOUTH BRUNSWICK MIDDLE SCHOOL
CATEGORIES:QuickScores, Basketball - Youth Game
TRANSP:OPAQUE
BEGIN:VALARM
TRIGGER:-PT2H
ACTION:DISPLAY
DESCRIPTION:NORTH ENERGY vs. SOUTH BAYHAWKS
END:VALARM
END:VEVENT
BEGIN:VEVENT
UID:bcparks-40426848-20190209T110000@quickscores.com
DTSTAMP:20260423T153600Z
DTSTART;TZID=America/New_York:20190209T110000
DURATION:PT1H0M0S
SUMMARY:SOUTH BAYHAWKS vs. WEST MERCURY
DESCRIPTION:(3rd & 4th Grade) Junior Varsity Girls - Brunswick County Parks & Recreation
LOCATION:SOUTH BRUNSWICK MIDDLE SCHOOL
CATEGORIES:QuickScores, Basketball - Youth Game
TRANSP:OPAQUE
BEGIN:VALARM
TRIGGER:-PT2H
ACTION:DISPLAY
DESCRIPTION:SOUTH BAYHAWKS vs. WEST MERCURY
END:VALARM
END:VEVENT
BEGIN:VEVENT
UID:bcparks-40426852-20190223T130000@quickscores.com
DTSTAMP:20260423T153600Z
DTSTART;TZID=America/New_York:20190223T130000
DURATION:PT1H0M0S
SUMMARY:SOUTH BAYHAWKS vs. NORTH ENERGY
DESCRIPTION:(3rd & 4th Grade) Junior Varsity Girls - Brunswick County Parks & Recreation
LOCATION:LELAND MIDDLE SCHOOL
CATEGORIES:QuickScores, Basketball - Youth Game
TRANSP:OPAQUE
BEGIN:VALARM
TRIGGER:-PT2H
ACTION:DISPLAY
DESCRIPTION:SOUTH BAYHAWKS vs. NORTH ENERGY
END:VALARM
END:VEVENT
BEGIN:VEVENT
UID:bcparks-40426854-20190302T100000@quickscores.com
DTSTAMP:20260423T153600Z
DTSTART;TZID=America/New_York:20190302T100000
DURATION:PT1H0M0S
SUMMARY:WEST MERCURY vs. SOUTH BAYHAWKS
DESCRIPTION:(3rd & 4th Grade) Junior Varsity Girls - Brunswick County Parks & Recreation
LOCATION:CEDAR GROVE MIDDLE SCHOOL
CATEGORIES:QuickScores, Basketball - Youth Game
TRANSP:OPAQUE
BEGIN:VALARM
TRIGGER:-PT2H
ACTION:DISPLAY
DESCRIPTION:WEST MERCURY vs. SOUTH BAYHAWKS
END:VALARM
END:VEVENT
BEGIN:VEVENT
UID:bcparks-40426855-20190302T110000@quickscores.com
DTSTAMP:20260423T153600Z
DTSTART;TZID=America/New_York:20190302T110000
DURATION:PT1H0M0S
SUMMARY:SOUTH BAYHAWKS vs. WEST MERCURY
DESCRIPTION:(3rd & 4th Grade) Junior Varsity Girls - Brunswick County Parks & Recreation
LOCATION:CEDAR GROVE MIDDLE SCHOOL
CATEGORIES:QuickScores, Basketball - Youth Game
TRANSP:OPAQUE
BEGIN:VALARM
TRIGGER:-PT2H
ACTION:DISPLAY
DESCRIPTION:SOUTH BAYHAWKS vs. WEST MERCURY
END:VALARM
END:VEVENT
END:VCALENDAR
