BEGIN:VCALENDAR
VERSION:2.0
PRODID:-//QuickScores.com//BQ Dynamic iCal Creator//EN
METHOD:PUBLISH
X-WR-CALNAME:WEST CREW - Varsity (5th & 6th Grade) - FALL 2018
X-WR-CALDESC:QuickScores game calendar
X-PUBLISHED-TTL:PT24H
REFRESH-INTERVAL;VALUE=DURATION:PT24H
CALSCALE:GREGORIAN
BEGIN:VTIMEZONE
TZID:America/New_York
X-LIC-LOCATION:America/New_York
BEGIN:DAYLIGHT
TZNAME:EDT
TZOFFSETFROM:-0500
TZOFFSETTO:-0400
DTSTART:19700308T020000
RRULE:FREQ=YEARLY;BYMONTH=3;BYDAY=2SU
END:DAYLIGHT
BEGIN:STANDARD
TZNAME:EST
TZOFFSETFROM:-0400
TZOFFSETTO:-0500
DTSTART:19701101T020000
RRULE:FREQ=YEARLY;BYMONTH=11;BYDAY=1SU
END:STANDARD
END:VTIMEZONE
BEGIN:VEVENT
UID:bcparks-39204306-20181006T121500@quickscores.com
DTSTAMP:20260424T114600Z
DTSTART;TZID=America/New_York:20181006T121500
DURATION:PT1H0M0S
SUMMARY:WEST PRIDE vs. WEST CREW
DESCRIPTION:PPD --- Varsity (5th & 6th Grade) - Brunswick County Parks & Recreation
LOCATION:SHALLOTTE PARK VARSITY #2
CATEGORIES:QuickScores, Soccer - Youth Game
TRANSP:OPAQUE
BEGIN:VALARM
TRIGGER:-PT2H
ACTION:DISPLAY
DESCRIPTION:WEST PRIDE vs. WEST CREW
END:VALARM
END:VEVENT
BEGIN:VEVENT
UID:bcparks-39204307-20181013T133000@quickscores.com
DTSTAMP:20260424T114600Z
DTSTART;TZID=America/New_York:20181013T133000
DURATION:PT1H0M0S
SUMMARY:WEST CREW vs. NORTH DYNAMO
DESCRIPTION:Varsity (5th & 6th Grade) - Brunswick County Parks & Recreation
LOCATION:SMITHVILLE PARK
CATEGORIES:QuickScores, Soccer - Youth Game
TRANSP:OPAQUE
BEGIN:VALARM
TRIGGER:-PT2H
ACTION:DISPLAY
DESCRIPTION:WEST CREW vs. NORTH DYNAMO
END:VALARM
END:VEVENT
BEGIN:VEVENT
UID:bcparks-39204312-20181020T133000@quickscores.com
DTSTAMP:20260424T114600Z
DTSTART;TZID=America/New_York:20181020T133000
DURATION:PT1H0M0S
SUMMARY:WEST CREW vs. SOUTH WARRIORS
DESCRIPTION:Varsity (5th & 6th Grade) - Brunswick County Parks & Recreation
LOCATION:SMITHVILLE PARK
CATEGORIES:QuickScores, Soccer - Youth Game
TRANSP:OPAQUE
BEGIN:VALARM
TRIGGER:-PT2H
ACTION:DISPLAY
DESCRIPTION:WEST CREW vs. SOUTH WARRIORS
END:VALARM
END:VEVENT
BEGIN:VEVENT
UID:bcparks-39204313-20181027T110000@quickscores.com
DTSTAMP:20260424T114600Z
DTSTART;TZID=America/New_York:20181027T110000
DURATION:PT1H0M0S
SUMMARY:NORTH DYNAMO vs. WEST CREW
DESCRIPTION:Varsity (5th & 6th Grade) - Brunswick County Parks & Recreation
LOCATION:SHALLOTTE PARK VARSITY #1
CATEGORIES:QuickScores, Soccer - Youth Game
TRANSP:OPAQUE
BEGIN:VALARM
TRIGGER:-PT2H
ACTION:DISPLAY
DESCRIPTION:NORTH DYNAMO vs. WEST CREW
END:VALARM
END:VEVENT
BEGIN:VEVENT
UID:bcparks-39204315-20181027T121500@quickscores.com
DTSTAMP:20260424T114600Z
DTSTART;TZID=America/New_York:20181027T121500
DURATION:PT1H0M0S
SUMMARY:SOUTH WARRIORS vs. WEST CREW
DESCRIPTION:Varsity (5th & 6th Grade) - Brunswick County Parks & Recreation
LOCATION:SHALLOTTE PARK VARSITY #2
CATEGORIES:QuickScores, Soccer - Youth Game
TRANSP:OPAQUE
BEGIN:VALARM
TRIGGER:-PT2H
ACTION:DISPLAY
DESCRIPTION:SOUTH WARRIORS vs. WEST CREW
END:VALARM
END:VEVENT
BEGIN:VEVENT
UID:bcparks-39204316-20181103T133000@quickscores.com
DTSTAMP:20260424T114600Z
DTSTART;TZID=America/New_York:20181103T133000
DURATION:PT1H0M0S
SUMMARY:WEST CREW vs. NORTH MUTINY
DESCRIPTION:Varsity (5th & 6th Grade) - Brunswick County Parks & Recreation
LOCATION:SMITHVILLE PARK
CATEGORIES:QuickScores, Soccer - Youth Game
TRANSP:OPAQUE
BEGIN:VALARM
TRIGGER:-PT2H
ACTION:DISPLAY
DESCRIPTION:WEST CREW vs. NORTH MUTINY
END:VALARM
END:VEVENT
BEGIN:VEVENT
UID:bcparks-39204320-20181110T121500@quickscores.com
DTSTAMP:20260424T114600Z
DTSTART;TZID=America/New_York:20181110T121500
DURATION:PT1H0M0S
SUMMARY:WEST CREW vs. WEST PRIDE
DESCRIPTION:Varsity (5th & 6th Grade) - Brunswick County Parks & Recreation
LOCATION:SHALLOTTE PARK VARSITY #2
CATEGORIES:QuickScores, Soccer - Youth Game
TRANSP:OPAQUE
BEGIN:VALARM
TRIGGER:-PT2H
ACTION:DISPLAY
DESCRIPTION:WEST CREW vs. WEST PRIDE
END:VALARM
END:VEVENT
END:VCALENDAR
