BEGIN:VCALENDAR
VERSION:2.0
PRODID:-//QuickScores.com//BQ Dynamic iCal Creator//EN
METHOD:PUBLISH
X-WR-CALNAME:SOUTH SPARTANS - South Rookies (1st & 2nd Grade) - FALL 2018
X-WR-CALDESC:QuickScores game calendar
X-PUBLISHED-TTL:PT24H
REFRESH-INTERVAL;VALUE=DURATION:PT24H
CALSCALE:GREGORIAN
BEGIN:VTIMEZONE
TZID:America/New_York
X-LIC-LOCATION:America/New_York
BEGIN:DAYLIGHT
TZNAME:EDT
TZOFFSETFROM:-0500
TZOFFSETTO:-0400
DTSTART:19700308T020000
RRULE:FREQ=YEARLY;BYMONTH=3;BYDAY=2SU
END:DAYLIGHT
BEGIN:STANDARD
TZNAME:EST
TZOFFSETFROM:-0400
TZOFFSETTO:-0500
DTSTART:19701101T020000
RRULE:FREQ=YEARLY;BYMONTH=11;BYDAY=1SU
END:STANDARD
END:VTIMEZONE
BEGIN:VEVENT
UID:bcparks-39201455-20181006T100000@quickscores.com
DTSTAMP:20260424T204200Z
DTSTART;TZID=America/New_York:20181006T100000
DURATION:PT1H0M0S
SUMMARY:SOUTH SPARTANS vs. SOUTH UNITED
DESCRIPTION:South Rookies (1st & 2nd Grade) - Brunswick County Parks & Recreation
LOCATION:SMITHVILLE PARK ROOKIE FIELD #2
CATEGORIES:QuickScores, Soccer - Youth Game
TRANSP:OPAQUE
BEGIN:VALARM
TRIGGER:-PT2H
ACTION:DISPLAY
DESCRIPTION:SOUTH SPARTANS vs. SOUTH UNITED
END:VALARM
END:VEVENT
BEGIN:VEVENT
UID:bcparks-39201457-20181013T100000@quickscores.com
DTSTAMP:20260424T204200Z
DTSTART;TZID=America/New_York:20181013T100000
DURATION:PT1H0M0S
SUMMARY:SOUTH SPARTANS vs. SOUTH SKYHAWKS
DESCRIPTION:South Rookies (1st & 2nd Grade) - Brunswick County Parks & Recreation
LOCATION:SMITHVILLE PARK ROOKIE FIELD #2
CATEGORIES:QuickScores, Soccer - Youth Game
TRANSP:OPAQUE
BEGIN:VALARM
TRIGGER:-PT2H
ACTION:DISPLAY
DESCRIPTION:SOUTH SPARTANS vs. SOUTH SKYHAWKS
END:VALARM
END:VEVENT
BEGIN:VEVENT
UID:bcparks-39201459-20181020T100000@quickscores.com
DTSTAMP:20260424T204200Z
DTSTART;TZID=America/New_York:20181020T100000
DURATION:PT1H0M0S
SUMMARY:SOUTH SPARTANS vs. SOUTH STRIKERS
DESCRIPTION:South Rookies (1st & 2nd Grade) - Brunswick County Parks & Recreation
LOCATION:SMITHVILLE PARK ROOKIE FIELD #2
CATEGORIES:QuickScores, Soccer - Youth Game
TRANSP:OPAQUE
BEGIN:VALARM
TRIGGER:-PT2H
ACTION:DISPLAY
DESCRIPTION:SOUTH SPARTANS vs. SOUTH STRIKERS
END:VALARM
END:VEVENT
BEGIN:VEVENT
UID:bcparks-39201461-20181027T100000@quickscores.com
DTSTAMP:20260424T204200Z
DTSTART;TZID=America/New_York:20181027T100000
DURATION:PT1H0M0S
SUMMARY:SOUTH UNITED vs. SOUTH SPARTANS
DESCRIPTION:South Rookies (1st & 2nd Grade) - Brunswick County Parks & Recreation
LOCATION:SMITHVILLE PARK ROOKIE FIELD #1
CATEGORIES:QuickScores, Soccer - Youth Game
TRANSP:OPAQUE
BEGIN:VALARM
TRIGGER:-PT2H
ACTION:DISPLAY
DESCRIPTION:SOUTH UNITED vs. SOUTH SPARTANS
END:VALARM
END:VEVENT
BEGIN:VEVENT
UID:bcparks-39201463-20181103T100000@quickscores.com
DTSTAMP:20260424T204200Z
DTSTART;TZID=America/New_York:20181103T100000
DURATION:PT1H0M0S
SUMMARY:SOUTH SKYHAWKS vs. SOUTH SPARTANS
DESCRIPTION:South Rookies (1st & 2nd Grade) - Brunswick County Parks & Recreation
LOCATION:SMITHVILLE PARK ROOKIE FIELD #2
CATEGORIES:QuickScores, Soccer - Youth Game
TRANSP:OPAQUE
BEGIN:VALARM
TRIGGER:-PT2H
ACTION:DISPLAY
DESCRIPTION:SOUTH SKYHAWKS vs. SOUTH SPARTANS
END:VALARM
END:VEVENT
BEGIN:VEVENT
UID:bcparks-39201465-20181110T100000@quickscores.com
DTSTAMP:20260424T204200Z
DTSTART;TZID=America/New_York:20181110T100000
DURATION:PT1H0M0S
SUMMARY:SOUTH STRIKERS vs. SOUTH SPARTANS
DESCRIPTION:South Rookies (1st & 2nd Grade) - Brunswick County Parks & Recreation
LOCATION:SMITHVILLE PARK ROOKIE FIELD #1
CATEGORIES:QuickScores, Soccer - Youth Game
TRANSP:OPAQUE
BEGIN:VALARM
TRIGGER:-PT2H
ACTION:DISPLAY
DESCRIPTION:SOUTH STRIKERS vs. SOUTH SPARTANS
END:VALARM
END:VEVENT
BEGIN:VEVENT
UID:bcparks-39201467-20181117T100000@quickscores.com
DTSTAMP:20260424T204200Z
DTSTART;TZID=America/New_York:20181117T100000
DURATION:PT1H0M0S
SUMMARY:SOUTH UNITED vs. SOUTH SPARTANS
DESCRIPTION:South Rookies (1st & 2nd Grade) - Brunswick County Parks & Recreation
LOCATION:SMITHVILLE PARK ROOKIE FIELD #1
CATEGORIES:QuickScores, Soccer - Youth Game
TRANSP:OPAQUE
BEGIN:VALARM
TRIGGER:-PT2H
ACTION:DISPLAY
DESCRIPTION:SOUTH UNITED vs. SOUTH SPARTANS
END:VALARM
END:VEVENT
END:VCALENDAR
