BEGIN:VCALENDAR
VERSION:2.0
PRODID:-//QuickScores.com//BQ Dynamic iCal Creator//EN
METHOD:PUBLISH
X-WR-CALNAME:WEST COMETS - Central - West J.v. Boys [3rd-4th Grade] - Spring 2026
X-WR-CALDESC:QuickScores game calendar
X-PUBLISHED-TTL:PT24H
REFRESH-INTERVAL;VALUE=DURATION:PT24H
CALSCALE:GREGORIAN
BEGIN:VTIMEZONE
TZID:America/New_York
X-LIC-LOCATION:America/New_York
BEGIN:DAYLIGHT
TZNAME:EDT
TZOFFSETFROM:-0500
TZOFFSETTO:-0400
DTSTART:19700308T020000
RRULE:FREQ=YEARLY;BYMONTH=3;BYDAY=2SU
END:DAYLIGHT
BEGIN:STANDARD
TZNAME:EST
TZOFFSETFROM:-0400
TZOFFSETTO:-0500
DTSTART:19701101T020000
RRULE:FREQ=YEARLY;BYMONTH=11;BYDAY=1SU
END:STANDARD
END:VTIMEZONE
BEGIN:VEVENT
UID:bcparks-74062493-20260411T120000@quickscores.com
DTSTAMP:20260421T235300Z
DTSTART;TZID=America/New_York:20260411T120000
DURATION:PT1H0M0S
SUMMARY:WEST TAR HEELS vs. WEST COMETS
DESCRIPTION:Central - West J.v. Boys [3rd-4th Grade] - Brunswick County Parks & Recreation
LOCATION:CEDAR GROVE J.V. #2
CATEGORIES:QuickScores, Soccer - Youth Game
TRANSP:OPAQUE
BEGIN:VALARM
TRIGGER:-PT2H
ACTION:DISPLAY
DESCRIPTION:WEST TAR HEELS vs. WEST COMETS
END:VALARM
END:VEVENT
BEGIN:VEVENT
UID:bcparks-74062496-20260418T121500@quickscores.com
DTSTAMP:20260421T235300Z
DTSTART;TZID=America/New_York:20260418T121500
DURATION:PT1H0M0S
SUMMARY:WEST COMETS vs. WEST PHOENIX
DESCRIPTION:Central - West J.v. Boys [3rd-4th Grade] - Brunswick County Parks & Recreation
LOCATION:O.I.B. PARK J.V. #2
CATEGORIES:QuickScores, Soccer - Youth Game
TRANSP:OPAQUE
BEGIN:VALARM
TRIGGER:-PT2H
ACTION:DISPLAY
DESCRIPTION:WEST COMETS vs. WEST PHOENIX
END:VALARM
END:VEVENT
BEGIN:VEVENT
UID:bcparks-74062498-20260425T110000@quickscores.com
DTSTAMP:20260421T235300Z
DTSTART;TZID=America/New_York:20260425T110000
DURATION:PT1H0M0S
SUMMARY:CENTRAL SHOCK vs. WEST COMETS
DESCRIPTION:Central - West J.v. Boys [3rd-4th Grade] - Brunswick County Parks & Recreation
LOCATION:O.I.B. PARK J.V. #2
CATEGORIES:QuickScores, Soccer - Youth Game
TRANSP:OPAQUE
BEGIN:VALARM
TRIGGER:-PT2H
ACTION:DISPLAY
DESCRIPTION:CENTRAL SHOCK vs. WEST COMETS
END:VALARM
END:VEVENT
BEGIN:VEVENT
UID:bcparks-74062503-20260509T100000@quickscores.com
DTSTAMP:20260421T235300Z
DTSTART;TZID=America/New_York:20260509T100000
DURATION:PT1H0M0S
SUMMARY:WEST WOLFPACK vs. WEST COMETS
DESCRIPTION:Central - West J.v. Boys [3rd-4th Grade] - Brunswick County Parks & Recreation
LOCATION:O.I.B. PARK J.V. #1
CATEGORIES:QuickScores, Soccer - Youth Game
TRANSP:OPAQUE
BEGIN:VALARM
TRIGGER:-PT2H
ACTION:DISPLAY
DESCRIPTION:WEST WOLFPACK vs. WEST COMETS
END:VALARM
END:VEVENT
BEGIN:VEVENT
UID:bcparks-74062508-20260516T120000@quickscores.com
DTSTAMP:20260421T235300Z
DTSTART;TZID=America/New_York:20260516T120000
DURATION:PT1H0M0S
SUMMARY:WEST COMETS vs. WEST TAR HEELS
DESCRIPTION:Central - West J.v. Boys [3rd-4th Grade] - Brunswick County Parks & Recreation
LOCATION:O.I.B. PARK J.V. #2
CATEGORIES:QuickScores, Soccer - Youth Game
TRANSP:OPAQUE
BEGIN:VALARM
TRIGGER:-PT2H
ACTION:DISPLAY
DESCRIPTION:WEST COMETS vs. WEST TAR HEELS
END:VALARM
END:VEVENT
BEGIN:VEVENT
UID:bcparks-74062511-20260523T100000@quickscores.com
DTSTAMP:20260421T235300Z
DTSTART;TZID=America/New_York:20260523T100000
DURATION:PT1H0M0S
SUMMARY:WEST PHOENIX vs. WEST COMETS
DESCRIPTION:Central - West J.v. Boys [3rd-4th Grade] - Brunswick County Parks & Recreation
LOCATION:O.I.B. PARK J.V. #2
CATEGORIES:QuickScores, Soccer - Youth Game
TRANSP:OPAQUE
BEGIN:VALARM
TRIGGER:-PT2H
ACTION:DISPLAY
DESCRIPTION:WEST PHOENIX vs. WEST COMETS
END:VALARM
END:VEVENT
BEGIN:VEVENT
UID:bcparks-74062513-20260530T110000@quickscores.com
DTSTAMP:20260421T235300Z
DTSTART;TZID=America/New_York:20260530T110000
DURATION:PT1H0M0S
SUMMARY:WEST COMETS vs. CENTRAL SHOCK
DESCRIPTION:Central - West J.v. Boys [3rd-4th Grade] - Brunswick County Parks & Recreation
LOCATION:O.I.B. PARK J.V. #2
CATEGORIES:QuickScores, Soccer - Youth Game
TRANSP:OPAQUE
BEGIN:VALARM
TRIGGER:-PT2H
ACTION:DISPLAY
DESCRIPTION:WEST COMETS vs. CENTRAL SHOCK
END:VALARM
END:VEVENT
END:VCALENDAR
