BEGIN:VCALENDAR
VERSION:2.0
PRODID:-//QuickScores.com//BQ Dynamic iCal Creator//EN
METHOD:PUBLISH
X-WR-CALNAME:WEST BALLERS - Central & West Junior Varsity Division - Winter 2025-2026
X-WR-CALDESC:QuickScores game calendar
X-PUBLISHED-TTL:PT24H
REFRESH-INTERVAL;VALUE=DURATION:PT24H
CALSCALE:GREGORIAN
BEGIN:VTIMEZONE
TZID:America/New_York
X-LIC-LOCATION:America/New_York
BEGIN:DAYLIGHT
TZNAME:EDT
TZOFFSETFROM:-0500
TZOFFSETTO:-0400
DTSTART:19700308T020000
RRULE:FREQ=YEARLY;BYMONTH=3;BYDAY=2SU
END:DAYLIGHT
BEGIN:STANDARD
TZNAME:EST
TZOFFSETFROM:-0400
TZOFFSETTO:-0500
DTSTART:19701101T020000
RRULE:FREQ=YEARLY;BYMONTH=11;BYDAY=1SU
END:STANDARD
END:VTIMEZONE
BEGIN:VEVENT
UID:bcparks-71892597-20260110T130000@quickscores.com
DTSTAMP:20260425T065200Z
DTSTART;TZID=America/New_York:20260110T130000
DURATION:PT1H0M0S
SUMMARY:CENTRAL SHARKS vs. WEST BALLERS
DESCRIPTION:Central & West Junior Varsity Division - Brunswick County Parks & Recreation
LOCATION:SHALLOTTE MIDDLE SCHOOL
CATEGORIES:QuickScores, Basketball - Youth Game
TRANSP:OPAQUE
BEGIN:VALARM
TRIGGER:-PT2H
ACTION:DISPLAY
DESCRIPTION:CENTRAL SHARKS vs. WEST BALLERS
END:VALARM
END:VEVENT
BEGIN:VEVENT
UID:bcparks-71892601-20260117T120000@quickscores.com
DTSTAMP:20260425T065200Z
DTSTART;TZID=America/New_York:20260117T120000
DURATION:PT1H0M0S
SUMMARY:WEST STORM vs. WEST BALLERS
DESCRIPTION:Central & West Junior Varsity Division - Brunswick County Parks & Recreation
LOCATION:SHALLOTTE MIDDLE SCHOOL
CATEGORIES:QuickScores, Basketball - Youth Game
TRANSP:OPAQUE
BEGIN:VALARM
TRIGGER:-PT2H
ACTION:DISPLAY
DESCRIPTION:WEST STORM vs. WEST BALLERS
END:VALARM
END:VEVENT
BEGIN:VEVENT
UID:bcparks-71892604-20260124T100000@quickscores.com
DTSTAMP:20260425T065200Z
DTSTART;TZID=America/New_York:20260124T100000
DURATION:PT1H0M0S
SUMMARY:CENTRAL FEVER vs. WEST BALLERS
DESCRIPTION:Central & West Junior Varsity Division - Brunswick County Parks & Recreation
LOCATION:CEDAR GROVE MIDDLE SCHOOL
CATEGORIES:QuickScores, Basketball - Youth Game
TRANSP:OPAQUE
BEGIN:VALARM
TRIGGER:-PT2H
ACTION:DISPLAY
DESCRIPTION:CENTRAL FEVER vs. WEST BALLERS
END:VALARM
END:VEVENT
BEGIN:VEVENT
UID:bcparks-71892611-20260207T130000@quickscores.com
DTSTAMP:20260425T065200Z
DTSTART;TZID=America/New_York:20260207T130000
DURATION:PT1H0M0S
SUMMARY:WEST BALLERS vs. WEST TROJANS
DESCRIPTION:Central & West Junior Varsity Division - Brunswick County Parks & Recreation
LOCATION:SHALLOTTE MIDDLE SCHOOL
CATEGORIES:QuickScores, Basketball - Youth Game
TRANSP:OPAQUE
BEGIN:VALARM
TRIGGER:-PT2H
ACTION:DISPLAY
DESCRIPTION:WEST BALLERS vs. WEST TROJANS
END:VALARM
END:VEVENT
BEGIN:VEVENT
UID:bcparks-71892615-20260214T120000@quickscores.com
DTSTAMP:20260425T065200Z
DTSTART;TZID=America/New_York:20260214T120000
DURATION:PT1H0M0S
SUMMARY:WEST BALLERS vs. WEST TIMBERWOLVES
DESCRIPTION:Central & West Junior Varsity Division - Brunswick County Parks & Recreation
LOCATION:SHALLOTTE MIDDLE SCHOOL
CATEGORIES:QuickScores, Basketball - Youth Game
TRANSP:OPAQUE
BEGIN:VALARM
TRIGGER:-PT2H
ACTION:DISPLAY
DESCRIPTION:WEST BALLERS vs. WEST TIMBERWOLVES
END:VALARM
END:VEVENT
BEGIN:VEVENT
UID:bcparks-71892618-20260221T140000@quickscores.com
DTSTAMP:20260425T065200Z
DTSTART;TZID=America/New_York:20260221T140000
DURATION:PT1H0M0S
SUMMARY:WEST CELTICS vs. WEST BALLERS
DESCRIPTION:Central & West Junior Varsity Division - Brunswick County Parks & Recreation
LOCATION:SHALLOTTE MIDDLE SCHOOL
CATEGORIES:QuickScores, Basketball - Youth Game
TRANSP:OPAQUE
BEGIN:VALARM
TRIGGER:-PT2H
ACTION:DISPLAY
DESCRIPTION:WEST CELTICS vs. WEST BALLERS
END:VALARM
END:VEVENT
BEGIN:VEVENT
UID:bcparks-71892625-20260228T150000@quickscores.com
DTSTAMP:20260425T065200Z
DTSTART;TZID=America/New_York:20260228T150000
DURATION:PT1H0M0S
SUMMARY:WEST BALLERS vs. CENTRAL SHARKS
DESCRIPTION:Central & West Junior Varsity Division - Brunswick County Parks & Recreation
LOCATION:SHALLOTTE MIDDLE SCHOOL
CATEGORIES:QuickScores, Basketball - Youth Game
TRANSP:OPAQUE
BEGIN:VALARM
TRIGGER:-PT2H
ACTION:DISPLAY
DESCRIPTION:WEST BALLERS vs. CENTRAL SHARKS
END:VALARM
END:VEVENT
BEGIN:VEVENT
UID:bcparks-71892608-20260307T130000@quickscores.com
DTSTAMP:20260425T065200Z
DTSTART;TZID=America/New_York:20260307T130000
DURATION:PT1H0M0S
SUMMARY:WEST BALLERS vs. WEST GRIZZLIES
DESCRIPTION:Central & West Junior Varsity Division - Brunswick County Parks & Recreation
LOCATION:SHALLOTTE MIDDLE SCHOOL
CATEGORIES:QuickScores, Basketball - Youth Game
TRANSP:OPAQUE
BEGIN:VALARM
TRIGGER:-PT2H
ACTION:DISPLAY
DESCRIPTION:WEST BALLERS vs. WEST GRIZZLIES
END:VALARM
END:VEVENT
END:VCALENDAR
