BEGIN:VCALENDAR
VERSION:2.0
PRODID:-//QuickScores.com//BQ Dynamic iCal Creator//EN
METHOD:PUBLISH
X-WR-CALNAME:BRUNSWICK COUNTY STARRZ - District Ix Dixie Belles & Debs Softball - Brunswick County - Spring 2025
X-WR-CALDESC:QuickScores game calendar
X-PUBLISHED-TTL:PT24H
REFRESH-INTERVAL;VALUE=DURATION:PT24H
CALSCALE:GREGORIAN
BEGIN:VTIMEZONE
TZID:America/New_York
X-LIC-LOCATION:America/New_York
BEGIN:DAYLIGHT
TZNAME:EDT
TZOFFSETFROM:-0500
TZOFFSETTO:-0400
DTSTART:19700308T020000
RRULE:FREQ=YEARLY;BYMONTH=3;BYDAY=2SU
END:DAYLIGHT
BEGIN:STANDARD
TZNAME:EST
TZOFFSETFROM:-0400
TZOFFSETTO:-0500
DTSTART:19701101T020000
RRULE:FREQ=YEARLY;BYMONTH=11;BYDAY=1SU
END:STANDARD
END:VTIMEZONE
BEGIN:VEVENT
UID:bcparks-68091190-20250413T140000@quickscores.com
DTSTAMP:20260424T052300Z
DTSTART;TZID=America/New_York:20250413T140000
DURATION:PT1H0M0S
SUMMARY:BRUNSWICK COUNTY STARRZ vs. PENDER COUNTY DEBS
DESCRIPTION:District Ix Dixie Belles & Debs Softball - Brunswick County - Brunswick County Parks & Recreation
LOCATION:NORTHWEST PARK FIELD #2
CATEGORIES:QuickScores, Softball - Fastpitch Game
TRANSP:OPAQUE
BEGIN:VALARM
TRIGGER:-PT2H
ACTION:DISPLAY
DESCRIPTION:BRUNSWICK COUNTY STARRZ vs. PENDER COUNTY DEBS
END:VALARM
END:VEVENT
BEGIN:VEVENT
UID:bcparks-68091191-20250413T154500@quickscores.com
DTSTAMP:20260424T052300Z
DTSTART;TZID=America/New_York:20250413T154500
DURATION:PT1H0M0S
SUMMARY:BRUNSWICK COUNTY STARRZ vs. PENDER COUNTY DEBS
DESCRIPTION:District Ix Dixie Belles & Debs Softball - Brunswick County - Brunswick County Parks & Recreation
LOCATION:NORTHWEST PARK FIELD #2
CATEGORIES:QuickScores, Softball - Fastpitch Game
TRANSP:OPAQUE
BEGIN:VALARM
TRIGGER:-PT2H
ACTION:DISPLAY
DESCRIPTION:BRUNSWICK COUNTY STARRZ vs. PENDER COUNTY DEBS
END:VALARM
END:VEVENT
BEGIN:VEVENT
UID:bcparks-68090935-20250420T140000@quickscores.com
DTSTAMP:20260424T052300Z
DTSTART;TZID=America/New_York:20250420T140000
DURATION:PT1H0M0S
SUMMARY:NORTH RIPTIDE vs. BRUNSWICK COUNTY STARRZ
DESCRIPTION:PLAYED 4/13/25 --- District Ix Dixie Belles & Debs Softball - Brunswick County - Brunswick County Parks & Recreation
LOCATION:NORTHWEST PARK FIELD #1
CATEGORIES:QuickScores, Softball - Fastpitch Game
TRANSP:OPAQUE
BEGIN:VALARM
TRIGGER:-PT2H
ACTION:DISPLAY
DESCRIPTION:NORTH RIPTIDE vs. BRUNSWICK COUNTY STARRZ
END:VALARM
END:VEVENT
BEGIN:VEVENT
UID:bcparks-68090936-20250420T154500@quickscores.com
DTSTAMP:20260424T052300Z
DTSTART;TZID=America/New_York:20250420T154500
DURATION:PT1H0M0S
SUMMARY:BRUNSWICK COUNTY STARRZ vs. NORTH RIPTIDE
DESCRIPTION:PLAYED 4/13/25 --- District Ix Dixie Belles & Debs Softball - Brunswick County - Brunswick County Parks & Recreation
LOCATION:NORTHWEST PARK FIELD #1
CATEGORIES:QuickScores, Softball - Fastpitch Game
TRANSP:OPAQUE
BEGIN:VALARM
TRIGGER:-PT2H
ACTION:DISPLAY
DESCRIPTION:BRUNSWICK COUNTY STARRZ vs. NORTH RIPTIDE
END:VALARM
END:VEVENT
BEGIN:VEVENT
UID:bcparks-68091192-20250427T140000@quickscores.com
DTSTAMP:20260424T052300Z
DTSTART;TZID=America/New_York:20250427T140000
DURATION:PT1H0M0S
SUMMARY:PENDER COUNTY DEBS vs. BRUNSWICK COUNTY STARRZ
DESCRIPTION:District Ix Dixie Belles & Debs Softball - Brunswick County - Brunswick County Parks & Recreation
LOCATION:PENDER MEMORIAL PARK #1
CATEGORIES:QuickScores, Softball - Fastpitch Game
TRANSP:OPAQUE
BEGIN:VALARM
TRIGGER:-PT2H
ACTION:DISPLAY
DESCRIPTION:PENDER COUNTY DEBS vs. BRUNSWICK COUNTY STARRZ
END:VALARM
END:VEVENT
BEGIN:VEVENT
UID:bcparks-68091193-20250427T154500@quickscores.com
DTSTAMP:20260424T052300Z
DTSTART;TZID=America/New_York:20250427T154500
DURATION:PT1H0M0S
SUMMARY:PENDER COUNTY DEBS vs. BRUNSWICK COUNTY STARRZ
DESCRIPTION:District Ix Dixie Belles & Debs Softball - Brunswick County - Brunswick County Parks & Recreation
LOCATION:PENDER MEMORIAL PARK #1
CATEGORIES:QuickScores, Softball - Fastpitch Game
TRANSP:OPAQUE
BEGIN:VALARM
TRIGGER:-PT2H
ACTION:DISPLAY
DESCRIPTION:PENDER COUNTY DEBS vs. BRUNSWICK COUNTY STARRZ
END:VALARM
END:VEVENT
BEGIN:VEVENT
UID:bcparks-68091194-20250504T140000@quickscores.com
DTSTAMP:20260424T052300Z
DTSTART;TZID=America/New_York:20250504T140000
DURATION:PT1H0M0S
SUMMARY:BRUNSWICK COUNTY STARRZ vs. PENDER COUNTY DEBS
DESCRIPTION:RAINED OUT --- District Ix Dixie Belles & Debs Softball - Brunswick County - Brunswick County Parks & Recreation
LOCATION:NORTHWEST PARK FIELD #2
CATEGORIES:QuickScores, Softball - Fastpitch Game
TRANSP:OPAQUE
BEGIN:VALARM
TRIGGER:-PT2H
ACTION:DISPLAY
DESCRIPTION:BRUNSWICK COUNTY STARRZ vs. PENDER COUNTY DEBS
END:VALARM
END:VEVENT
BEGIN:VEVENT
UID:bcparks-68091195-20250504T154500@quickscores.com
DTSTAMP:20260424T052300Z
DTSTART;TZID=America/New_York:20250504T154500
DURATION:PT1H0M0S
SUMMARY:BRUNSWICK COUNTY STARRZ vs. PENDER COUNTY DEBS
DESCRIPTION:RAINED OUT --- District Ix Dixie Belles & Debs Softball - Brunswick County - Brunswick County Parks & Recreation
LOCATION:NORTHWEST PARK FIELD #2
CATEGORIES:QuickScores, Softball - Fastpitch Game
TRANSP:OPAQUE
BEGIN:VALARM
TRIGGER:-PT2H
ACTION:DISPLAY
DESCRIPTION:BRUNSWICK COUNTY STARRZ vs. PENDER COUNTY DEBS
END:VALARM
END:VEVENT
BEGIN:VEVENT
UID:bcparks-68091196-20250511T140000@quickscores.com
DTSTAMP:20260424T052300Z
DTSTART;TZID=America/New_York:20250511T140000
DURATION:PT1H0M0S
SUMMARY:PENDER COUNTY DEBS vs. BRUNSWICK COUNTY STARRZ
DESCRIPTION:RAINED OUT --- District Ix Dixie Belles & Debs Softball - Brunswick County - Brunswick County Parks & Recreation
LOCATION:PENDER MEMORIAL PARK #1
CATEGORIES:QuickScores, Softball - Fastpitch Game
TRANSP:OPAQUE
BEGIN:VALARM
TRIGGER:-PT2H
ACTION:DISPLAY
DESCRIPTION:PENDER COUNTY DEBS vs. BRUNSWICK COUNTY STARRZ
END:VALARM
END:VEVENT
BEGIN:VEVENT
UID:bcparks-68091197-20250511T154500@quickscores.com
DTSTAMP:20260424T052300Z
DTSTART;TZID=America/New_York:20250511T154500
DURATION:PT1H0M0S
SUMMARY:PENDER COUNTY DEBS vs. BRUNSWICK COUNTY STARRZ
DESCRIPTION:RAINED OUT --- District Ix Dixie Belles & Debs Softball - Brunswick County - Brunswick County Parks & Recreation
LOCATION:PENDER MEMORIAL PARK #1
CATEGORIES:QuickScores, Softball - Fastpitch Game
TRANSP:OPAQUE
BEGIN:VALARM
TRIGGER:-PT2H
ACTION:DISPLAY
DESCRIPTION:PENDER COUNTY DEBS vs. BRUNSWICK COUNTY STARRZ
END:VALARM
END:VEVENT
BEGIN:VEVENT
UID:bcparks-68091198-20250518T140000@quickscores.com
DTSTAMP:20260424T052300Z
DTSTART;TZID=America/New_York:20250518T140000
DURATION:PT1H0M0S
SUMMARY:BRUNSWICK COUNTY STARRZ vs. PENDER COUNTY DEBS
DESCRIPTION:District Ix Dixie Belles & Debs Softball - Brunswick County - Brunswick County Parks & Recreation
LOCATION:NORTHWEST PARK FIELD #2
CATEGORIES:QuickScores, Softball - Fastpitch Game
TRANSP:OPAQUE
BEGIN:VALARM
TRIGGER:-PT2H
ACTION:DISPLAY
DESCRIPTION:BRUNSWICK COUNTY STARRZ vs. PENDER COUNTY DEBS
END:VALARM
END:VEVENT
BEGIN:VEVENT
UID:bcparks-68091199-20250518T154500@quickscores.com
DTSTAMP:20260424T052300Z
DTSTART;TZID=America/New_York:20250518T154500
DURATION:PT1H0M0S
SUMMARY:BRUNSWICK COUNTY STARRZ vs. PENDER COUNTY DEBS
DESCRIPTION:District Ix Dixie Belles & Debs Softball - Brunswick County - Brunswick County Parks & Recreation
LOCATION:NORTHWEST PARK FIELD #2
CATEGORIES:QuickScores, Softball - Fastpitch Game
TRANSP:OPAQUE
BEGIN:VALARM
TRIGGER:-PT2H
ACTION:DISPLAY
DESCRIPTION:BRUNSWICK COUNTY STARRZ vs. PENDER COUNTY DEBS
END:VALARM
END:VEVENT
BEGIN:VEVENT
UID:bcparks-68091200-20250525T140000@quickscores.com
DTSTAMP:20260424T052300Z
DTSTART;TZID=America/New_York:20250525T140000
DURATION:PT1H0M0S
SUMMARY:PENDER COUNTY DEBS vs. BRUNSWICK COUNTY STARRZ
DESCRIPTION:District Ix Dixie Belles & Debs Softball - Brunswick County - Brunswick County Parks & Recreation
LOCATION:PENDER MEMORIAL PARK #1
CATEGORIES:QuickScores, Softball - Fastpitch Game
TRANSP:OPAQUE
BEGIN:VALARM
TRIGGER:-PT2H
ACTION:DISPLAY
DESCRIPTION:PENDER COUNTY DEBS vs. BRUNSWICK COUNTY STARRZ
END:VALARM
END:VEVENT
BEGIN:VEVENT
UID:bcparks-68091201-20250525T154500@quickscores.com
DTSTAMP:20260424T052300Z
DTSTART;TZID=America/New_York:20250525T154500
DURATION:PT1H0M0S
SUMMARY:PENDER COUNTY DEBS vs. BRUNSWICK COUNTY STARRZ
DESCRIPTION:District Ix Dixie Belles & Debs Softball - Brunswick County - Brunswick County Parks & Recreation
LOCATION:PENDER MEMORIAL PARK #1
CATEGORIES:QuickScores, Softball - Fastpitch Game
TRANSP:OPAQUE
BEGIN:VALARM
TRIGGER:-PT2H
ACTION:DISPLAY
DESCRIPTION:PENDER COUNTY DEBS vs. BRUNSWICK COUNTY STARRZ
END:VALARM
END:VEVENT
END:VCALENDAR
