BEGIN:VCALENDAR
VERSION:2.0
PRODID:-//QuickScores.com//BQ Dynamic iCal Creator//EN
METHOD:PUBLISH
X-WR-CALNAME:WEST CARDINALS - District Ix Dixie Belles & Debs Softball - Brunswick County - Spring 2025
X-WR-CALDESC:QuickScores game calendar
X-PUBLISHED-TTL:PT24H
REFRESH-INTERVAL;VALUE=DURATION:PT24H
CALSCALE:GREGORIAN
BEGIN:VTIMEZONE
TZID:America/New_York
X-LIC-LOCATION:America/New_York
BEGIN:DAYLIGHT
TZNAME:EDT
TZOFFSETFROM:-0500
TZOFFSETTO:-0400
DTSTART:19700308T020000
RRULE:FREQ=YEARLY;BYMONTH=3;BYDAY=2SU
END:DAYLIGHT
BEGIN:STANDARD
TZNAME:EST
TZOFFSETFROM:-0400
TZOFFSETTO:-0500
DTSTART:19701101T020000
RRULE:FREQ=YEARLY;BYMONTH=11;BYDAY=1SU
END:STANDARD
END:VTIMEZONE
BEGIN:VEVENT
UID:bcparks-68030714-20250406T140000@quickscores.com
DTSTAMP:20260424T021700Z
DTSTART;TZID=America/New_York:20250406T140000
DURATION:PT1H0M0S
SUMMARY:WEST TIDES vs. WEST CARDINALS
DESCRIPTION:District Ix Dixie Belles & Debs Softball - Brunswick County - Brunswick County Parks & Recreation
LOCATION:LOCKWOOD FOLLY #3
CATEGORIES:QuickScores, Softball - Fastpitch Game
TRANSP:OPAQUE
BEGIN:VALARM
TRIGGER:-PT2H
ACTION:DISPLAY
DESCRIPTION:WEST TIDES vs. WEST CARDINALS
END:VALARM
END:VEVENT
BEGIN:VEVENT
UID:bcparks-68030719-20250406T154500@quickscores.com
DTSTAMP:20260424T021700Z
DTSTART;TZID=America/New_York:20250406T154500
DURATION:PT1H0M0S
SUMMARY:WEST CARDINALS vs. WEST TIDES
DESCRIPTION:District Ix Dixie Belles & Debs Softball - Brunswick County - Brunswick County Parks & Recreation
LOCATION:LOCKWOOD FOLLY #3
CATEGORIES:QuickScores, Softball - Fastpitch Game
TRANSP:OPAQUE
BEGIN:VALARM
TRIGGER:-PT2H
ACTION:DISPLAY
DESCRIPTION:WEST CARDINALS vs. WEST TIDES
END:VALARM
END:VEVENT
BEGIN:VEVENT
UID:bcparks-68030722-20250413T140000@quickscores.com
DTSTAMP:20260424T021700Z
DTSTART;TZID=America/New_York:20250413T140000
DURATION:PT1H0M0S
SUMMARY:NORTH RIPTIDE vs. WEST CARDINALS
DESCRIPTION:District Ix Dixie Belles & Debs Softball - Brunswick County - Brunswick County Parks & Recreation
LOCATION:NORTHWEST PARK FIELD #1
CATEGORIES:QuickScores, Softball - Fastpitch Game
TRANSP:OPAQUE
BEGIN:VALARM
TRIGGER:-PT2H
ACTION:DISPLAY
DESCRIPTION:NORTH RIPTIDE vs. WEST CARDINALS
END:VALARM
END:VEVENT
BEGIN:VEVENT
UID:bcparks-68030723-20250413T154500@quickscores.com
DTSTAMP:20260424T021700Z
DTSTART;TZID=America/New_York:20250413T154500
DURATION:PT1H0M0S
SUMMARY:WEST CARDINALS vs. NORTH RIPTIDE
DESCRIPTION:District Ix Dixie Belles & Debs Softball - Brunswick County - Brunswick County Parks & Recreation
LOCATION:NORTHWEST PARK FIELD #1
CATEGORIES:QuickScores, Softball - Fastpitch Game
TRANSP:OPAQUE
BEGIN:VALARM
TRIGGER:-PT2H
ACTION:DISPLAY
DESCRIPTION:WEST CARDINALS vs. NORTH RIPTIDE
END:VALARM
END:VEVENT
BEGIN:VEVENT
UID:bcparks-68090932-20250420T140000@quickscores.com
DTSTAMP:20260424T021700Z
DTSTART;TZID=America/New_York:20250420T140000
DURATION:PT1H0M0S
SUMMARY:WEST TIDES vs. WEST CARDINALS
DESCRIPTION:Played 5/22/25 --- District Ix Dixie Belles & Debs Softball - Brunswick County - Brunswick County Parks & Recreation
LOCATION:LOCKWOOD FOLLY #3
CATEGORIES:QuickScores, Softball - Fastpitch Game
TRANSP:OPAQUE
BEGIN:VALARM
TRIGGER:-PT2H
ACTION:DISPLAY
DESCRIPTION:WEST TIDES vs. WEST CARDINALS
END:VALARM
END:VEVENT
BEGIN:VEVENT
UID:bcparks-68090933-20250420T154500@quickscores.com
DTSTAMP:20260424T021700Z
DTSTART;TZID=America/New_York:20250420T154500
DURATION:PT1H0M0S
SUMMARY:WEST CARDINALS vs. WEST MUSTANGS
DESCRIPTION:District Ix Dixie Belles & Debs Softball - Brunswick County - Brunswick County Parks & Recreation
LOCATION:LOCKWOOD FOLLY #3
CATEGORIES:QuickScores, Softball - Fastpitch Game
TRANSP:OPAQUE
BEGIN:VALARM
TRIGGER:-PT2H
ACTION:DISPLAY
DESCRIPTION:WEST CARDINALS vs. WEST MUSTANGS
END:VALARM
END:VEVENT
BEGIN:VEVENT
UID:bcparks-68030734-20250427T140000@quickscores.com
DTSTAMP:20260424T021700Z
DTSTART;TZID=America/New_York:20250427T140000
DURATION:PT1H0M0S
SUMMARY:NORTH DODGERS vs. WEST CARDINALS
DESCRIPTION:District Ix Dixie Belles & Debs Softball - Brunswick County - Brunswick County Parks & Recreation
LOCATION:NORTHWEST PARK FIELD #2
CATEGORIES:QuickScores, Softball - Fastpitch Game
TRANSP:OPAQUE
BEGIN:VALARM
TRIGGER:-PT2H
ACTION:DISPLAY
DESCRIPTION:NORTH DODGERS vs. WEST CARDINALS
END:VALARM
END:VEVENT
BEGIN:VEVENT
UID:bcparks-68030735-20250427T154500@quickscores.com
DTSTAMP:20260424T021700Z
DTSTART;TZID=America/New_York:20250427T154500
DURATION:PT1H0M0S
SUMMARY:WEST CARDINALS vs. NORTH DODGERS
DESCRIPTION:District Ix Dixie Belles & Debs Softball - Brunswick County - Brunswick County Parks & Recreation
LOCATION:NORTHWEST PARK FIELD #2
CATEGORIES:QuickScores, Softball - Fastpitch Game
TRANSP:OPAQUE
BEGIN:VALARM
TRIGGER:-PT2H
ACTION:DISPLAY
DESCRIPTION:WEST CARDINALS vs. NORTH DODGERS
END:VALARM
END:VEVENT
BEGIN:VEVENT
UID:bcparks-68030739-20250504T140000@quickscores.com
DTSTAMP:20260424T021700Z
DTSTART;TZID=America/New_York:20250504T140000
DURATION:PT1H0M0S
SUMMARY:WEST CARDINALS vs. SOUTH SHARKS
DESCRIPTION:PLAYED 4/13/25 --- District Ix Dixie Belles & Debs Softball - Brunswick County - Brunswick County Parks & Recreation
LOCATION:TOWN CREEK PARK FIELD #3
CATEGORIES:QuickScores, Softball - Fastpitch Game
TRANSP:OPAQUE
BEGIN:VALARM
TRIGGER:-PT2H
ACTION:DISPLAY
DESCRIPTION:WEST CARDINALS vs. SOUTH SHARKS
END:VALARM
END:VEVENT
BEGIN:VEVENT
UID:bcparks-68030742-20250504T154500@quickscores.com
DTSTAMP:20260424T021700Z
DTSTART;TZID=America/New_York:20250504T154500
DURATION:PT1H0M0S
SUMMARY:SOUTH SHARKS vs. WEST CARDINALS
DESCRIPTION:PLAYED 4/13/25 --- District Ix Dixie Belles & Debs Softball - Brunswick County - Brunswick County Parks & Recreation
LOCATION:TOWN CREEK PARK FIELD #3
CATEGORIES:QuickScores, Softball - Fastpitch Game
TRANSP:OPAQUE
BEGIN:VALARM
TRIGGER:-PT2H
ACTION:DISPLAY
DESCRIPTION:SOUTH SHARKS vs. WEST CARDINALS
END:VALARM
END:VEVENT
BEGIN:VEVENT
UID:bcparks-68030749-20250511T140000@quickscores.com
DTSTAMP:20260424T021700Z
DTSTART;TZID=America/New_York:20250511T140000
DURATION:PT1H0M0S
SUMMARY:WEST CARDINALS vs. WEST MUSTANGS
DESCRIPTION:Played 5/22/25 --- District Ix Dixie Belles & Debs Softball - Brunswick County - Brunswick County Parks & Recreation
LOCATION:LOCKWOOD FOLLY #3
CATEGORIES:QuickScores, Softball - Fastpitch Game
TRANSP:OPAQUE
BEGIN:VALARM
TRIGGER:-PT2H
ACTION:DISPLAY
DESCRIPTION:WEST CARDINALS vs. WEST MUSTANGS
END:VALARM
END:VEVENT
BEGIN:VEVENT
UID:bcparks-68030744-20250511T154500@quickscores.com
DTSTAMP:20260424T021700Z
DTSTART;TZID=America/New_York:20250511T154500
DURATION:PT1H0M0S
SUMMARY:WEST MUSTANGS vs. WEST CARDINALS
DESCRIPTION:Played 5/22/25 --- District Ix Dixie Belles & Debs Softball - Brunswick County - Brunswick County Parks & Recreation
LOCATION:LOCKWOOD FOLLY #3
CATEGORIES:QuickScores, Softball - Fastpitch Game
TRANSP:OPAQUE
BEGIN:VALARM
TRIGGER:-PT2H
ACTION:DISPLAY
DESCRIPTION:WEST MUSTANGS vs. WEST CARDINALS
END:VALARM
END:VEVENT
BEGIN:VEVENT
UID:bcparks-68030752-20250518T140000@quickscores.com
DTSTAMP:20260424T021700Z
DTSTART;TZID=America/New_York:20250518T140000
DURATION:PT1H0M0S
SUMMARY:WEST CARDINALS vs. WEST TIDES
DESCRIPTION:District Ix Dixie Belles & Debs Softball - Brunswick County - Brunswick County Parks & Recreation
LOCATION:LOCKWOOD FOLLY #3
CATEGORIES:QuickScores, Softball - Fastpitch Game
TRANSP:OPAQUE
BEGIN:VALARM
TRIGGER:-PT2H
ACTION:DISPLAY
DESCRIPTION:WEST CARDINALS vs. WEST TIDES
END:VALARM
END:VEVENT
BEGIN:VEVENT
UID:bcparks-68030753-20250518T154500@quickscores.com
DTSTAMP:20260424T021700Z
DTSTART;TZID=America/New_York:20250518T154500
DURATION:PT1H0M0S
SUMMARY:WEST TIDES vs. WEST CARDINALS
DESCRIPTION:District Ix Dixie Belles & Debs Softball - Brunswick County - Brunswick County Parks & Recreation
LOCATION:LOCKWOOD FOLLY #3
CATEGORIES:QuickScores, Softball - Fastpitch Game
TRANSP:OPAQUE
BEGIN:VALARM
TRIGGER:-PT2H
ACTION:DISPLAY
DESCRIPTION:WEST TIDES vs. WEST CARDINALS
END:VALARM
END:VEVENT
BEGIN:VEVENT
UID:bcparks-68030756-20250525T140000@quickscores.com
DTSTAMP:20260424T021700Z
DTSTART;TZID=America/New_York:20250525T140000
DURATION:PT1H0M0S
SUMMARY:WEST CARDINALS vs. NORTH RIPTIDE
DESCRIPTION:District Ix Dixie Belles & Debs Softball - Brunswick County - Brunswick County Parks & Recreation
LOCATION:TOWN CREEK PARK FIELD #3
CATEGORIES:QuickScores, Softball - Fastpitch Game
TRANSP:OPAQUE
BEGIN:VALARM
TRIGGER:-PT2H
ACTION:DISPLAY
DESCRIPTION:WEST CARDINALS vs. NORTH RIPTIDE
END:VALARM
END:VEVENT
BEGIN:VEVENT
UID:bcparks-68030759-20250525T154500@quickscores.com
DTSTAMP:20260424T021700Z
DTSTART;TZID=America/New_York:20250525T154500
DURATION:PT1H0M0S
SUMMARY:NORTH RIPTIDE vs. WEST CARDINALS
DESCRIPTION:District Ix Dixie Belles & Debs Softball - Brunswick County - Brunswick County Parks & Recreation
LOCATION:TOWN CREEK PARK FIELD #3
CATEGORIES:QuickScores, Softball - Fastpitch Game
TRANSP:OPAQUE
BEGIN:VALARM
TRIGGER:-PT2H
ACTION:DISPLAY
DESCRIPTION:NORTH RIPTIDE vs. WEST CARDINALS
END:VALARM
END:VEVENT
END:VCALENDAR
