BEGIN:VCALENDAR
VERSION:2.0
PRODID:-//QuickScores.com//BQ Dynamic iCal Creator//EN
METHOD:PUBLISH
X-WR-CALNAME:WEST HUSKIES - West Rookies [1st&2nd Grades] - Fall 2024
X-WR-CALDESC:QuickScores game calendar
X-PUBLISHED-TTL:PT24H
REFRESH-INTERVAL;VALUE=DURATION:PT24H
CALSCALE:GREGORIAN
BEGIN:VTIMEZONE
TZID:America/New_York
X-LIC-LOCATION:America/New_York
BEGIN:DAYLIGHT
TZNAME:EDT
TZOFFSETFROM:-0500
TZOFFSETTO:-0400
DTSTART:19700308T020000
RRULE:FREQ=YEARLY;BYMONTH=3;BYDAY=2SU
END:DAYLIGHT
BEGIN:STANDARD
TZNAME:EST
TZOFFSETFROM:-0400
TZOFFSETTO:-0500
DTSTART:19701101T020000
RRULE:FREQ=YEARLY;BYMONTH=11;BYDAY=1SU
END:STANDARD
END:VTIMEZONE
BEGIN:VEVENT
UID:bcparks-64694736-20240907T120000@quickscores.com
DTSTAMP:20260422T180400Z
DTSTART;TZID=America/New_York:20240907T120000
DURATION:PT1H0M0S
SUMMARY:WEST HUSKIES vs. WEST BEARCATS
DESCRIPTION:West Rookies [1st&2nd Grades] - Brunswick County Parks & Recreation
LOCATION:OIB PARK ROOKIE #2
CATEGORIES:QuickScores, Soccer - Youth Game
TRANSP:OPAQUE
BEGIN:VALARM
TRIGGER:-PT2H
ACTION:DISPLAY
DESCRIPTION:WEST HUSKIES vs. WEST BEARCATS
END:VALARM
END:VEVENT
BEGIN:VEVENT
UID:bcparks-64694744-20240921T110000@quickscores.com
DTSTAMP:20260422T180400Z
DTSTART;TZID=America/New_York:20240921T110000
DURATION:PT1H0M0S
SUMMARY:WEST TROJANS vs. WEST HUSKIES
DESCRIPTION:West Rookies [1st&2nd Grades] - Brunswick County Parks & Recreation
LOCATION:OIB PARK ROOKIE #1
CATEGORIES:QuickScores, Soccer - Youth Game
TRANSP:OPAQUE
BEGIN:VALARM
TRIGGER:-PT2H
ACTION:DISPLAY
DESCRIPTION:WEST TROJANS vs. WEST HUSKIES
END:VALARM
END:VEVENT
BEGIN:VEVENT
UID:bcparks-64694746-20240928T110000@quickscores.com
DTSTAMP:20260422T180400Z
DTSTART;TZID=America/New_York:20240928T110000
DURATION:PT1H0M0S
SUMMARY:WEST HUSKIES vs. WEST DREAM
DESCRIPTION:West Rookies [1st&2nd Grades] - Brunswick County Parks & Recreation
LOCATION:OIB PARK ROOKIE #1
CATEGORIES:QuickScores, Soccer - Youth Game
TRANSP:OPAQUE
BEGIN:VALARM
TRIGGER:-PT2H
ACTION:DISPLAY
DESCRIPTION:WEST HUSKIES vs. WEST DREAM
END:VALARM
END:VEVENT
BEGIN:VEVENT
UID:bcparks-64694751-20241005T110000@quickscores.com
DTSTAMP:20260422T180400Z
DTSTART;TZID=America/New_York:20241005T110000
DURATION:PT1H0M0S
SUMMARY:WEST STEER vs. WEST HUSKIES
DESCRIPTION:West Rookies [1st&2nd Grades] - Brunswick County Parks & Recreation
LOCATION:OIB PARK ROOKIE #2
CATEGORIES:QuickScores, Soccer - Youth Game
TRANSP:OPAQUE
BEGIN:VALARM
TRIGGER:-PT2H
ACTION:DISPLAY
DESCRIPTION:WEST STEER vs. WEST HUSKIES
END:VALARM
END:VEVENT
BEGIN:VEVENT
UID:bcparks-64694753-20241012T110000@quickscores.com
DTSTAMP:20260422T180400Z
DTSTART;TZID=America/New_York:20241012T110000
DURATION:PT1H0M0S
SUMMARY:WEST HUSKIES vs. WEST SPARX
DESCRIPTION:West Rookies [1st&2nd Grades] - Brunswick County Parks & Recreation
LOCATION:OIB PARK ROOKIE #1
CATEGORIES:QuickScores, Soccer - Youth Game
TRANSP:OPAQUE
BEGIN:VALARM
TRIGGER:-PT2H
ACTION:DISPLAY
DESCRIPTION:WEST HUSKIES vs. WEST SPARX
END:VALARM
END:VEVENT
BEGIN:VEVENT
UID:bcparks-64694758-20241019T110000@quickscores.com
DTSTAMP:20260422T180400Z
DTSTART;TZID=America/New_York:20241019T110000
DURATION:PT1H0M0S
SUMMARY:WEST BANDITS vs. WEST HUSKIES
DESCRIPTION:West Rookies [1st&2nd Grades] - Brunswick County Parks & Recreation
LOCATION:OIB PARK ROOKIE #2
CATEGORIES:QuickScores, Soccer - Youth Game
TRANSP:OPAQUE
BEGIN:VALARM
TRIGGER:-PT2H
ACTION:DISPLAY
DESCRIPTION:WEST BANDITS vs. WEST HUSKIES
END:VALARM
END:VEVENT
BEGIN:VEVENT
UID:bcparks-64694764-20241026T120000@quickscores.com
DTSTAMP:20260422T180400Z
DTSTART;TZID=America/New_York:20241026T120000
DURATION:PT1H0M0S
SUMMARY:WEST BEARCATS vs. WEST HUSKIES
DESCRIPTION:West Rookies [1st&2nd Grades] - Brunswick County Parks & Recreation
LOCATION:OIB PARK ROOKIE #2
CATEGORIES:QuickScores, Soccer - Youth Game
TRANSP:OPAQUE
BEGIN:VALARM
TRIGGER:-PT2H
ACTION:DISPLAY
DESCRIPTION:WEST BEARCATS vs. WEST HUSKIES
END:VALARM
END:VEVENT
BEGIN:VEVENT
UID:bcparks-64694739-20241102T120000@quickscores.com
DTSTAMP:20260422T180400Z
DTSTART;TZID=America/New_York:20241102T120000
DURATION:PT1H0M0S
SUMMARY:WEST HUSKIES vs. WEST QUAKES
DESCRIPTION:West Rookies [1st&2nd Grades] - Brunswick County Parks & Recreation
LOCATION:OIB PARK ROOKIE #1
CATEGORIES:QuickScores, Soccer - Youth Game
TRANSP:OPAQUE
BEGIN:VALARM
TRIGGER:-PT2H
ACTION:DISPLAY
DESCRIPTION:WEST HUSKIES vs. WEST QUAKES
END:VALARM
END:VEVENT
END:VCALENDAR
