BEGIN:VCALENDAR
VERSION:2.0
PRODID:-//QuickScores.com//BQ Dynamic iCal Creator//EN
METHOD:PUBLISH
X-WR-CALNAME:LAKE WACCAMAW GATORS - North Rookies [1st&2nd Grades] - Fall 2024
X-WR-CALDESC:QuickScores game calendar
X-PUBLISHED-TTL:PT24H
REFRESH-INTERVAL;VALUE=DURATION:PT24H
CALSCALE:GREGORIAN
BEGIN:VTIMEZONE
TZID:America/New_York
X-LIC-LOCATION:America/New_York
BEGIN:DAYLIGHT
TZNAME:EDT
TZOFFSETFROM:-0500
TZOFFSETTO:-0400
DTSTART:19700308T020000
RRULE:FREQ=YEARLY;BYMONTH=3;BYDAY=2SU
END:DAYLIGHT
BEGIN:STANDARD
TZNAME:EST
TZOFFSETFROM:-0400
TZOFFSETTO:-0500
DTSTART:19701101T020000
RRULE:FREQ=YEARLY;BYMONTH=11;BYDAY=1SU
END:STANDARD
END:VTIMEZONE
BEGIN:VEVENT
UID:bcparks-64540240-20240907T100000@quickscores.com
DTSTAMP:20260421T233400Z
DTSTART;TZID=America/New_York:20240907T100000
DURATION:PT1H0M0S
SUMMARY:NORTH MUDCATS vs. LAKE WACCAMAW GATORS
DESCRIPTION:North Rookies [1st&2nd Grades] - Brunswick County Parks & Recreation
LOCATION:NORTHWEST ROOKIE FIELD #2
CATEGORIES:QuickScores, Soccer - Youth Game
TRANSP:OPAQUE
BEGIN:VALARM
TRIGGER:-PT2H
ACTION:DISPLAY
DESCRIPTION:NORTH MUDCATS vs. LAKE WACCAMAW GATORS
END:VALARM
END:VEVENT
BEGIN:VEVENT
UID:bcparks-64540243-20240914T110000@quickscores.com
DTSTAMP:20260421T233400Z
DTSTART;TZID=America/New_York:20240914T110000
DURATION:PT1H0M0S
SUMMARY:LAKE WACCAMAW GATORS vs. NORTH TIMBER
DESCRIPTION:North Rookies [1st&2nd Grades] - Brunswick County Parks & Recreation
LOCATION:NORTHWEST ROOKIE FIELD #1
CATEGORIES:QuickScores, Soccer - Youth Game
TRANSP:OPAQUE
BEGIN:VALARM
TRIGGER:-PT2H
ACTION:DISPLAY
DESCRIPTION:LAKE WACCAMAW GATORS vs. NORTH TIMBER
END:VALARM
END:VEVENT
BEGIN:VEVENT
UID:bcparks-64540245-20240921T100000@quickscores.com
DTSTAMP:20260421T233400Z
DTSTART;TZID=America/New_York:20240921T100000
DURATION:PT1H0M0S
SUMMARY:NORTH ELITE vs. LAKE WACCAMAW GATORS
DESCRIPTION:North Rookies [1st&2nd Grades] - Brunswick County Parks & Recreation
LOCATION:NORTHWEST ROOKIE FIELD #1
CATEGORIES:QuickScores, Soccer - Youth Game
TRANSP:OPAQUE
BEGIN:VALARM
TRIGGER:-PT2H
ACTION:DISPLAY
DESCRIPTION:NORTH ELITE vs. LAKE WACCAMAW GATORS
END:VALARM
END:VEVENT
BEGIN:VEVENT
UID:bcparks-64540248-20240928T100000@quickscores.com
DTSTAMP:20260421T233400Z
DTSTART;TZID=America/New_York:20240928T100000
DURATION:PT1H0M0S
SUMMARY:LAKE WACCAMAW GATORS vs. NORTH HOKIES
DESCRIPTION:North Rookies [1st&2nd Grades] - Brunswick County Parks & Recreation
LOCATION:NORTHWEST ROOKIE FIELD #1
CATEGORIES:QuickScores, Soccer - Youth Game
TRANSP:OPAQUE
BEGIN:VALARM
TRIGGER:-PT2H
ACTION:DISPLAY
DESCRIPTION:LAKE WACCAMAW GATORS vs. NORTH HOKIES
END:VALARM
END:VEVENT
BEGIN:VEVENT
UID:bcparks-64540250-20241005T100000@quickscores.com
DTSTAMP:20260421T233400Z
DTSTART;TZID=America/New_York:20241005T100000
DURATION:PT1H0M0S
SUMMARY:NORTH CHARGERS vs. LAKE WACCAMAW GATORS
DESCRIPTION:North Rookies [1st&2nd Grades] - Brunswick County Parks & Recreation
LOCATION:NORTHWEST ROOKIE FIELD #2
CATEGORIES:QuickScores, Soccer - Youth Game
TRANSP:OPAQUE
BEGIN:VALARM
TRIGGER:-PT2H
ACTION:DISPLAY
DESCRIPTION:NORTH CHARGERS vs. LAKE WACCAMAW GATORS
END:VALARM
END:VEVENT
BEGIN:VEVENT
UID:bcparks-64540255-20241012T100000@quickscores.com
DTSTAMP:20260421T233400Z
DTSTART;TZID=America/New_York:20241012T100000
DURATION:PT1H0M0S
SUMMARY:LAKE WACCAMAW GATORS vs. NORTH MUDCATS
DESCRIPTION:North Rookies [1st&2nd Grades] - Brunswick County Parks & Recreation
LOCATION:NORTHWEST ROOKIE FIELD #1
CATEGORIES:QuickScores, Soccer - Youth Game
TRANSP:OPAQUE
BEGIN:VALARM
TRIGGER:-PT2H
ACTION:DISPLAY
DESCRIPTION:LAKE WACCAMAW GATORS vs. NORTH MUDCATS
END:VALARM
END:VEVENT
BEGIN:VEVENT
UID:bcparks-64540258-20241019T110000@quickscores.com
DTSTAMP:20260421T233400Z
DTSTART;TZID=America/New_York:20241019T110000
DURATION:PT1H0M0S
SUMMARY:NORTH TIMBER vs. LAKE WACCAMAW GATORS
DESCRIPTION:North Rookies [1st&2nd Grades] - Brunswick County Parks & Recreation
LOCATION:NORTHWEST ROOKIE FIELD #1
CATEGORIES:QuickScores, Soccer - Youth Game
TRANSP:OPAQUE
BEGIN:VALARM
TRIGGER:-PT2H
ACTION:DISPLAY
DESCRIPTION:NORTH TIMBER vs. LAKE WACCAMAW GATORS
END:VALARM
END:VEVENT
BEGIN:VEVENT
UID:bcparks-64540260-20241026T100000@quickscores.com
DTSTAMP:20260421T233400Z
DTSTART;TZID=America/New_York:20241026T100000
DURATION:PT1H0M0S
SUMMARY:LAKE WACCAMAW GATORS vs. NORTH ELITE
DESCRIPTION:North Rookies [1st&2nd Grades] - Brunswick County Parks & Recreation
LOCATION:NORTHWEST ROOKIE FIELD #2
CATEGORIES:QuickScores, Soccer - Youth Game
TRANSP:OPAQUE
BEGIN:VALARM
TRIGGER:-PT2H
ACTION:DISPLAY
DESCRIPTION:LAKE WACCAMAW GATORS vs. NORTH ELITE
END:VALARM
END:VEVENT
END:VCALENDAR
