BEGIN:VCALENDAR
VERSION:2.0
PRODID:-//QuickScores.com//BQ Dynamic iCal Creator//EN
METHOD:PUBLISH
X-WR-CALNAME:AVIATORS - South Rookies [1st&2nd Grades] - Fall 2023
X-WR-CALDESC:QuickScores game calendar
X-PUBLISHED-TTL:PT24H
REFRESH-INTERVAL;VALUE=DURATION:PT24H
CALSCALE:GREGORIAN
BEGIN:VTIMEZONE
TZID:America/New_York
X-LIC-LOCATION:America/New_York
BEGIN:DAYLIGHT
TZNAME:EDT
TZOFFSETFROM:-0500
TZOFFSETTO:-0400
DTSTART:19700308T020000
RRULE:FREQ=YEARLY;BYMONTH=3;BYDAY=2SU
END:DAYLIGHT
BEGIN:STANDARD
TZNAME:EST
TZOFFSETFROM:-0400
TZOFFSETTO:-0500
DTSTART:19701101T020000
RRULE:FREQ=YEARLY;BYMONTH=11;BYDAY=1SU
END:STANDARD
END:VTIMEZONE
BEGIN:VEVENT
UID:bcparks-59613931-20230909T110000@quickscores.com
DTSTAMP:20260425T181100Z
DTSTART;TZID=America/New_York:20230909T110000
DURATION:PT1H0M0S
SUMMARY:UNITED vs. AVIATORS
DESCRIPTION:South Rookies [1st&2nd Grades] - Brunswick County Parks & Recreation
LOCATION:SMITHVILLE PARK ROOKIE FIELD #1
CATEGORIES:QuickScores, Soccer - Youth Game
TRANSP:OPAQUE
BEGIN:VALARM
TRIGGER:-PT2H
ACTION:DISPLAY
DESCRIPTION:UNITED vs. AVIATORS
END:VALARM
END:VEVENT
BEGIN:VEVENT
UID:bcparks-59613934-20230916T110000@quickscores.com
DTSTAMP:20260425T181100Z
DTSTART;TZID=America/New_York:20230916T110000
DURATION:PT1H0M0S
SUMMARY:AVIATORS vs. BUCS
DESCRIPTION:South Rookies [1st&2nd Grades] - Brunswick County Parks & Recreation
LOCATION:SMITHVILLE PARK ROOKIE FIELD #2
CATEGORIES:QuickScores, Soccer - Youth Game
TRANSP:OPAQUE
BEGIN:VALARM
TRIGGER:-PT2H
ACTION:DISPLAY
DESCRIPTION:AVIATORS vs. BUCS
END:VALARM
END:VEVENT
BEGIN:VEVENT
UID:bcparks-59613936-20230923T100000@quickscores.com
DTSTAMP:20260425T181100Z
DTSTART;TZID=America/New_York:20230923T100000
DURATION:PT1H0M0S
SUMMARY:SHARKS vs. AVIATORS
DESCRIPTION:South Rookies [1st&2nd Grades] - Brunswick County Parks & Recreation
LOCATION:SMITHVILLE PARK ROOKIE FIELD #1
CATEGORIES:QuickScores, Soccer - Youth Game
TRANSP:OPAQUE
BEGIN:VALARM
TRIGGER:-PT2H
ACTION:DISPLAY
DESCRIPTION:SHARKS vs. AVIATORS
END:VALARM
END:VEVENT
BEGIN:VEVENT
UID:bcparks-59613939-20230930T100000@quickscores.com
DTSTAMP:20260425T181100Z
DTSTART;TZID=America/New_York:20230930T100000
DURATION:PT1H0M0S
SUMMARY:SKYHAWKS vs. AVIATORS
DESCRIPTION:South Rookies [1st&2nd Grades] - Brunswick County Parks & Recreation
LOCATION:SMITHVILLE PARK ROOKIE FIELD #1
CATEGORIES:QuickScores, Soccer - Youth Game
TRANSP:OPAQUE
BEGIN:VALARM
TRIGGER:-PT2H
ACTION:DISPLAY
DESCRIPTION:SKYHAWKS vs. AVIATORS
END:VALARM
END:VEVENT
BEGIN:VEVENT
UID:bcparks-59613941-20231007T110000@quickscores.com
DTSTAMP:20260425T181100Z
DTSTART;TZID=America/New_York:20231007T110000
DURATION:PT1H0M0S
SUMMARY:AVIATORS vs. BLIZZARD
DESCRIPTION:South Rookies [1st&2nd Grades] - Brunswick County Parks & Recreation
LOCATION:SMITHVILLE PARK ROOKIE FIELD #1
CATEGORIES:QuickScores, Soccer - Youth Game
TRANSP:OPAQUE
BEGIN:VALARM
TRIGGER:-PT2H
ACTION:DISPLAY
DESCRIPTION:AVIATORS vs. BLIZZARD
END:VALARM
END:VEVENT
BEGIN:VEVENT
UID:bcparks-59613946-20231014T100000@quickscores.com
DTSTAMP:20260425T181100Z
DTSTART;TZID=America/New_York:20231014T100000
DURATION:PT1H0M0S
SUMMARY:AVIATORS vs. UNITED
DESCRIPTION:South Rookies [1st&2nd Grades] - Brunswick County Parks & Recreation
LOCATION:SMITHVILLE PARK ROOKIE FIELD #1
CATEGORIES:QuickScores, Soccer - Youth Game
TRANSP:OPAQUE
BEGIN:VALARM
TRIGGER:-PT2H
ACTION:DISPLAY
DESCRIPTION:AVIATORS vs. UNITED
END:VALARM
END:VEVENT
BEGIN:VEVENT
UID:bcparks-59613949-20231021T110000@quickscores.com
DTSTAMP:20260425T181100Z
DTSTART;TZID=America/New_York:20231021T110000
DURATION:PT1H0M0S
SUMMARY:BUCS vs. AVIATORS
DESCRIPTION:South Rookies [1st&2nd Grades] - Brunswick County Parks & Recreation
LOCATION:SMITHVILLE PARK ROOKIE FIELD #2
CATEGORIES:QuickScores, Soccer - Youth Game
TRANSP:OPAQUE
BEGIN:VALARM
TRIGGER:-PT2H
ACTION:DISPLAY
DESCRIPTION:BUCS vs. AVIATORS
END:VALARM
END:VEVENT
BEGIN:VEVENT
UID:bcparks-59613951-20231028T110000@quickscores.com
DTSTAMP:20260425T181100Z
DTSTART;TZID=America/New_York:20231028T110000
DURATION:PT1H0M0S
SUMMARY:AVIATORS vs. SHARKS
DESCRIPTION:South Rookies [1st&2nd Grades] - Brunswick County Parks & Recreation
LOCATION:SMITHVILLE PARK ROOKIE FIELD #1
CATEGORIES:QuickScores, Soccer - Youth Game
TRANSP:OPAQUE
BEGIN:VALARM
TRIGGER:-PT2H
ACTION:DISPLAY
DESCRIPTION:AVIATORS vs. SHARKS
END:VALARM
END:VEVENT
END:VCALENDAR
