BEGIN:VCALENDAR
VERSION:2.0
PRODID:-//QuickScores.com//BQ Dynamic iCal Creator//EN
METHOD:PUBLISH
X-WR-CALNAME:SOL - Brunswick Youth Basketball- North & South Rookies [1st & 2nd Graders] - Winter 2021-2022
X-WR-CALDESC:QuickScores game calendar
X-PUBLISHED-TTL:PT24H
REFRESH-INTERVAL;VALUE=DURATION:PT24H
CALSCALE:GREGORIAN
BEGIN:VTIMEZONE
TZID:America/New_York
X-LIC-LOCATION:America/New_York
BEGIN:DAYLIGHT
TZNAME:EDT
TZOFFSETFROM:-0500
TZOFFSETTO:-0400
DTSTART:19700308T020000
RRULE:FREQ=YEARLY;BYMONTH=3;BYDAY=2SU
END:DAYLIGHT
BEGIN:STANDARD
TZNAME:EST
TZOFFSETFROM:-0400
TZOFFSETTO:-0500
DTSTART:19701101T020000
RRULE:FREQ=YEARLY;BYMONTH=11;BYDAY=1SU
END:STANDARD
END:VTIMEZONE
BEGIN:VEVENT
UID:bcparks-51484234-20220108T090000@quickscores.com
DTSTAMP:20260423T093700Z
DTSTART;TZID=America/New_York:20220108T090000
DURATION:PT1H0M0S
SUMMARY:SOL vs. LEGENDS
DESCRIPTION:Brunswick Youth Basketball- North & South Rookies [1st & 2nd Graders] - Brunswick County Parks & Recreation
LOCATION:SOUTH BRUNSWICK MIDDLE SCHOOL
CATEGORIES:QuickScores, Basketball - Youth Game
TRANSP:OPAQUE
BEGIN:VALARM
TRIGGER:-PT2H
ACTION:DISPLAY
DESCRIPTION:SOL vs. LEGENDS
END:VALARM
END:VEVENT
BEGIN:VEVENT
UID:bcparks-51484253-20220205T110000@quickscores.com
DTSTAMP:20260423T093700Z
DTSTART;TZID=America/New_York:20220205T110000
DURATION:PT1H0M0S
SUMMARY:MAVERICKS vs. SOL
DESCRIPTION:Brunswick Youth Basketball- North & South Rookies [1st & 2nd Graders] - Brunswick County Parks & Recreation
LOCATION:SOUTH BRUNSWICK MIDDLE SCHOOL
CATEGORIES:QuickScores, Basketball - Youth Game
TRANSP:OPAQUE
BEGIN:VALARM
TRIGGER:-PT2H
ACTION:DISPLAY
DESCRIPTION:MAVERICKS vs. SOL
END:VALARM
END:VEVENT
BEGIN:VEVENT
UID:bcparks-51484256-20220212T100000@quickscores.com
DTSTAMP:20260423T093700Z
DTSTART;TZID=America/New_York:20220212T100000
DURATION:PT1H0M0S
SUMMARY:SOL vs. KNICKS
DESCRIPTION:Brunswick Youth Basketball- North & South Rookies [1st & 2nd Graders] - Brunswick County Parks & Recreation
LOCATION:SOUTH BRUNSWICK MIDDLE SCHOOL
CATEGORIES:QuickScores, Basketball - Youth Game
TRANSP:OPAQUE
BEGIN:VALARM
TRIGGER:-PT2H
ACTION:DISPLAY
DESCRIPTION:SOL vs. KNICKS
END:VALARM
END:VEVENT
BEGIN:VEVENT
UID:bcparks-51484264-20220219T100000@quickscores.com
DTSTAMP:20260423T093700Z
DTSTART;TZID=America/New_York:20220219T100000
DURATION:PT1H0M0S
SUMMARY:SOL vs. MAVERICKS
DESCRIPTION:Brunswick Youth Basketball- North & South Rookies [1st & 2nd Graders] - Brunswick County Parks & Recreation
LOCATION:SOUTH BRUNSWICK MIDDLE SCHOOL
CATEGORIES:QuickScores, Basketball - Youth Game
TRANSP:OPAQUE
BEGIN:VALARM
TRIGGER:-PT2H
ACTION:DISPLAY
DESCRIPTION:SOL vs. MAVERICKS
END:VALARM
END:VEVENT
BEGIN:VEVENT
UID:bcparks-51484267-20220226T100000@quickscores.com
DTSTAMP:20260423T093700Z
DTSTART;TZID=America/New_York:20220226T100000
DURATION:PT1H0M0S
SUMMARY:NETS vs. SOL
DESCRIPTION:PICTURE DAY --- Brunswick Youth Basketball- North & South Rookies [1st & 2nd Graders] - Brunswick County Parks & Recreation
LOCATION:SOUTH BRUNSWICK MIDDLE SCHOOL
CATEGORIES:QuickScores, Basketball - Youth Game
TRANSP:OPAQUE
BEGIN:VALARM
TRIGGER:-PT2H
ACTION:DISPLAY
DESCRIPTION:NETS vs. SOL
END:VALARM
END:VEVENT
BEGIN:VEVENT
UID:bcparks-51484238-20220305T100000@quickscores.com
DTSTAMP:20260423T093700Z
DTSTART;TZID=America/New_York:20220305T100000
DURATION:PT1H0M0S
SUMMARY:HORNETS vs. SOL
DESCRIPTION:Week #2 Make-Up Day from January 15th. --- Brunswick Youth Basketball- North & South Rookies [1st & 2nd Graders] - Brunswick County Parks & Recreation
LOCATION:SOUTH BRUNSWICK MIDDLE SCHOOL
CATEGORIES:QuickScores, Basketball - Youth Game
TRANSP:OPAQUE
BEGIN:VALARM
TRIGGER:-PT2H
ACTION:DISPLAY
DESCRIPTION:HORNETS vs. SOL
END:VALARM
END:VEVENT
BEGIN:VEVENT
UID:bcparks-51484244-20220312T100000@quickscores.com
DTSTAMP:20260423T093700Z
DTSTART;TZID=America/New_York:20220312T100000
DURATION:PT1H0M0S
SUMMARY:SPARKS vs. SOL
DESCRIPTION:Week #3 Make-Up Day from January 22nd. --- Brunswick Youth Basketball- North & South Rookies [1st & 2nd Graders] - Brunswick County Parks & Recreation
LOCATION:SOUTH BRUNSWICK MIDDLE SCHOOL
CATEGORIES:QuickScores, Basketball - Youth Game
TRANSP:OPAQUE
BEGIN:VALARM
TRIGGER:-PT2H
ACTION:DISPLAY
DESCRIPTION:SPARKS vs. SOL
END:VALARM
END:VEVENT
BEGIN:VEVENT
UID:bcparks-51484247-20220319T100000@quickscores.com
DTSTAMP:20260423T093700Z
DTSTART;TZID=America/New_York:20220319T100000
DURATION:PT1H0M0S
SUMMARY:SOL vs. PISTONS
DESCRIPTION:Week #4 Make-Up Day from January 29th. --- Brunswick Youth Basketball- North & South Rookies [1st & 2nd Graders] - Brunswick County Parks & Recreation
LOCATION:SOUTH BRUNSWICK MIDDLE SCHOOL
CATEGORIES:QuickScores, Basketball - Youth Game
TRANSP:OPAQUE
BEGIN:VALARM
TRIGGER:-PT2H
ACTION:DISPLAY
DESCRIPTION:SOL vs. PISTONS
END:VALARM
END:VEVENT
END:VCALENDAR
