BEGIN:VCALENDAR
VERSION:2.0
PRODID:-//QuickScores.com//BQ Dynamic iCal Creator//EN
METHOD:PUBLISH
X-WR-CALNAME:TIGERS - Brunswick Youth Basketball- North & South Rookies [1st & 2nd Graders] - Winter 2021-2022
X-WR-CALDESC:QuickScores game calendar
X-PUBLISHED-TTL:PT24H
REFRESH-INTERVAL;VALUE=DURATION:PT24H
CALSCALE:GREGORIAN
BEGIN:VTIMEZONE
TZID:America/New_York
X-LIC-LOCATION:America/New_York
BEGIN:DAYLIGHT
TZNAME:EDT
TZOFFSETFROM:-0500
TZOFFSETTO:-0400
DTSTART:19700308T020000
RRULE:FREQ=YEARLY;BYMONTH=3;BYDAY=2SU
END:DAYLIGHT
BEGIN:STANDARD
TZNAME:EST
TZOFFSETFROM:-0400
TZOFFSETTO:-0500
DTSTART:19701101T020000
RRULE:FREQ=YEARLY;BYMONTH=11;BYDAY=1SU
END:STANDARD
END:VTIMEZONE
BEGIN:VEVENT
UID:bcparks-51484231-20220108T100000@quickscores.com
DTSTAMP:20260424T011800Z
DTSTART;TZID=America/New_York:20220108T100000
DURATION:PT1H0M0S
SUMMARY:MAVERICKS vs. TIGERS
DESCRIPTION:Brunswick Youth Basketball- North & South Rookies [1st & 2nd Graders] - Brunswick County Parks & Recreation
LOCATION:SOUTH BRUNSWICK MIDDLE SCHOOL
CATEGORIES:QuickScores, Basketball - Youth Game
TRANSP:OPAQUE
BEGIN:VALARM
TRIGGER:-PT2H
ACTION:DISPLAY
DESCRIPTION:MAVERICKS vs. TIGERS
END:VALARM
END:VEVENT
BEGIN:VEVENT
UID:bcparks-51484251-20220205T090000@quickscores.com
DTSTAMP:20260424T011800Z
DTSTART;TZID=America/New_York:20220205T090000
DURATION:PT1H0M0S
SUMMARY:TIGERS vs. NETS
DESCRIPTION:Brunswick Youth Basketball- North & South Rookies [1st & 2nd Graders] - Brunswick County Parks & Recreation
LOCATION:SOUTH BRUNSWICK MIDDLE SCHOOL
CATEGORIES:QuickScores, Basketball - Youth Game
TRANSP:OPAQUE
BEGIN:VALARM
TRIGGER:-PT2H
ACTION:DISPLAY
DESCRIPTION:TIGERS vs. NETS
END:VALARM
END:VEVENT
BEGIN:VEVENT
UID:bcparks-51484259-20220212T090000@quickscores.com
DTSTAMP:20260424T011800Z
DTSTART;TZID=America/New_York:20220212T090000
DURATION:PT1H0M0S
SUMMARY:HORNETS vs. TIGERS
DESCRIPTION:Brunswick Youth Basketball- North & South Rookies [1st & 2nd Graders] - Brunswick County Parks & Recreation
LOCATION:LELAND MIDDLE SCHOOL
CATEGORIES:QuickScores, Basketball - Youth Game
TRANSP:OPAQUE
BEGIN:VALARM
TRIGGER:-PT2H
ACTION:DISPLAY
DESCRIPTION:HORNETS vs. TIGERS
END:VALARM
END:VEVENT
BEGIN:VEVENT
UID:bcparks-51484262-20220219T110000@quickscores.com
DTSTAMP:20260424T011800Z
DTSTART;TZID=America/New_York:20220219T110000
DURATION:PT1H0M0S
SUMMARY:KNICKS vs. TIGERS
DESCRIPTION:Brunswick Youth Basketball- North & South Rookies [1st & 2nd Graders] - Brunswick County Parks & Recreation
LOCATION:LELAND MIDDLE SCHOOL
CATEGORIES:QuickScores, Basketball - Youth Game
TRANSP:OPAQUE
BEGIN:VALARM
TRIGGER:-PT2H
ACTION:DISPLAY
DESCRIPTION:KNICKS vs. TIGERS
END:VALARM
END:VEVENT
BEGIN:VEVENT
UID:bcparks-51484269-20220226T110000@quickscores.com
DTSTAMP:20260424T011800Z
DTSTART;TZID=America/New_York:20220226T110000
DURATION:PT1H0M0S
SUMMARY:TIGERS vs. PISTONS
DESCRIPTION:PICTURE DAY --- Brunswick Youth Basketball- North & South Rookies [1st & 2nd Graders] - Brunswick County Parks & Recreation
LOCATION:LELAND MIDDLE SCHOOL
CATEGORIES:QuickScores, Basketball - Youth Game
TRANSP:OPAQUE
BEGIN:VALARM
TRIGGER:-PT2H
ACTION:DISPLAY
DESCRIPTION:TIGERS vs. PISTONS
END:VALARM
END:VEVENT
BEGIN:VEVENT
UID:bcparks-51484237-20220305T110000@quickscores.com
DTSTAMP:20260424T011800Z
DTSTART;TZID=America/New_York:20220305T110000
DURATION:PT1H0M0S
SUMMARY:TIGERS vs. SPARKS
DESCRIPTION:Week #2 Make-Up Day from January 15th. --- Brunswick Youth Basketball- North & South Rookies [1st & 2nd Graders] - Brunswick County Parks & Recreation
LOCATION:LELAND MIDDLE SCHOOL
CATEGORIES:QuickScores, Basketball - Youth Game
TRANSP:OPAQUE
BEGIN:VALARM
TRIGGER:-PT2H
ACTION:DISPLAY
DESCRIPTION:TIGERS vs. SPARKS
END:VALARM
END:VEVENT
BEGIN:VEVENT
UID:bcparks-51484240-20220312T110000@quickscores.com
DTSTAMP:20260424T011800Z
DTSTART;TZID=America/New_York:20220312T110000
DURATION:PT1H0M0S
SUMMARY:TIGERS vs. FLASH
DESCRIPTION:Week #3 Make-Up Day from January 22nd. --- Brunswick Youth Basketball- North & South Rookies [1st & 2nd Graders] - Brunswick County Parks & Recreation
LOCATION:LELAND MIDDLE SCHOOL
CATEGORIES:QuickScores, Basketball - Youth Game
TRANSP:OPAQUE
BEGIN:VALARM
TRIGGER:-PT2H
ACTION:DISPLAY
DESCRIPTION:TIGERS vs. FLASH
END:VALARM
END:VEVENT
BEGIN:VEVENT
UID:bcparks-51484248-20220319T090000@quickscores.com
DTSTAMP:20260424T011800Z
DTSTART;TZID=America/New_York:20220319T090000
DURATION:PT1H0M0S
SUMMARY:LEGENDS vs. TIGERS
DESCRIPTION:Week #4 Make-Up Day from January 29th. --- Brunswick Youth Basketball- North & South Rookies [1st & 2nd Graders] - Brunswick County Parks & Recreation
LOCATION:LELAND MIDDLE SCHOOL
CATEGORIES:QuickScores, Basketball - Youth Game
TRANSP:OPAQUE
BEGIN:VALARM
TRIGGER:-PT2H
ACTION:DISPLAY
DESCRIPTION:LEGENDS vs. TIGERS
END:VALARM
END:VEVENT
END:VCALENDAR
