BEGIN:VCALENDAR
VERSION:2.0
PRODID:-//QuickScores.com//BQ Dynamic iCal Creator//EN
METHOD:PUBLISH
X-WR-CALNAME:WEST INDEPENDENCE - Junior Varsity Soccer - Fall 2021
X-WR-CALDESC:QuickScores game calendar
X-PUBLISHED-TTL:PT24H
REFRESH-INTERVAL;VALUE=DURATION:PT24H
CALSCALE:GREGORIAN
BEGIN:VTIMEZONE
TZID:America/New_York
X-LIC-LOCATION:America/New_York
BEGIN:DAYLIGHT
TZNAME:EDT
TZOFFSETFROM:-0500
TZOFFSETTO:-0400
DTSTART:19700308T020000
RRULE:FREQ=YEARLY;BYMONTH=3;BYDAY=2SU
END:DAYLIGHT
BEGIN:STANDARD
TZNAME:EST
TZOFFSETFROM:-0400
TZOFFSETTO:-0500
DTSTART:19701101T020000
RRULE:FREQ=YEARLY;BYMONTH=11;BYDAY=1SU
END:STANDARD
END:VTIMEZONE
BEGIN:VEVENT
UID:bcparks-50590558-20210911T120000@quickscores.com
DTSTAMP:20260423T080500Z
DTSTART;TZID=America/New_York:20210911T120000
DURATION:PT1H0M0S
SUMMARY:WEST PHOENIX vs. WEST INDEPENDENCE
DESCRIPTION:Junior Varsity Soccer - Brunswick County Parks & Recreation
LOCATION:O.I.B. PARK J.V. #1
CATEGORIES:QuickScores, Soccer - Youth Game
TRANSP:OPAQUE
BEGIN:VALARM
TRIGGER:-PT2H
ACTION:DISPLAY
DESCRIPTION:WEST PHOENIX vs. WEST INDEPENDENCE
END:VALARM
END:VEVENT
BEGIN:VEVENT
UID:bcparks-50590561-20210918T120000@quickscores.com
DTSTAMP:20260423T080500Z
DTSTART;TZID=America/New_York:20210918T120000
DURATION:PT1H0M0S
SUMMARY:WEST INDEPENDENCE vs. WEST SHOCK
DESCRIPTION:Junior Varsity Soccer - Brunswick County Parks & Recreation
LOCATION:O.I.B. PARK J.V. #2
CATEGORIES:QuickScores, Soccer - Youth Game
TRANSP:OPAQUE
BEGIN:VALARM
TRIGGER:-PT2H
ACTION:DISPLAY
DESCRIPTION:WEST INDEPENDENCE vs. WEST SHOCK
END:VALARM
END:VEVENT
BEGIN:VEVENT
UID:bcparks-50590563-20210925T120000@quickscores.com
DTSTAMP:20260423T080500Z
DTSTART;TZID=America/New_York:20210925T120000
DURATION:PT1H0M0S
SUMMARY:WEST MONARCHS vs. WEST INDEPENDENCE
DESCRIPTION:Junior Varsity Soccer - Brunswick County Parks & Recreation
LOCATION:O.I.B. PARK J.V. #2
CATEGORIES:QuickScores, Soccer - Youth Game
TRANSP:OPAQUE
BEGIN:VALARM
TRIGGER:-PT2H
ACTION:DISPLAY
DESCRIPTION:WEST MONARCHS vs. WEST INDEPENDENCE
END:VALARM
END:VEVENT
BEGIN:VEVENT
UID:bcparks-50590565-20211002T120000@quickscores.com
DTSTAMP:20260423T080500Z
DTSTART;TZID=America/New_York:20211002T120000
DURATION:PT1H0M0S
SUMMARY:WEST INDEPENDENCE vs. WEST PHOENIX
DESCRIPTION:PICTURE DAY-EVENT FOTOS-(843) 236-2201 --- Junior Varsity Soccer - Brunswick County Parks & Recreation
LOCATION:O.I.B. PARK J.V. #2
CATEGORIES:QuickScores, Soccer - Youth Game
TRANSP:OPAQUE
BEGIN:VALARM
TRIGGER:-PT2H
ACTION:DISPLAY
DESCRIPTION:WEST INDEPENDENCE vs. WEST PHOENIX
END:VALARM
END:VEVENT
BEGIN:VEVENT
UID:bcparks-50590566-20211009T120000@quickscores.com
DTSTAMP:20260423T080500Z
DTSTART;TZID=America/New_York:20211009T120000
DURATION:PT1H0M0S
SUMMARY:WEST SHOCK vs. WEST INDEPENDENCE
DESCRIPTION:RAINOUT-WILL BE PLAYED NOVEMBER 6TH. --- Junior Varsity Soccer - Brunswick County Parks & Recreation
LOCATION:O.I.B. PARK J.V. #1
CATEGORIES:QuickScores, Soccer - Youth Game
TRANSP:OPAQUE
BEGIN:VALARM
TRIGGER:-PT2H
ACTION:DISPLAY
DESCRIPTION:WEST SHOCK vs. WEST INDEPENDENCE
END:VALARM
END:VEVENT
BEGIN:VEVENT
UID:bcparks-50590568-20211016T120000@quickscores.com
DTSTAMP:20260423T080500Z
DTSTART;TZID=America/New_York:20211016T120000
DURATION:PT1H0M0S
SUMMARY:WEST INDEPENDENCE vs. WEST MONARCHS
DESCRIPTION:Junior Varsity Soccer - Brunswick County Parks & Recreation
LOCATION:O.I.B. PARK J.V. #1
CATEGORIES:QuickScores, Soccer - Youth Game
TRANSP:OPAQUE
BEGIN:VALARM
TRIGGER:-PT2H
ACTION:DISPLAY
DESCRIPTION:WEST INDEPENDENCE vs. WEST MONARCHS
END:VALARM
END:VEVENT
BEGIN:VEVENT
UID:bcparks-50590570-20211023T120000@quickscores.com
DTSTAMP:20260423T080500Z
DTSTART;TZID=America/New_York:20211023T120000
DURATION:PT1H0M0S
SUMMARY:WEST PHOENIX vs. WEST INDEPENDENCE
DESCRIPTION:Junior Varsity Soccer - Brunswick County Parks & Recreation
LOCATION:O.I.B. PARK J.V. #1
CATEGORIES:QuickScores, Soccer - Youth Game
TRANSP:OPAQUE
BEGIN:VALARM
TRIGGER:-PT2H
ACTION:DISPLAY
DESCRIPTION:WEST PHOENIX vs. WEST INDEPENDENCE
END:VALARM
END:VEVENT
BEGIN:VEVENT
UID:bcparks-50590573-20211030T120000@quickscores.com
DTSTAMP:20260423T080500Z
DTSTART;TZID=America/New_York:20211030T120000
DURATION:PT1H0M0S
SUMMARY:WEST INDEPENDENCE vs. WEST SHOCK
DESCRIPTION:Junior Varsity Soccer - Brunswick County Parks & Recreation
LOCATION:O.I.B. PARK J.V. #2
CATEGORIES:QuickScores, Soccer - Youth Game
TRANSP:OPAQUE
BEGIN:VALARM
TRIGGER:-PT2H
ACTION:DISPLAY
DESCRIPTION:WEST INDEPENDENCE vs. WEST SHOCK
END:VALARM
END:VEVENT
END:VCALENDAR
