BEGIN:VCALENDAR
VERSION:2.0
PRODID:-//QuickScores.com//BQ Dynamic iCal Creator//EN
METHOD:PUBLISH
X-WR-CALNAME:SOUTH GAMECOCKS - Junior Varsity Soccer - Fall 2021
X-WR-CALDESC:QuickScores game calendar
X-PUBLISHED-TTL:PT24H
REFRESH-INTERVAL;VALUE=DURATION:PT24H
CALSCALE:GREGORIAN
BEGIN:VTIMEZONE
TZID:America/New_York
X-LIC-LOCATION:America/New_York
BEGIN:DAYLIGHT
TZNAME:EDT
TZOFFSETFROM:-0500
TZOFFSETTO:-0400
DTSTART:19700308T020000
RRULE:FREQ=YEARLY;BYMONTH=3;BYDAY=2SU
END:DAYLIGHT
BEGIN:STANDARD
TZNAME:EST
TZOFFSETFROM:-0400
TZOFFSETTO:-0500
DTSTART:19701101T020000
RRULE:FREQ=YEARLY;BYMONTH=11;BYDAY=1SU
END:STANDARD
END:VTIMEZONE
BEGIN:VEVENT
UID:bcparks-50584947-20210911T120000@quickscores.com
DTSTAMP:20260423T140800Z
DTSTART;TZID=America/New_York:20210911T120000
DURATION:PT1H0M0S
SUMMARY:SOUTH GALAXY vs. SOUTH GAMECOCKS
DESCRIPTION:Junior Varsity Soccer - Brunswick County Parks & Recreation
LOCATION:SMITHVILLE PARK J.V. #1
CATEGORIES:QuickScores, Soccer - Youth Game
TRANSP:OPAQUE
BEGIN:VALARM
TRIGGER:-PT2H
ACTION:DISPLAY
DESCRIPTION:SOUTH GALAXY vs. SOUTH GAMECOCKS
END:VALARM
END:VEVENT
BEGIN:VEVENT
UID:bcparks-50584952-20210918T120000@quickscores.com
DTSTAMP:20260423T140800Z
DTSTART;TZID=America/New_York:20210918T120000
DURATION:PT1H0M0S
SUMMARY:SOUTH FIREANTS vs. SOUTH GAMECOCKS
DESCRIPTION:Junior Varsity Soccer - Brunswick County Parks & Recreation
LOCATION:SMITHVILLE PARK J.V. #2
CATEGORIES:QuickScores, Soccer - Youth Game
TRANSP:OPAQUE
BEGIN:VALARM
TRIGGER:-PT2H
ACTION:DISPLAY
DESCRIPTION:SOUTH FIREANTS vs. SOUTH GAMECOCKS
END:VALARM
END:VEVENT
BEGIN:VEVENT
UID:bcparks-50584954-20210925T120000@quickscores.com
DTSTAMP:20260423T140800Z
DTSTART;TZID=America/New_York:20210925T120000
DURATION:PT1H0M0S
SUMMARY:SOUTH STARS vs. SOUTH GAMECOCKS
DESCRIPTION:Junior Varsity Soccer - Brunswick County Parks & Recreation
LOCATION:SMITHVILLE PARK J.V. #1
CATEGORIES:QuickScores, Soccer - Youth Game
TRANSP:OPAQUE
BEGIN:VALARM
TRIGGER:-PT2H
ACTION:DISPLAY
DESCRIPTION:SOUTH STARS vs. SOUTH GAMECOCKS
END:VALARM
END:VEVENT
BEGIN:VEVENT
UID:bcparks-50584960-20211002T123000@quickscores.com
DTSTAMP:20260423T140800Z
DTSTART;TZID=America/New_York:20211002T123000
DURATION:PT1H0M0S
SUMMARY:SOUTH GAMECOCKS vs. NORTH ARMADA
DESCRIPTION:PICTURE DAY-EVENT FOTOS-(843) 236-2201 --- Junior Varsity Soccer - Brunswick County Parks & Recreation
LOCATION:NORTHWEST PARK JUNIOR VARSITY
CATEGORIES:QuickScores, Soccer - Youth Game
TRANSP:OPAQUE
BEGIN:VALARM
TRIGGER:-PT2H
ACTION:DISPLAY
DESCRIPTION:SOUTH GAMECOCKS vs. NORTH ARMADA
END:VALARM
END:VEVENT
BEGIN:VEVENT
UID:bcparks-50584961-20211009T110000@quickscores.com
DTSTAMP:20260423T140800Z
DTSTART;TZID=America/New_York:20211009T110000
DURATION:PT1H0M0S
SUMMARY:NORTH DRAGONS vs. SOUTH GAMECOCKS
DESCRIPTION:Junior Varsity Soccer - Brunswick County Parks & Recreation
LOCATION:NORTHWEST PARK JUNIOR VARSITY
CATEGORIES:QuickScores, Soccer - Youth Game
TRANSP:OPAQUE
BEGIN:VALARM
TRIGGER:-PT2H
ACTION:DISPLAY
DESCRIPTION:NORTH DRAGONS vs. SOUTH GAMECOCKS
END:VALARM
END:VEVENT
BEGIN:VEVENT
UID:bcparks-50584967-20211016T120000@quickscores.com
DTSTAMP:20260423T140800Z
DTSTART;TZID=America/New_York:20211016T120000
DURATION:PT1H0M0S
SUMMARY:SOUTH GAMECOCKS vs. NORTH STORM
DESCRIPTION:Junior Varsity Soccer - Brunswick County Parks & Recreation
LOCATION:SMITHVILLE PARK J.V. #2
CATEGORIES:QuickScores, Soccer - Youth Game
TRANSP:OPAQUE
BEGIN:VALARM
TRIGGER:-PT2H
ACTION:DISPLAY
DESCRIPTION:SOUTH GAMECOCKS vs. NORTH STORM
END:VALARM
END:VEVENT
BEGIN:VEVENT
UID:bcparks-50584970-20211023T120000@quickscores.com
DTSTAMP:20260423T140800Z
DTSTART;TZID=America/New_York:20211023T120000
DURATION:PT1H0M0S
SUMMARY:SOUTH GAMECOCKS vs. SOUTH SILVERBACKS
DESCRIPTION:Junior Varsity Soccer - Brunswick County Parks & Recreation
LOCATION:SMITHVILLE PARK J.V. #1
CATEGORIES:QuickScores, Soccer - Youth Game
TRANSP:OPAQUE
BEGIN:VALARM
TRIGGER:-PT2H
ACTION:DISPLAY
DESCRIPTION:SOUTH GAMECOCKS vs. SOUTH SILVERBACKS
END:VALARM
END:VEVENT
BEGIN:VEVENT
UID:bcparks-50584975-20211030T120000@quickscores.com
DTSTAMP:20260423T140800Z
DTSTART;TZID=America/New_York:20211030T120000
DURATION:PT1H0M0S
SUMMARY:SOUTH GAMECOCKS vs. SOUTH GALAXY
DESCRIPTION:Junior Varsity Soccer - Brunswick County Parks & Recreation
LOCATION:SMITHVILLE PARK J.V. #2
CATEGORIES:QuickScores, Soccer - Youth Game
TRANSP:OPAQUE
BEGIN:VALARM
TRIGGER:-PT2H
ACTION:DISPLAY
DESCRIPTION:SOUTH GAMECOCKS vs. SOUTH GALAXY
END:VALARM
END:VEVENT
END:VCALENDAR
