BEGIN:VCALENDAR
VERSION:2.0
PRODID:-//QuickScores.com//BQ Dynamic iCal Creator//EN
METHOD:PUBLISH
X-WR-CALNAME:SOBA SILVER - 9u - Spring 2026
X-WR-CALDESC:QuickScores game calendar
X-PUBLISHED-TTL:PT24H
REFRESH-INTERVAL;VALUE=DURATION:PT24H
CALSCALE:GREGORIAN
BEGIN:VTIMEZONE
TZID:America/Los_Angeles
X-LIC-LOCATION:America/Los_Angeles
BEGIN:DAYLIGHT
TZNAME:PDT
TZOFFSETFROM:-0800
TZOFFSETTO:-0700
DTSTART:19700308T020000
RRULE:FREQ=YEARLY;BYMONTH=3;BYDAY=2SU
END:DAYLIGHT
BEGIN:STANDARD
TZNAME:PST
TZOFFSETFROM:-0700
TZOFFSETTO:-0800
DTSTART:19701101T020000
RRULE:FREQ=YEARLY;BYMONTH=11;BYDAY=1SU
END:STANDARD
END:VTIMEZONE
BEGIN:VEVENT
UID:baseball365-73452330-20260308T080000@quickscores.com
DTSTAMP:20260425T065500Z
DTSTART;TZID=America/Los_Angeles:20260308T080000
DURATION:PT1H30M0S
SUMMARY:SOBA SILVER vs. ACES
DESCRIPTION:9u - Top Prospect Athletics
LOCATION:SIBL 2
CATEGORIES:QuickScores, Baseball Game
TRANSP:OPAQUE
BEGIN:VALARM
TRIGGER:-PT2H
ACTION:DISPLAY
DESCRIPTION:SOBA SILVER vs. ACES
END:VALARM
END:VEVENT
BEGIN:VEVENT
UID:baseball365-73452332-20260308T100000@quickscores.com
DTSTAMP:20260425T065500Z
DTSTART;TZID=America/Los_Angeles:20260308T100000
DURATION:PT1H30M0S
SUMMARY:BH14 vs. SOBA SILVER
DESCRIPTION:9u - Top Prospect Athletics
LOCATION:SIBL 2
CATEGORIES:QuickScores, Baseball Game
TRANSP:OPAQUE
BEGIN:VALARM
TRIGGER:-PT2H
ACTION:DISPLAY
DESCRIPTION:BH14 vs. SOBA SILVER
END:VALARM
END:VEVENT
BEGIN:VEVENT
UID:baseball365-73829729-20260322T080000@quickscores.com
DTSTAMP:20260425T065500Z
DTSTART;TZID=America/Los_Angeles:20260322T080000
DURATION:PT1H30M0S
SUMMARY:SOBA SILVER vs. Lions
DESCRIPTION:9u - Top Prospect Athletics
LOCATION:SIBL #3
CATEGORIES:QuickScores, Baseball Game
TRANSP:OPAQUE
BEGIN:VALARM
TRIGGER:-PT2H
ACTION:DISPLAY
DESCRIPTION:SOBA SILVER vs. Lions
END:VALARM
END:VEVENT
BEGIN:VEVENT
UID:baseball365-74713572-20260426T120000@quickscores.com
DTSTAMP:20260425T065500Z
DTSTART;TZID=America/Los_Angeles:20260426T120000
DURATION:PT1H30M0S
SUMMARY:SOBA SILVER vs. 365 PROSPECTS
DESCRIPTION:9u - Top Prospect Athletics
LOCATION:SIBL 2
CATEGORIES:QuickScores, Baseball Game
TRANSP:OPAQUE
BEGIN:VALARM
TRIGGER:-PT2H
ACTION:DISPLAY
DESCRIPTION:SOBA SILVER vs. 365 PROSPECTS
END:VALARM
END:VEVENT
END:VCALENDAR
