BEGIN:VCALENDAR
VERSION:2.0
PRODID:-//QuickScores.com//BQ Dynamic iCal Creator//EN
METHOD:PUBLISH
X-WR-CALNAME:HONEYBADGERS - 11u - Halloween Bash 2
X-WR-CALDESC:QuickScores game calendar
X-PUBLISHED-TTL:PT24H
REFRESH-INTERVAL;VALUE=DURATION:PT24H
CALSCALE:GREGORIAN
BEGIN:VTIMEZONE
TZID:America/Los_Angeles
X-LIC-LOCATION:America/Los_Angeles
BEGIN:DAYLIGHT
TZNAME:PDT
TZOFFSETFROM:-0800
TZOFFSETTO:-0700
DTSTART:19700308T020000
RRULE:FREQ=YEARLY;BYMONTH=3;BYDAY=2SU
END:DAYLIGHT
BEGIN:STANDARD
TZNAME:PST
TZOFFSETFROM:-0700
TZOFFSETTO:-0800
DTSTART:19701101T020000
RRULE:FREQ=YEARLY;BYMONTH=11;BYDAY=1SU
END:STANDARD
END:VTIMEZONE
BEGIN:VEVENT
UID:baseball365-71443518-20251025T120000@quickscores.com
DTSTAMP:20260425T185600Z
DTSTART;TZID=America/Los_Angeles:20251025T120000
DURATION:PT1H30M0S
SUMMARY:LONGBALL vs. HONEYBADGERS
DESCRIPTION:11u - Top Prospect Athletics
LOCATION:EFF 5
CATEGORIES:QuickScores, Baseball Game
TRANSP:OPAQUE
BEGIN:VALARM
TRIGGER:-PT2H
ACTION:DISPLAY
DESCRIPTION:LONGBALL vs. HONEYBADGERS
END:VALARM
END:VEVENT
BEGIN:VEVENT
UID:baseball365-71443520-20251025T160000@quickscores.com
DTSTAMP:20260425T185600Z
DTSTART;TZID=America/Los_Angeles:20251025T160000
DURATION:PT1H30M0S
SUMMARY:HONEYBADGERS vs. VAPORS
DESCRIPTION:11u - Top Prospect Athletics
LOCATION:EFF 5
CATEGORIES:QuickScores, Baseball Game
TRANSP:OPAQUE
BEGIN:VALARM
TRIGGER:-PT2H
ACTION:DISPLAY
DESCRIPTION:HONEYBADGERS vs. VAPORS
END:VALARM
END:VEVENT
BEGIN:VEVENT
UID:baseball365-71452203-20251026T120000@quickscores.com
DTSTAMP:20260425T185600Z
DTSTART;TZID=America/Los_Angeles:20251026T120000
DURATION:PT1H30M0S
SUMMARY:[1] HONEYBADGERS vs. [4] VAPORS
DESCRIPTION:11u - Top Prospect Athletics
LOCATION:EFF 5
CATEGORIES:QuickScores, Baseball Game
TRANSP:OPAQUE
BEGIN:VALARM
TRIGGER:-PT2H
ACTION:DISPLAY
DESCRIPTION:[1] HONEYBADGERS vs. [4] VAPORS
END:VALARM
END:VEVENT
BEGIN:VEVENT
UID:baseball365-71452205-20251026T140000@quickscores.com
DTSTAMP:20260425T185600Z
DTSTART;TZID=America/Los_Angeles:20251026T140000
DURATION:PT1H30M0S
SUMMARY:[1] HONEYBADGERS vs. [3] CABALLEROS
DESCRIPTION:11u - Top Prospect Athletics
LOCATION:EFF 5
CATEGORIES:QuickScores, Baseball Game
TRANSP:OPAQUE
BEGIN:VALARM
TRIGGER:-PT2H
ACTION:DISPLAY
DESCRIPTION:[1] HONEYBADGERS vs. [3] CABALLEROS
END:VALARM
END:VEVENT
END:VCALENDAR
