BEGIN:VCALENDAR
VERSION:2.0
PRODID:-//QuickScores.com//BQ Dynamic iCal Creator//EN
METHOD:PUBLISH
X-WR-CALNAME:GameSpeed - 13u - Winter Slam 25&#039;
X-WR-CALDESC:QuickScores game calendar
X-PUBLISHED-TTL:PT24H
REFRESH-INTERVAL;VALUE=DURATION:PT24H
CALSCALE:GREGORIAN
BEGIN:VTIMEZONE
TZID:America/Los_Angeles
X-LIC-LOCATION:America/Los_Angeles
BEGIN:DAYLIGHT
TZNAME:PDT
TZOFFSETFROM:-0800
TZOFFSETTO:-0700
DTSTART:19700308T020000
RRULE:FREQ=YEARLY;BYMONTH=3;BYDAY=2SU
END:DAYLIGHT
BEGIN:STANDARD
TZNAME:PST
TZOFFSETFROM:-0700
TZOFFSETTO:-0800
DTSTART:19701101T020000
RRULE:FREQ=YEARLY;BYMONTH=11;BYDAY=1SU
END:STANDARD
END:VTIMEZONE
BEGIN:VEVENT
UID:baseball365-66927802-20250125T090000@quickscores.com
DTSTAMP:20260419T234400Z
DTSTART;TZID=America/Los_Angeles:20250125T090000
DURATION:PT1H30M0S
SUMMARY:Aces Baseball Club vs. GameSpeed
DESCRIPTION:13u - Top Prospect Athletics
LOCATION:SIBL 1
CATEGORIES:QuickScores, Baseball Game
TRANSP:OPAQUE
BEGIN:VALARM
TRIGGER:-PT2H
ACTION:DISPLAY
DESCRIPTION:Aces Baseball Club vs. GameSpeed
END:VALARM
END:VEVENT
BEGIN:VEVENT
UID:baseball365-66927806-20250125T130000@quickscores.com
DTSTAMP:20260419T234400Z
DTSTART;TZID=America/Los_Angeles:20250125T130000
DURATION:PT1H30M0S
SUMMARY:GameSpeed vs. 365 TTG
DESCRIPTION:13u - Top Prospect Athletics
LOCATION:SIBL 1
CATEGORIES:QuickScores, Baseball Game
TRANSP:OPAQUE
BEGIN:VALARM
TRIGGER:-PT2H
ACTION:DISPLAY
DESCRIPTION:GameSpeed vs. 365 TTG
END:VALARM
END:VEVENT
BEGIN:VEVENT
UID:baseball365-66928060-20250202T090000@quickscores.com
DTSTAMP:20260419T234400Z
DTSTART;TZID=America/Los_Angeles:20250202T090000
DURATION:PT1H30M0S
SUMMARY:[2] GameSpeed vs. [3] 365 TTG
DESCRIPTION:13u - Top Prospect Athletics
LOCATION:SIBL 1
CATEGORIES:QuickScores, Baseball Game
TRANSP:OPAQUE
BEGIN:VALARM
TRIGGER:-PT2H
ACTION:DISPLAY
DESCRIPTION:[2] GameSpeed vs. [3] 365 TTG
END:VALARM
END:VEVENT
END:VCALENDAR
