BEGIN:VCALENDAR
VERSION:2.0
PRODID:-//QuickScores.com//BQ Dynamic iCal Creator//EN
METHOD:PUBLISH
X-WR-CALNAME:365 SHOCKERS - 10u - Fall Ball 2024
X-WR-CALDESC:QuickScores game calendar
X-PUBLISHED-TTL:PT24H
REFRESH-INTERVAL;VALUE=DURATION:PT24H
CALSCALE:GREGORIAN
BEGIN:VTIMEZONE
TZID:America/Los_Angeles
X-LIC-LOCATION:America/Los_Angeles
BEGIN:DAYLIGHT
TZNAME:PDT
TZOFFSETFROM:-0800
TZOFFSETTO:-0700
DTSTART:19700308T020000
RRULE:FREQ=YEARLY;BYMONTH=3;BYDAY=2SU
END:DAYLIGHT
BEGIN:STANDARD
TZNAME:PST
TZOFFSETFROM:-0700
TZOFFSETTO:-0800
DTSTART:19701101T020000
RRULE:FREQ=YEARLY;BYMONTH=11;BYDAY=1SU
END:STANDARD
END:VTIMEZONE
BEGIN:VEVENT
UID:baseball365-65290907-20240915T080000@quickscores.com
DTSTAMP:20260421T135300Z
DTSTART;TZID=America/Los_Angeles:20240915T080000
DURATION:PT1H30M0S
SUMMARY:LOS TORITOS 10U vs. 365 SHOCKERS
DESCRIPTION:10u - Top Prospect Athletics
LOCATION:EFF 4
CATEGORIES:QuickScores, Baseball Game
TRANSP:OPAQUE
BEGIN:VALARM
TRIGGER:-PT2H
ACTION:DISPLAY
DESCRIPTION:LOS TORITOS 10U vs. 365 SHOCKERS
END:VALARM
END:VEVENT
BEGIN:VEVENT
UID:baseball365-65290908-20240915T100000@quickscores.com
DTSTAMP:20260421T135300Z
DTSTART;TZID=America/Los_Angeles:20240915T100000
DURATION:PT1H30M0S
SUMMARY:365 SHOCKERS vs. WILSHIRE WARRIORS 10U
DESCRIPTION:10u - Top Prospect Athletics
LOCATION:EFF 4
CATEGORIES:QuickScores, Baseball Game
TRANSP:OPAQUE
BEGIN:VALARM
TRIGGER:-PT2H
ACTION:DISPLAY
DESCRIPTION:365 SHOCKERS vs. WILSHIRE WARRIORS 10U
END:VALARM
END:VEVENT
BEGIN:VEVENT
UID:baseball365-65454076-20240929T080000@quickscores.com
DTSTAMP:20260421T135300Z
DTSTART;TZID=America/Los_Angeles:20240929T080000
DURATION:PT1H30M0S
SUMMARY:PALI RIPTIDE 10U GREEN vs. 365 SHOCKERS
DESCRIPTION:10u - Top Prospect Athletics
LOCATION:EFF 4
CATEGORIES:QuickScores, Baseball Game
TRANSP:OPAQUE
BEGIN:VALARM
TRIGGER:-PT2H
ACTION:DISPLAY
DESCRIPTION:PALI RIPTIDE 10U GREEN vs. 365 SHOCKERS
END:VALARM
END:VEVENT
BEGIN:VEVENT
UID:baseball365-65454077-20240929T100000@quickscores.com
DTSTAMP:20260421T135300Z
DTSTART;TZID=America/Los_Angeles:20240929T100000
DURATION:PT1H30M0S
SUMMARY:365 SHOCKERS vs. WILSHIRE WARRIORS 10U
DESCRIPTION:10u - Top Prospect Athletics
LOCATION:EFF 4
CATEGORIES:QuickScores, Baseball Game
TRANSP:OPAQUE
BEGIN:VALARM
TRIGGER:-PT2H
ACTION:DISPLAY
DESCRIPTION:365 SHOCKERS vs. WILSHIRE WARRIORS 10U
END:VALARM
END:VEVENT
BEGIN:VEVENT
UID:baseball365-65619793-20241013T120000@quickscores.com
DTSTAMP:20260421T135300Z
DTSTART;TZID=America/Los_Angeles:20241013T120000
DURATION:PT1H30M0S
SUMMARY:365 SHOCKERS vs. WILSHIRE WARRIORS 10U
DESCRIPTION:10u - Top Prospect Athletics
LOCATION:EFF 4
CATEGORIES:QuickScores, Baseball Game
TRANSP:OPAQUE
BEGIN:VALARM
TRIGGER:-PT2H
ACTION:DISPLAY
DESCRIPTION:365 SHOCKERS vs. WILSHIRE WARRIORS 10U
END:VALARM
END:VEVENT
BEGIN:VEVENT
UID:baseball365-65619794-20241013T140000@quickscores.com
DTSTAMP:20260421T135300Z
DTSTART;TZID=America/Los_Angeles:20241013T140000
DURATION:PT1H30M0S
SUMMARY:TENACITY 10U vs. 365 SHOCKERS
DESCRIPTION:10u - Top Prospect Athletics
LOCATION:EFF 4
CATEGORIES:QuickScores, Baseball Game
TRANSP:OPAQUE
BEGIN:VALARM
TRIGGER:-PT2H
ACTION:DISPLAY
DESCRIPTION:TENACITY 10U vs. 365 SHOCKERS
END:VALARM
END:VEVENT
BEGIN:VEVENT
UID:baseball365-65946620-20241110T113000@quickscores.com
DTSTAMP:20260421T135300Z
DTSTART;TZID=America/Los_Angeles:20241110T113000
DURATION:PT1H30M0S
SUMMARY:365 SHOCKERS vs. MVP HUSTLE LUNA 10U
DESCRIPTION:10u - Top Prospect Athletics
LOCATION:EFF 4
CATEGORIES:QuickScores, Baseball Game
TRANSP:OPAQUE
BEGIN:VALARM
TRIGGER:-PT2H
ACTION:DISPLAY
DESCRIPTION:365 SHOCKERS vs. MVP HUSTLE LUNA 10U
END:VALARM
END:VEVENT
BEGIN:VEVENT
UID:baseball365-65946621-20241110T133000@quickscores.com
DTSTAMP:20260421T135300Z
DTSTART;TZID=America/Los_Angeles:20241110T133000
DURATION:PT1H30M0S
SUMMARY:Toluca Titans vs. 365 SHOCKERS
DESCRIPTION:10u - Top Prospect Athletics
LOCATION:EFF 4
CATEGORIES:QuickScores, Baseball Game
TRANSP:OPAQUE
BEGIN:VALARM
TRIGGER:-PT2H
ACTION:DISPLAY
DESCRIPTION:Toluca Titans vs. 365 SHOCKERS
END:VALARM
END:VEVENT
BEGIN:VEVENT
UID:baseball365-66046280-20241116T150000@quickscores.com
DTSTAMP:20260421T135300Z
DTSTART;TZID=America/Los_Angeles:20241116T150000
DURATION:PT1H30M0S
SUMMARY:365 SHOCKERS vs. TENACITY 10U
DESCRIPTION:10u - Top Prospect Athletics
LOCATION:EFF 4
CATEGORIES:QuickScores, Baseball Game
TRANSP:OPAQUE
BEGIN:VALARM
TRIGGER:-PT2H
ACTION:DISPLAY
DESCRIPTION:365 SHOCKERS vs. TENACITY 10U
END:VALARM
END:VEVENT
END:VCALENDAR
