BEGIN:VCALENDAR
VERSION:2.0
PRODID:-//QuickScores.com//BQ Dynamic iCal Creator//EN
METHOD:PUBLISH
X-WR-CALNAME:Renegades 9u - 9u - Easter Challenge
X-WR-CALDESC:QuickScores game calendar
X-PUBLISHED-TTL:PT24H
REFRESH-INTERVAL;VALUE=DURATION:PT24H
CALSCALE:GREGORIAN
BEGIN:VTIMEZONE
TZID:America/Los_Angeles
X-LIC-LOCATION:America/Los_Angeles
BEGIN:DAYLIGHT
TZNAME:PDT
TZOFFSETFROM:-0800
TZOFFSETTO:-0700
DTSTART:19700308T020000
RRULE:FREQ=YEARLY;BYMONTH=3;BYDAY=2SU
END:DAYLIGHT
BEGIN:STANDARD
TZNAME:PST
TZOFFSETFROM:-0700
TZOFFSETTO:-0800
DTSTART:19701101T020000
RRULE:FREQ=YEARLY;BYMONTH=11;BYDAY=1SU
END:STANDARD
END:VTIMEZONE
BEGIN:VEVENT
UID:baseball365-62518176-20240329T100000@quickscores.com
DTSTAMP:20260423T152200Z
DTSTART;TZID=America/Los_Angeles:20240329T100000
DURATION:PT1H30M0S
SUMMARY:Titans 9u vs. Renegades 9u
DESCRIPTION:9u - Top Prospect Athletics
LOCATION:SIBL #7
CATEGORIES:QuickScores, Baseball Game
TRANSP:OPAQUE
BEGIN:VALARM
TRIGGER:-PT2H
ACTION:DISPLAY
DESCRIPTION:Titans 9u vs. Renegades 9u
END:VALARM
END:VEVENT
BEGIN:VEVENT
UID:baseball365-62518178-20240329T140000@quickscores.com
DTSTAMP:20260423T152200Z
DTSTART;TZID=America/Los_Angeles:20240329T140000
DURATION:PT1H30M0S
SUMMARY:Renegades 9u vs. Longball 9u
DESCRIPTION:9u - Top Prospect Athletics
LOCATION:SIBL #7
CATEGORIES:QuickScores, Baseball Game
TRANSP:OPAQUE
BEGIN:VALARM
TRIGGER:-PT2H
ACTION:DISPLAY
DESCRIPTION:Renegades 9u vs. Longball 9u
END:VALARM
END:VEVENT
END:VCALENDAR
