BEGIN:VCALENDAR
VERSION:2.0
PRODID:-//QuickScores.com//BQ Dynamic iCal Creator//EN
METHOD:PUBLISH
X-WR-CALNAME:Wilshire Warriors 11U - 11u - Spring 2024
X-WR-CALDESC:QuickScores game calendar
X-PUBLISHED-TTL:PT24H
REFRESH-INTERVAL;VALUE=DURATION:PT24H
CALSCALE:GREGORIAN
BEGIN:VTIMEZONE
TZID:America/Los_Angeles
X-LIC-LOCATION:America/Los_Angeles
BEGIN:DAYLIGHT
TZNAME:PDT
TZOFFSETFROM:-0800
TZOFFSETTO:-0700
DTSTART:19700308T020000
RRULE:FREQ=YEARLY;BYMONTH=3;BYDAY=2SU
END:DAYLIGHT
BEGIN:STANDARD
TZNAME:PST
TZOFFSETFROM:-0700
TZOFFSETTO:-0800
DTSTART:19701101T020000
RRULE:FREQ=YEARLY;BYMONTH=11;BYDAY=1SU
END:STANDARD
END:VTIMEZONE
BEGIN:VEVENT
UID:baseball365-62082279-20240310T100000@quickscores.com
DTSTAMP:20260423T090100Z
DTSTART;TZID=America/Los_Angeles:20240310T100000
DURATION:PT1H30M0S
SUMMARY:Wilshire Warriors 11U vs. MVP Hustle LUNA
DESCRIPTION:11u - Top Prospect Athletics
LOCATION:Las palmas
CATEGORIES:QuickScores, Baseball Game
TRANSP:OPAQUE
BEGIN:VALARM
TRIGGER:-PT2H
ACTION:DISPLAY
DESCRIPTION:Wilshire Warriors 11U vs. MVP Hustle LUNA
END:VALARM
END:VEVENT
BEGIN:VEVENT
UID:baseball365-62082280-20240310T120000@quickscores.com
DTSTAMP:20260423T090100Z
DTSTART;TZID=America/Los_Angeles:20240310T120000
DURATION:PT1H30M0S
SUMMARY:PFA WAVES 11U vs. Wilshire Warriors 11U
DESCRIPTION:11u - Top Prospect Athletics
LOCATION:Las palmas
CATEGORIES:QuickScores, Baseball Game
TRANSP:OPAQUE
BEGIN:VALARM
TRIGGER:-PT2H
ACTION:DISPLAY
DESCRIPTION:PFA WAVES 11U vs. Wilshire Warriors 11U
END:VALARM
END:VEVENT
BEGIN:VEVENT
UID:baseball365-62188119-20240317T100000@quickscores.com
DTSTAMP:20260423T090100Z
DTSTART;TZID=America/Los_Angeles:20240317T100000
DURATION:PT1H30M0S
SUMMARY:Top-Level Select vs. Wilshire Warriors 11U
DESCRIPTION:11u - Top Prospect Athletics
LOCATION:SIBL #3
CATEGORIES:QuickScores, Baseball Game
TRANSP:OPAQUE
BEGIN:VALARM
TRIGGER:-PT2H
ACTION:DISPLAY
DESCRIPTION:Top-Level Select vs. Wilshire Warriors 11U
END:VALARM
END:VEVENT
BEGIN:VEVENT
UID:baseball365-63037296-20240428T140000@quickscores.com
DTSTAMP:20260423T090100Z
DTSTART;TZID=America/Los_Angeles:20240428T140000
DURATION:PT1H30M0S
SUMMARY:Wilshire Warriors 11U vs. Santa  Monica baseball Academy
DESCRIPTION:11u - Top Prospect Athletics
LOCATION:EFF 6
CATEGORIES:QuickScores, Baseball Game
TRANSP:OPAQUE
BEGIN:VALARM
TRIGGER:-PT2H
ACTION:DISPLAY
DESCRIPTION:Wilshire Warriors 11U vs. Santa  Monica baseball Academy
END:VALARM
END:VEVENT
BEGIN:VEVENT
UID:baseball365-63043563-20240428T160000@quickscores.com
DTSTAMP:20260423T090100Z
DTSTART;TZID=America/Los_Angeles:20240428T160000
DURATION:PT1H30M0S
SUMMARY:PFA WAVES2 11U vs. Wilshire Warriors 11U
DESCRIPTION:11u - Top Prospect Athletics
LOCATION:EFF 6
CATEGORIES:QuickScores, Baseball Game
TRANSP:OPAQUE
BEGIN:VALARM
TRIGGER:-PT2H
ACTION:DISPLAY
DESCRIPTION:PFA WAVES2 11U vs. Wilshire Warriors 11U
END:VALARM
END:VEVENT
BEGIN:VEVENT
UID:baseball365-63431892-20240519T120000@quickscores.com
DTSTAMP:20260423T090100Z
DTSTART;TZID=America/Los_Angeles:20240519T120000
DURATION:PT1H30M0S
SUMMARY:Wilshire Warriors 11U vs. South Pasadena Baseball 11U
DESCRIPTION:11u - Top Prospect Athletics
LOCATION:SIBL #5
CATEGORIES:QuickScores, Baseball Game
TRANSP:OPAQUE
BEGIN:VALARM
TRIGGER:-PT2H
ACTION:DISPLAY
DESCRIPTION:Wilshire Warriors 11U vs. South Pasadena Baseball 11U
END:VALARM
END:VEVENT
BEGIN:VEVENT
UID:baseball365-63431893-20240519T140000@quickscores.com
DTSTAMP:20260423T090100Z
DTSTART;TZID=America/Los_Angeles:20240519T140000
DURATION:PT1H30M0S
SUMMARY:Wilshire Warriors 11U vs. South Pasadena Baseball 11U
DESCRIPTION:11u - Top Prospect Athletics
LOCATION:SIBL #5
CATEGORIES:QuickScores, Baseball Game
TRANSP:OPAQUE
BEGIN:VALARM
TRIGGER:-PT2H
ACTION:DISPLAY
DESCRIPTION:Wilshire Warriors 11U vs. South Pasadena Baseball 11U
END:VALARM
END:VEVENT
END:VCALENDAR
