BEGIN:VCALENDAR
VERSION:2.0
PRODID:-//QuickScores.com//BQ Dynamic iCal Creator//EN
METHOD:PUBLISH
X-WR-CALNAME:LC Spartans - 12u - Fall Baseball 2023
X-WR-CALDESC:QuickScores game calendar
X-PUBLISHED-TTL:PT24H
REFRESH-INTERVAL;VALUE=DURATION:PT24H
CALSCALE:GREGORIAN
BEGIN:VTIMEZONE
TZID:America/Los_Angeles
X-LIC-LOCATION:America/Los_Angeles
BEGIN:DAYLIGHT
TZNAME:PDT
TZOFFSETFROM:-0800
TZOFFSETTO:-0700
DTSTART:19700308T020000
RRULE:FREQ=YEARLY;BYMONTH=3;BYDAY=2SU
END:DAYLIGHT
BEGIN:STANDARD
TZNAME:PST
TZOFFSETFROM:-0700
TZOFFSETTO:-0800
DTSTART:19701101T020000
RRULE:FREQ=YEARLY;BYMONTH=11;BYDAY=1SU
END:STANDARD
END:VTIMEZONE
BEGIN:VEVENT
UID:baseball365-60011797-20230924T083000@quickscores.com
DTSTAMP:20260423T121200Z
DTSTART;TZID=America/Los_Angeles:20230924T083000
DURATION:PT1H30M0S
SUMMARY:Strike One 12U vs. LC Spartans
DESCRIPTION:12u - Top Prospect Athletics
LOCATION:SIBL #6
CATEGORIES:QuickScores, Baseball Game
TRANSP:OPAQUE
BEGIN:VALARM
TRIGGER:-PT2H
ACTION:DISPLAY
DESCRIPTION:Strike One 12U vs. LC Spartans
END:VALARM
END:VEVENT
BEGIN:VEVENT
UID:baseball365-60011799-20230924T123000@quickscores.com
DTSTAMP:20260423T121200Z
DTSTART;TZID=America/Los_Angeles:20230924T123000
DURATION:PT1H30M0S
SUMMARY:LC Spartans vs. I5
DESCRIPTION:12u - Top Prospect Athletics
LOCATION:SIBL #6
CATEGORIES:QuickScores, Baseball Game
TRANSP:OPAQUE
BEGIN:VALARM
TRIGGER:-PT2H
ACTION:DISPLAY
DESCRIPTION:LC Spartans vs. I5
END:VALARM
END:VEVENT
BEGIN:VEVENT
UID:baseball365-60083683-20231001T084500@quickscores.com
DTSTAMP:20260423T121200Z
DTSTART;TZID=America/Los_Angeles:20231001T084500
DURATION:PT1H30M0S
SUMMARY:LC Spartans vs. West Coast Prospects GOLD
DESCRIPTION:12u - Top Prospect Athletics
LOCATION:SIBL #4
CATEGORIES:QuickScores, Baseball Game
TRANSP:OPAQUE
BEGIN:VALARM
TRIGGER:-PT2H
ACTION:DISPLAY
DESCRIPTION:LC Spartans vs. West Coast Prospects GOLD
END:VALARM
END:VEVENT
BEGIN:VEVENT
UID:baseball365-60083685-20231001T124500@quickscores.com
DTSTAMP:20260423T121200Z
DTSTART;TZID=America/Los_Angeles:20231001T124500
DURATION:PT1H30M0S
SUMMARY:365 Shockers 12U Gold vs. LC Spartans
DESCRIPTION:12u - Top Prospect Athletics
LOCATION:SIBL #4
CATEGORIES:QuickScores, Baseball Game
TRANSP:OPAQUE
BEGIN:VALARM
TRIGGER:-PT2H
ACTION:DISPLAY
DESCRIPTION:365 Shockers 12U Gold vs. LC Spartans
END:VALARM
END:VEVENT
END:VCALENDAR
