BEGIN:VCALENDAR
VERSION:2.0
PRODID:-//QuickScores.com//BQ Dynamic iCal Creator//EN
METHOD:PUBLISH
X-WR-CALNAME:Top-Level Gold - 12u - Fall Baseball 2023
X-WR-CALDESC:QuickScores game calendar
X-PUBLISHED-TTL:PT24H
REFRESH-INTERVAL;VALUE=DURATION:PT24H
CALSCALE:GREGORIAN
BEGIN:VTIMEZONE
TZID:America/Los_Angeles
X-LIC-LOCATION:America/Los_Angeles
BEGIN:DAYLIGHT
TZNAME:PDT
TZOFFSETFROM:-0800
TZOFFSETTO:-0700
DTSTART:19700308T020000
RRULE:FREQ=YEARLY;BYMONTH=3;BYDAY=2SU
END:DAYLIGHT
BEGIN:STANDARD
TZNAME:PST
TZOFFSETFROM:-0700
TZOFFSETTO:-0800
DTSTART:19701101T020000
RRULE:FREQ=YEARLY;BYMONTH=11;BYDAY=1SU
END:STANDARD
END:VTIMEZONE
BEGIN:VEVENT
UID:baseball365-60083777-20231001T100000@quickscores.com
DTSTAMP:20260424T083600Z
DTSTART;TZID=America/Los_Angeles:20231001T100000
DURATION:PT1H30M0S
SUMMARY:Cheviot Hills 12U vs. Top-Level Gold
DESCRIPTION:12u - Top Prospect Athletics
LOCATION:EFF 5
CATEGORIES:QuickScores, Baseball Game
TRANSP:OPAQUE
BEGIN:VALARM
TRIGGER:-PT2H
ACTION:DISPLAY
DESCRIPTION:Cheviot Hills 12U vs. Top-Level Gold
END:VALARM
END:VEVENT
BEGIN:VEVENT
UID:baseball365-60083779-20231001T141500@quickscores.com
DTSTAMP:20260424T083600Z
DTSTART;TZID=America/Los_Angeles:20231001T141500
DURATION:PT1H30M0S
SUMMARY:West Coast Prospects BLACK vs. Top-Level Gold
DESCRIPTION:12u - Top Prospect Athletics
LOCATION:EFF 5
CATEGORIES:QuickScores, Baseball Game
TRANSP:OPAQUE
BEGIN:VALARM
TRIGGER:-PT2H
ACTION:DISPLAY
DESCRIPTION:West Coast Prospects BLACK vs. Top-Level Gold
END:VALARM
END:VEVENT
BEGIN:VEVENT
UID:baseball365-60290752-20231022T140000@quickscores.com
DTSTAMP:20260424T083600Z
DTSTART;TZID=America/Los_Angeles:20231022T140000
DURATION:PT1H30M0S
SUMMARY:SO CAL COBRAS 12U vs. Top-Level Gold
DESCRIPTION:12u - Top Prospect Athletics
LOCATION:EFF 5
CATEGORIES:QuickScores, Baseball Game
TRANSP:OPAQUE
BEGIN:VALARM
TRIGGER:-PT2H
ACTION:DISPLAY
DESCRIPTION:SO CAL COBRAS 12U vs. Top-Level Gold
END:VALARM
END:VEVENT
BEGIN:VEVENT
UID:baseball365-60301424-20231022T160000@quickscores.com
DTSTAMP:20260424T083600Z
DTSTART;TZID=America/Los_Angeles:20231022T160000
DURATION:PT1H30M0S
SUMMARY:Sherman Oaks Wolfpack vs. Top-Level Gold
DESCRIPTION:12u - Top Prospect Athletics
LOCATION:EFF 6
CATEGORIES:QuickScores, Baseball Game
TRANSP:OPAQUE
BEGIN:VALARM
TRIGGER:-PT2H
ACTION:DISPLAY
DESCRIPTION:Sherman Oaks Wolfpack vs. Top-Level Gold
END:VALARM
END:VEVENT
BEGIN:VEVENT
UID:baseball365-60499192-20231105T113000@quickscores.com
DTSTAMP:20260424T083600Z
DTSTART;TZID=America/Los_Angeles:20231105T113000
DURATION:PT1H30M0S
SUMMARY:Sherman Oaks Wolfpack vs. Top-Level Gold
DESCRIPTION:12u - Top Prospect Athletics
LOCATION:EFF 6
CATEGORIES:QuickScores, Baseball Game
TRANSP:OPAQUE
BEGIN:VALARM
TRIGGER:-PT2H
ACTION:DISPLAY
DESCRIPTION:Sherman Oaks Wolfpack vs. Top-Level Gold
END:VALARM
END:VEVENT
BEGIN:VEVENT
UID:baseball365-60498760-20231105T133000@quickscores.com
DTSTAMP:20260424T083600Z
DTSTART;TZID=America/Los_Angeles:20231105T133000
DURATION:PT1H30M0S
SUMMARY:SO CAL COBRAS 12U vs. Top-Level Gold
DESCRIPTION:12u - Top Prospect Athletics
LOCATION:EFF 5
CATEGORIES:QuickScores, Baseball Game
TRANSP:OPAQUE
BEGIN:VALARM
TRIGGER:-PT2H
ACTION:DISPLAY
DESCRIPTION:SO CAL COBRAS 12U vs. Top-Level Gold
END:VALARM
END:VEVENT
BEGIN:VEVENT
UID:baseball365-60847801-20231203T112000@quickscores.com
DTSTAMP:20260424T083600Z
DTSTART;TZID=America/Los_Angeles:20231203T112000
DURATION:PT1H30M0S
SUMMARY:Top-Level Gold vs. Encino Mavericks 12U
DESCRIPTION:12u - Top Prospect Athletics
LOCATION:EFF 5
CATEGORIES:QuickScores, Baseball Game
TRANSP:OPAQUE
BEGIN:VALARM
TRIGGER:-PT2H
ACTION:DISPLAY
DESCRIPTION:Top-Level Gold vs. Encino Mavericks 12U
END:VALARM
END:VEVENT
BEGIN:VEVENT
UID:baseball365-60847802-20231203T131000@quickscores.com
DTSTAMP:20260424T083600Z
DTSTART;TZID=America/Los_Angeles:20231203T131000
DURATION:PT1H30M0S
SUMMARY:Top-Level Gold vs. South Pasadena Pride 12U
DESCRIPTION:12u - Top Prospect Athletics
LOCATION:EFF 5
CATEGORIES:QuickScores, Baseball Game
TRANSP:OPAQUE
BEGIN:VALARM
TRIGGER:-PT2H
ACTION:DISPLAY
DESCRIPTION:Top-Level Gold vs. South Pasadena Pride 12U
END:VALARM
END:VEVENT
END:VCALENDAR
