BEGIN:VCALENDAR
VERSION:2.0
PRODID:-//QuickScores.com//BQ Dynamic iCal Creator//EN
METHOD:PUBLISH
X-WR-CALNAME:Yetis 12u - 12u - Fall Baseball 2023
X-WR-CALDESC:QuickScores game calendar
X-PUBLISHED-TTL:PT24H
REFRESH-INTERVAL;VALUE=DURATION:PT24H
CALSCALE:GREGORIAN
BEGIN:VTIMEZONE
TZID:America/Los_Angeles
X-LIC-LOCATION:America/Los_Angeles
BEGIN:DAYLIGHT
TZNAME:PDT
TZOFFSETFROM:-0800
TZOFFSETTO:-0700
DTSTART:19700308T020000
RRULE:FREQ=YEARLY;BYMONTH=3;BYDAY=2SU
END:DAYLIGHT
BEGIN:STANDARD
TZNAME:PST
TZOFFSETFROM:-0700
TZOFFSETTO:-0800
DTSTART:19701101T020000
RRULE:FREQ=YEARLY;BYMONTH=11;BYDAY=1SU
END:STANDARD
END:VTIMEZONE
BEGIN:VEVENT
UID:baseball365-59809861-20230910T103000@quickscores.com
DTSTAMP:20260421T025800Z
DTSTART;TZID=America/Los_Angeles:20230910T103000
DURATION:PT1H30M0S
SUMMARY:Yetis 12u vs. Strike One 12U
DESCRIPTION:12u - Top Prospect Athletics
LOCATION:SIBL BRONCO
CATEGORIES:QuickScores, Baseball Game
TRANSP:OPAQUE
BEGIN:VALARM
TRIGGER:-PT2H
ACTION:DISPLAY
DESCRIPTION:Yetis 12u vs. Strike One 12U
END:VALARM
END:VEVENT
BEGIN:VEVENT
UID:baseball365-59809862-20230910T123000@quickscores.com
DTSTAMP:20260421T025800Z
DTSTART;TZID=America/Los_Angeles:20230910T123000
DURATION:PT1H30M0S
SUMMARY:Yetis 12u vs. I5
DESCRIPTION:12u - Top Prospect Athletics
LOCATION:SIBL BRONCO
CATEGORIES:QuickScores, Baseball Game
TRANSP:OPAQUE
BEGIN:VALARM
TRIGGER:-PT2H
ACTION:DISPLAY
DESCRIPTION:Yetis 12u vs. I5
END:VALARM
END:VEVENT
BEGIN:VEVENT
UID:baseball365-60011802-20230924T081500@quickscores.com
DTSTAMP:20260421T025800Z
DTSTART;TZID=America/Los_Angeles:20230924T081500
DURATION:PT1H30M0S
SUMMARY:ABA 12U vs. Yetis 12u
DESCRIPTION:12u - Top Prospect Athletics
LOCATION:SIBL #4
CATEGORIES:QuickScores, Baseball Game
TRANSP:OPAQUE
BEGIN:VALARM
TRIGGER:-PT2H
ACTION:DISPLAY
DESCRIPTION:ABA 12U vs. Yetis 12u
END:VALARM
END:VEVENT
BEGIN:VEVENT
UID:baseball365-60011803-20230924T101500@quickscores.com
DTSTAMP:20260421T025800Z
DTSTART;TZID=America/Los_Angeles:20230924T101500
DURATION:PT1H30M0S
SUMMARY:Yetis 12u vs. Braves 12U White
DESCRIPTION:12u - Top Prospect Athletics
LOCATION:SIBL #4
CATEGORIES:QuickScores, Baseball Game
TRANSP:OPAQUE
BEGIN:VALARM
TRIGGER:-PT2H
ACTION:DISPLAY
DESCRIPTION:Yetis 12u vs. Braves 12U White
END:VALARM
END:VEVENT
BEGIN:VEVENT
UID:baseball365-60153270-20231008T100000@quickscores.com
DTSTAMP:20260421T025800Z
DTSTART;TZID=America/Los_Angeles:20231008T100000
DURATION:PT1H30M0S
SUMMARY:I5 vs. Yetis 12u
DESCRIPTION:12u - Top Prospect Athletics
LOCATION:EFF 6
CATEGORIES:QuickScores, Baseball Game
TRANSP:OPAQUE
BEGIN:VALARM
TRIGGER:-PT2H
ACTION:DISPLAY
DESCRIPTION:I5 vs. Yetis 12u
END:VALARM
END:VEVENT
BEGIN:VEVENT
UID:baseball365-60153271-20231008T123000@quickscores.com
DTSTAMP:20260421T025800Z
DTSTART;TZID=America/Los_Angeles:20231008T123000
DURATION:PT1H30M0S
SUMMARY:Yetis 12u vs. Toluca Titans 12U
DESCRIPTION:12u - Top Prospect Athletics
LOCATION:EFF 6
CATEGORIES:QuickScores, Baseball Game
TRANSP:OPAQUE
BEGIN:VALARM
TRIGGER:-PT2H
ACTION:DISPLAY
DESCRIPTION:Yetis 12u vs. Toluca Titans 12U
END:VALARM
END:VEVENT
BEGIN:VEVENT
UID:baseball365-60290750-20231022T120000@quickscores.com
DTSTAMP:20260421T025800Z
DTSTART;TZID=America/Los_Angeles:20231022T120000
DURATION:PT1H30M0S
SUMMARY:Strike One 12U vs. Yetis 12u
DESCRIPTION:12u - Top Prospect Athletics
LOCATION:EFF 5
CATEGORIES:QuickScores, Baseball Game
TRANSP:OPAQUE
BEGIN:VALARM
TRIGGER:-PT2H
ACTION:DISPLAY
DESCRIPTION:Strike One 12U vs. Yetis 12u
END:VALARM
END:VEVENT
BEGIN:VEVENT
UID:baseball365-60290751-20231022T140000@quickscores.com
DTSTAMP:20260421T025800Z
DTSTART;TZID=America/Los_Angeles:20231022T140000
DURATION:PT1H30M0S
SUMMARY:Gamespeed 12u vs. Yetis 12u
DESCRIPTION:12u - Top Prospect Athletics
LOCATION:EFF 6
CATEGORIES:QuickScores, Baseball Game
TRANSP:OPAQUE
BEGIN:VALARM
TRIGGER:-PT2H
ACTION:DISPLAY
DESCRIPTION:Gamespeed 12u vs. Yetis 12u
END:VALARM
END:VEVENT
BEGIN:VEVENT
UID:baseball365-60498762-20231105T093000@quickscores.com
DTSTAMP:20260421T025800Z
DTSTART;TZID=America/Los_Angeles:20231105T093000
DURATION:PT1H30M0S
SUMMARY:Yetis 12u vs. Desert Dogs 12U
DESCRIPTION:12u - Top Prospect Athletics
LOCATION:SIBL #3
CATEGORIES:QuickScores, Baseball Game
TRANSP:OPAQUE
BEGIN:VALARM
TRIGGER:-PT2H
ACTION:DISPLAY
DESCRIPTION:Yetis 12u vs. Desert Dogs 12U
END:VALARM
END:VEVENT
BEGIN:VEVENT
UID:baseball365-60498764-20231105T133000@quickscores.com
DTSTAMP:20260421T025800Z
DTSTART;TZID=America/Los_Angeles:20231105T133000
DURATION:PT1H30M0S
SUMMARY:Yetis 12u vs. KTB Seals
DESCRIPTION:12u - Top Prospect Athletics
LOCATION:SIBL #3
CATEGORIES:QuickScores, Baseball Game
TRANSP:OPAQUE
BEGIN:VALARM
TRIGGER:-PT2H
ACTION:DISPLAY
DESCRIPTION:Yetis 12u vs. KTB Seals
END:VALARM
END:VEVENT
END:VCALENDAR
