BEGIN:VCALENDAR
VERSION:2.0
PRODID:-//QuickScores.com//BQ Dynamic iCal Creator//EN
METHOD:PUBLISH
X-WR-CALNAME:West Coast Prospects BLACK - 12u - Fall Baseball 2023
X-WR-CALDESC:QuickScores game calendar
X-PUBLISHED-TTL:PT24H
REFRESH-INTERVAL;VALUE=DURATION:PT24H
CALSCALE:GREGORIAN
BEGIN:VTIMEZONE
TZID:America/Los_Angeles
X-LIC-LOCATION:America/Los_Angeles
BEGIN:DAYLIGHT
TZNAME:PDT
TZOFFSETFROM:-0800
TZOFFSETTO:-0700
DTSTART:19700308T020000
RRULE:FREQ=YEARLY;BYMONTH=3;BYDAY=2SU
END:DAYLIGHT
BEGIN:STANDARD
TZNAME:PST
TZOFFSETFROM:-0700
TZOFFSETTO:-0800
DTSTART:19701101T020000
RRULE:FREQ=YEARLY;BYMONTH=11;BYDAY=1SU
END:STANDARD
END:VTIMEZONE
BEGIN:VEVENT
UID:baseball365-59924502-20230917T123000@quickscores.com
DTSTAMP:20260420T134100Z
DTSTART;TZID=America/Los_Angeles:20230917T123000
DURATION:PT1H30M0S
SUMMARY:West Coast Prospects BLACK vs. Braves 12U White
DESCRIPTION:12u - Top Prospect Athletics
LOCATION:EFF 5
CATEGORIES:QuickScores, Baseball Game
TRANSP:OPAQUE
BEGIN:VALARM
TRIGGER:-PT2H
ACTION:DISPLAY
DESCRIPTION:West Coast Prospects BLACK vs. Braves 12U White
END:VALARM
END:VEVENT
BEGIN:VEVENT
UID:baseball365-59926925-20230917T163000@quickscores.com
DTSTAMP:20260420T134100Z
DTSTART;TZID=America/Los_Angeles:20230917T163000
DURATION:PT1H30M0S
SUMMARY:West Coast Prospects BLACK vs. Wilshire Warriors 12U
DESCRIPTION:12u - Top Prospect Athletics
LOCATION:EFF 5
CATEGORIES:QuickScores, Baseball Game
TRANSP:OPAQUE
BEGIN:VALARM
TRIGGER:-PT2H
ACTION:DISPLAY
DESCRIPTION:West Coast Prospects BLACK vs. Wilshire Warriors 12U
END:VALARM
END:VEVENT
BEGIN:VEVENT
UID:baseball365-60083779-20231001T141500@quickscores.com
DTSTAMP:20260420T134100Z
DTSTART;TZID=America/Los_Angeles:20231001T141500
DURATION:PT1H30M0S
SUMMARY:West Coast Prospects BLACK vs. Top-Level Gold
DESCRIPTION:12u - Top Prospect Athletics
LOCATION:EFF 5
CATEGORIES:QuickScores, Baseball Game
TRANSP:OPAQUE
BEGIN:VALARM
TRIGGER:-PT2H
ACTION:DISPLAY
DESCRIPTION:West Coast Prospects BLACK vs. Top-Level Gold
END:VALARM
END:VEVENT
BEGIN:VEVENT
UID:baseball365-60212961-20231015T120000@quickscores.com
DTSTAMP:20260420T134100Z
DTSTART;TZID=America/Los_Angeles:20231015T120000
DURATION:PT1H30M0S
SUMMARY:West Coast Prospects BLACK vs. REAPERS 12U
DESCRIPTION:12u - Top Prospect Athletics
LOCATION:EFF 5
CATEGORIES:QuickScores, Baseball Game
TRANSP:OPAQUE
BEGIN:VALARM
TRIGGER:-PT2H
ACTION:DISPLAY
DESCRIPTION:West Coast Prospects BLACK vs. REAPERS 12U
END:VALARM
END:VEVENT
BEGIN:VEVENT
UID:baseball365-60407971-20231029T100000@quickscores.com
DTSTAMP:20260420T134100Z
DTSTART;TZID=America/Los_Angeles:20231029T100000
DURATION:PT1H30M0S
SUMMARY:Encino Mavericks 12U vs. West Coast Prospects BLACK
DESCRIPTION:12u - Top Prospect Athletics
LOCATION:EFF 5
CATEGORIES:QuickScores, Baseball Game
TRANSP:OPAQUE
BEGIN:VALARM
TRIGGER:-PT2H
ACTION:DISPLAY
DESCRIPTION:Encino Mavericks 12U vs. West Coast Prospects BLACK
END:VALARM
END:VEVENT
BEGIN:VEVENT
UID:baseball365-60407973-20231029T120000@quickscores.com
DTSTAMP:20260420T134100Z
DTSTART;TZID=America/Los_Angeles:20231029T120000
DURATION:PT1H30M0S
SUMMARY:Gamespeed 12u vs. West Coast Prospects BLACK
DESCRIPTION:12u - Top Prospect Athletics
LOCATION:EFF 5
CATEGORIES:QuickScores, Baseball Game
TRANSP:OPAQUE
BEGIN:VALARM
TRIGGER:-PT2H
ACTION:DISPLAY
DESCRIPTION:Gamespeed 12u vs. West Coast Prospects BLACK
END:VALARM
END:VEVENT
BEGIN:VEVENT
UID:baseball365-60611447-20231112T131500@quickscores.com
DTSTAMP:20260420T134100Z
DTSTART;TZID=America/Los_Angeles:20231112T131500
DURATION:PT1H30M0S
SUMMARY:West Coast Prospects BLACK vs. Wilshire Warriors 12U
DESCRIPTION:12u - Top Prospect Athletics
LOCATION:EFF 5
CATEGORIES:QuickScores, Baseball Game
TRANSP:OPAQUE
BEGIN:VALARM
TRIGGER:-PT2H
ACTION:DISPLAY
DESCRIPTION:West Coast Prospects BLACK vs. Wilshire Warriors 12U
END:VALARM
END:VEVENT
END:VCALENDAR
