BEGIN:VCALENDAR
VERSION:2.0
PRODID:-//QuickScores.com//BQ Dynamic iCal Creator//EN
METHOD:PUBLISH
X-WR-CALNAME:SO CAL COBRAS 12U - 12u - Fall Baseball 2023
X-WR-CALDESC:QuickScores game calendar
X-PUBLISHED-TTL:PT24H
REFRESH-INTERVAL;VALUE=DURATION:PT24H
CALSCALE:GREGORIAN
BEGIN:VTIMEZONE
TZID:America/Los_Angeles
X-LIC-LOCATION:America/Los_Angeles
BEGIN:DAYLIGHT
TZNAME:PDT
TZOFFSETFROM:-0800
TZOFFSETTO:-0700
DTSTART:19700308T020000
RRULE:FREQ=YEARLY;BYMONTH=3;BYDAY=2SU
END:DAYLIGHT
BEGIN:STANDARD
TZNAME:PST
TZOFFSETFROM:-0700
TZOFFSETTO:-0800
DTSTART:19701101T020000
RRULE:FREQ=YEARLY;BYMONTH=11;BYDAY=1SU
END:STANDARD
END:VTIMEZONE
BEGIN:VEVENT
UID:baseball365-59833392-20230910T143000@quickscores.com
DTSTAMP:20260423T232500Z
DTSTART;TZID=America/Los_Angeles:20230910T143000
DURATION:PT1H30M0S
SUMMARY:Cheviot Hills 12U vs. SO CAL COBRAS 12U
DESCRIPTION:12u - Top Prospect Athletics
LOCATION:EFF 5
CATEGORIES:QuickScores, Baseball Game
TRANSP:OPAQUE
BEGIN:VALARM
TRIGGER:-PT2H
ACTION:DISPLAY
DESCRIPTION:Cheviot Hills 12U vs. SO CAL COBRAS 12U
END:VALARM
END:VEVENT
BEGIN:VEVENT
UID:baseball365-59833393-20230910T163000@quickscores.com
DTSTAMP:20260423T232500Z
DTSTART;TZID=America/Los_Angeles:20230910T163000
DURATION:PT1H30M0S
SUMMARY:SO CAL COBRAS 12U vs. Toluca Titans 12U
DESCRIPTION:12u - Top Prospect Athletics
LOCATION:EFF 5
CATEGORIES:QuickScores, Baseball Game
TRANSP:OPAQUE
BEGIN:VALARM
TRIGGER:-PT2H
ACTION:DISPLAY
DESCRIPTION:SO CAL COBRAS 12U vs. Toluca Titans 12U
END:VALARM
END:VEVENT
BEGIN:VEVENT
UID:baseball365-60011862-20230924T140000@quickscores.com
DTSTAMP:20260423T232500Z
DTSTART;TZID=America/Los_Angeles:20230924T140000
DURATION:PT1H30M0S
SUMMARY:SO CAL COBRAS 12U vs. Gamespeed 12u
DESCRIPTION:12u - Top Prospect Athletics
LOCATION:EFF 5
CATEGORIES:QuickScores, Baseball Game
TRANSP:OPAQUE
BEGIN:VALARM
TRIGGER:-PT2H
ACTION:DISPLAY
DESCRIPTION:SO CAL COBRAS 12U vs. Gamespeed 12u
END:VALARM
END:VEVENT
BEGIN:VEVENT
UID:baseball365-60011863-20230924T160000@quickscores.com
DTSTAMP:20260423T232500Z
DTSTART;TZID=America/Los_Angeles:20230924T160000
DURATION:PT1H30M0S
SUMMARY:Wilshire Warriors 12U vs. SO CAL COBRAS 12U
DESCRIPTION:12u - Top Prospect Athletics
LOCATION:EFF 5
CATEGORIES:QuickScores, Baseball Game
TRANSP:OPAQUE
BEGIN:VALARM
TRIGGER:-PT2H
ACTION:DISPLAY
DESCRIPTION:Wilshire Warriors 12U vs. SO CAL COBRAS 12U
END:VALARM
END:VEVENT
BEGIN:VEVENT
UID:baseball365-60153268-20231008T143000@quickscores.com
DTSTAMP:20260423T232500Z
DTSTART;TZID=America/Los_Angeles:20231008T143000
DURATION:PT1H30M0S
SUMMARY:Encino Mavericks 12U vs. SO CAL COBRAS 12U
DESCRIPTION:12u - Top Prospect Athletics
LOCATION:EFF 5
CATEGORIES:QuickScores, Baseball Game
TRANSP:OPAQUE
BEGIN:VALARM
TRIGGER:-PT2H
ACTION:DISPLAY
DESCRIPTION:Encino Mavericks 12U vs. SO CAL COBRAS 12U
END:VALARM
END:VEVENT
BEGIN:VEVENT
UID:baseball365-60153269-20231008T163000@quickscores.com
DTSTAMP:20260423T232500Z
DTSTART;TZID=America/Los_Angeles:20231008T163000
DURATION:PT1H30M0S
SUMMARY:SO CAL COBRAS 12U vs. EKB Knights 12U
DESCRIPTION:12u - Top Prospect Athletics
LOCATION:EFF 5
CATEGORIES:QuickScores, Baseball Game
TRANSP:OPAQUE
BEGIN:VALARM
TRIGGER:-PT2H
ACTION:DISPLAY
DESCRIPTION:SO CAL COBRAS 12U vs. EKB Knights 12U
END:VALARM
END:VEVENT
BEGIN:VEVENT
UID:baseball365-60290752-20231022T140000@quickscores.com
DTSTAMP:20260423T232500Z
DTSTART;TZID=America/Los_Angeles:20231022T140000
DURATION:PT1H30M0S
SUMMARY:SO CAL COBRAS 12U vs. Top-Level Gold
DESCRIPTION:12u - Top Prospect Athletics
LOCATION:EFF 5
CATEGORIES:QuickScores, Baseball Game
TRANSP:OPAQUE
BEGIN:VALARM
TRIGGER:-PT2H
ACTION:DISPLAY
DESCRIPTION:SO CAL COBRAS 12U vs. Top-Level Gold
END:VALARM
END:VEVENT
BEGIN:VEVENT
UID:baseball365-60290753-20231022T160000@quickscores.com
DTSTAMP:20260423T232500Z
DTSTART;TZID=America/Los_Angeles:20231022T160000
DURATION:PT1H30M0S
SUMMARY:Gamespeed 12u vs. SO CAL COBRAS 12U
DESCRIPTION:12u - Top Prospect Athletics
LOCATION:EFF 5
CATEGORIES:QuickScores, Baseball Game
TRANSP:OPAQUE
BEGIN:VALARM
TRIGGER:-PT2H
ACTION:DISPLAY
DESCRIPTION:Gamespeed 12u vs. SO CAL COBRAS 12U
END:VALARM
END:VEVENT
BEGIN:VEVENT
UID:baseball365-60498760-20231105T133000@quickscores.com
DTSTAMP:20260423T232500Z
DTSTART;TZID=America/Los_Angeles:20231105T133000
DURATION:PT1H30M0S
SUMMARY:SO CAL COBRAS 12U vs. Top-Level Gold
DESCRIPTION:12u - Top Prospect Athletics
LOCATION:EFF 5
CATEGORIES:QuickScores, Baseball Game
TRANSP:OPAQUE
BEGIN:VALARM
TRIGGER:-PT2H
ACTION:DISPLAY
DESCRIPTION:SO CAL COBRAS 12U vs. Top-Level Gold
END:VALARM
END:VEVENT
BEGIN:VEVENT
UID:baseball365-60498761-20231105T153000@quickscores.com
DTSTAMP:20260423T232500Z
DTSTART;TZID=America/Los_Angeles:20231105T153000
DURATION:PT1H30M0S
SUMMARY:SO CAL COBRAS 12U vs. I5
DESCRIPTION:12u - Top Prospect Athletics
LOCATION:EFF 5
CATEGORIES:QuickScores, Baseball Game
TRANSP:OPAQUE
BEGIN:VALARM
TRIGGER:-PT2H
ACTION:DISPLAY
DESCRIPTION:SO CAL COBRAS 12U vs. I5
END:VALARM
END:VEVENT
END:VCALENDAR
