BEGIN:VCALENDAR
VERSION:2.0
PRODID:-//QuickScores.com//BQ Dynamic iCal Creator//EN
METHOD:PUBLISH
X-WR-CALNAME:South Pasadena Pride 12U - 12u - Fall Baseball 2023
X-WR-CALDESC:QuickScores game calendar
X-PUBLISHED-TTL:PT24H
REFRESH-INTERVAL;VALUE=DURATION:PT24H
CALSCALE:GREGORIAN
BEGIN:VTIMEZONE
TZID:America/Los_Angeles
X-LIC-LOCATION:America/Los_Angeles
BEGIN:DAYLIGHT
TZNAME:PDT
TZOFFSETFROM:-0800
TZOFFSETTO:-0700
DTSTART:19700308T020000
RRULE:FREQ=YEARLY;BYMONTH=3;BYDAY=2SU
END:DAYLIGHT
BEGIN:STANDARD
TZNAME:PST
TZOFFSETFROM:-0700
TZOFFSETTO:-0800
DTSTART:19701101T020000
RRULE:FREQ=YEARLY;BYMONTH=11;BYDAY=1SU
END:STANDARD
END:VTIMEZONE
BEGIN:VEVENT
UID:baseball365-59924500-20230917T083000@quickscores.com
DTSTAMP:20260420T120400Z
DTSTART;TZID=America/Los_Angeles:20230917T083000
DURATION:PT1H30M0S
SUMMARY:Cheviot Hills 12U vs. South Pasadena Pride 12U
DESCRIPTION:12u - Top Prospect Athletics
LOCATION:EFF 5
CATEGORIES:QuickScores, Baseball Game
TRANSP:OPAQUE
BEGIN:VALARM
TRIGGER:-PT2H
ACTION:DISPLAY
DESCRIPTION:Cheviot Hills 12U vs. South Pasadena Pride 12U
END:VALARM
END:VEVENT
BEGIN:VEVENT
UID:baseball365-59924501-20230917T103000@quickscores.com
DTSTAMP:20260420T120400Z
DTSTART;TZID=America/Los_Angeles:20230917T103000
DURATION:PT1H30M0S
SUMMARY:South Pasadena Pride 12U vs. Encino Mavericks 12U
DESCRIPTION:12u - Top Prospect Athletics
LOCATION:EFF 5
CATEGORIES:QuickScores, Baseball Game
TRANSP:OPAQUE
BEGIN:VALARM
TRIGGER:-PT2H
ACTION:DISPLAY
DESCRIPTION:South Pasadena Pride 12U vs. Encino Mavericks 12U
END:VALARM
END:VEVENT
BEGIN:VEVENT
UID:baseball365-60083684-20231001T104500@quickscores.com
DTSTAMP:20260420T120400Z
DTSTART;TZID=America/Los_Angeles:20231001T104500
DURATION:PT1H30M0S
SUMMARY:West Coast Prospects GOLD vs. South Pasadena Pride 12U
DESCRIPTION:12u - Top Prospect Athletics
LOCATION:SIBL #4
CATEGORIES:QuickScores, Baseball Game
TRANSP:OPAQUE
BEGIN:VALARM
TRIGGER:-PT2H
ACTION:DISPLAY
DESCRIPTION:West Coast Prospects GOLD vs. South Pasadena Pride 12U
END:VALARM
END:VEVENT
BEGIN:VEVENT
UID:baseball365-60083686-20231001T144500@quickscores.com
DTSTAMP:20260420T120400Z
DTSTART;TZID=America/Los_Angeles:20231001T144500
DURATION:PT1H30M0S
SUMMARY:365 Shockers 12U Gold vs. South Pasadena Pride 12U
DESCRIPTION:12u - Top Prospect Athletics
LOCATION:SIBL #4
CATEGORIES:QuickScores, Baseball Game
TRANSP:OPAQUE
BEGIN:VALARM
TRIGGER:-PT2H
ACTION:DISPLAY
DESCRIPTION:365 Shockers 12U Gold vs. South Pasadena Pride 12U
END:VALARM
END:VEVENT
BEGIN:VEVENT
UID:baseball365-60212962-20231015T143000@quickscores.com
DTSTAMP:20260420T120400Z
DTSTART;TZID=America/Los_Angeles:20231015T143000
DURATION:PT1H30M0S
SUMMARY:South Pasadena Pride 12U vs. I5
DESCRIPTION:12u - Top Prospect Athletics
LOCATION:EFF 5
CATEGORIES:QuickScores, Baseball Game
TRANSP:OPAQUE
BEGIN:VALARM
TRIGGER:-PT2H
ACTION:DISPLAY
DESCRIPTION:South Pasadena Pride 12U vs. I5
END:VALARM
END:VEVENT
BEGIN:VEVENT
UID:baseball365-60212963-20231015T163000@quickscores.com
DTSTAMP:20260420T120400Z
DTSTART;TZID=America/Los_Angeles:20231015T163000
DURATION:PT1H30M0S
SUMMARY:REAPERS 12U vs. South Pasadena Pride 12U
DESCRIPTION:12u - Top Prospect Athletics
LOCATION:EFF 5
CATEGORIES:QuickScores, Baseball Game
TRANSP:OPAQUE
BEGIN:VALARM
TRIGGER:-PT2H
ACTION:DISPLAY
DESCRIPTION:REAPERS 12U vs. South Pasadena Pride 12U
END:VALARM
END:VEVENT
BEGIN:VEVENT
UID:baseball365-60611449-20231112T083000@quickscores.com
DTSTAMP:20260420T120400Z
DTSTART;TZID=America/Los_Angeles:20231112T083000
DURATION:PT1H30M0S
SUMMARY:365 Shockers East vs. South Pasadena Pride 12U
DESCRIPTION:12u - Top Prospect Athletics
LOCATION:SIBL #6
CATEGORIES:QuickScores, Baseball Game
TRANSP:OPAQUE
BEGIN:VALARM
TRIGGER:-PT2H
ACTION:DISPLAY
DESCRIPTION:365 Shockers East vs. South Pasadena Pride 12U
END:VALARM
END:VEVENT
BEGIN:VEVENT
UID:baseball365-60611451-20231112T123000@quickscores.com
DTSTAMP:20260420T120400Z
DTSTART;TZID=America/Los_Angeles:20231112T123000
DURATION:PT1H30M0S
SUMMARY:KTB Seals vs. South Pasadena Pride 12U
DESCRIPTION:12u - Top Prospect Athletics
LOCATION:SIBL #6
CATEGORIES:QuickScores, Baseball Game
TRANSP:OPAQUE
BEGIN:VALARM
TRIGGER:-PT2H
ACTION:DISPLAY
DESCRIPTION:KTB Seals vs. South Pasadena Pride 12U
END:VALARM
END:VEVENT
BEGIN:VEVENT
UID:baseball365-60847802-20231203T131000@quickscores.com
DTSTAMP:20260420T120400Z
DTSTART;TZID=America/Los_Angeles:20231203T131000
DURATION:PT1H30M0S
SUMMARY:Top-Level Gold vs. South Pasadena Pride 12U
DESCRIPTION:12u - Top Prospect Athletics
LOCATION:EFF 5
CATEGORIES:QuickScores, Baseball Game
TRANSP:OPAQUE
BEGIN:VALARM
TRIGGER:-PT2H
ACTION:DISPLAY
DESCRIPTION:Top-Level Gold vs. South Pasadena Pride 12U
END:VALARM
END:VEVENT
BEGIN:VEVENT
UID:baseball365-60847803-20231203T150000@quickscores.com
DTSTAMP:20260420T120400Z
DTSTART;TZID=America/Los_Angeles:20231203T150000
DURATION:PT1H30M0S
SUMMARY:South Pasadena Pride 12U vs. Encino Mavericks 12U
DESCRIPTION:12u - Top Prospect Athletics
LOCATION:EFF 5
CATEGORIES:QuickScores, Baseball Game
TRANSP:OPAQUE
BEGIN:VALARM
TRIGGER:-PT2H
ACTION:DISPLAY
DESCRIPTION:South Pasadena Pride 12U vs. Encino Mavericks 12U
END:VALARM
END:VEVENT
END:VCALENDAR
