BEGIN:VCALENDAR
VERSION:2.0
PRODID:-//QuickScores.com//BQ Dynamic iCal Creator//EN
METHOD:PUBLISH
X-WR-CALNAME:Gamespeed 12u - 12u - Fall Baseball 2023
X-WR-CALDESC:QuickScores game calendar
X-PUBLISHED-TTL:PT24H
REFRESH-INTERVAL;VALUE=DURATION:PT24H
CALSCALE:GREGORIAN
BEGIN:VTIMEZONE
TZID:America/Los_Angeles
X-LIC-LOCATION:America/Los_Angeles
BEGIN:DAYLIGHT
TZNAME:PDT
TZOFFSETFROM:-0800
TZOFFSETTO:-0700
DTSTART:19700308T020000
RRULE:FREQ=YEARLY;BYMONTH=3;BYDAY=2SU
END:DAYLIGHT
BEGIN:STANDARD
TZNAME:PST
TZOFFSETFROM:-0700
TZOFFSETTO:-0800
DTSTART:19701101T020000
RRULE:FREQ=YEARLY;BYMONTH=11;BYDAY=1SU
END:STANDARD
END:VTIMEZONE
BEGIN:VEVENT
UID:baseball365-59809860-20230910T083000@quickscores.com
DTSTAMP:20260420T095800Z
DTSTART;TZID=America/Los_Angeles:20230910T083000
DURATION:PT1H30M0S
SUMMARY:Strike One 12U vs. Gamespeed 12u
DESCRIPTION:12u - Top Prospect Athletics
LOCATION:SIBL BRONCO
CATEGORIES:QuickScores, Baseball Game
TRANSP:OPAQUE
BEGIN:VALARM
TRIGGER:-PT2H
ACTION:DISPLAY
DESCRIPTION:Strike One 12U vs. Gamespeed 12u
END:VALARM
END:VEVENT
BEGIN:VEVENT
UID:baseball365-59931659-20230917T123000@quickscores.com
DTSTAMP:20260420T095800Z
DTSTART;TZID=America/Los_Angeles:20230917T123000
DURATION:PT1H30M0S
SUMMARY:Gamespeed 12u vs. BH14
DESCRIPTION:12u - Top Prospect Athletics
LOCATION:EFF 4
CATEGORIES:QuickScores, Baseball Game
TRANSP:OPAQUE
BEGIN:VALARM
TRIGGER:-PT2H
ACTION:DISPLAY
DESCRIPTION:Gamespeed 12u vs. BH14
END:VALARM
END:VEVENT
BEGIN:VEVENT
UID:baseball365-59927347-20230917T143000@quickscores.com
DTSTAMP:20260420T095800Z
DTSTART;TZID=America/Los_Angeles:20230917T143000
DURATION:PT1H30M0S
SUMMARY:Gamespeed 12u vs. REAPERS 12U
DESCRIPTION:12u - Top Prospect Athletics
LOCATION:EFF 6
CATEGORIES:QuickScores, Baseball Game
TRANSP:OPAQUE
BEGIN:VALARM
TRIGGER:-PT2H
ACTION:DISPLAY
DESCRIPTION:Gamespeed 12u vs. REAPERS 12U
END:VALARM
END:VEVENT
BEGIN:VEVENT
UID:baseball365-60011861-20230924T120000@quickscores.com
DTSTAMP:20260420T095800Z
DTSTART;TZID=America/Los_Angeles:20230924T120000
DURATION:PT1H30M0S
SUMMARY:EKB Knights 12U vs. Gamespeed 12u
DESCRIPTION:12u - Top Prospect Athletics
LOCATION:EFF 5
CATEGORIES:QuickScores, Baseball Game
TRANSP:OPAQUE
BEGIN:VALARM
TRIGGER:-PT2H
ACTION:DISPLAY
DESCRIPTION:EKB Knights 12U vs. Gamespeed 12u
END:VALARM
END:VEVENT
BEGIN:VEVENT
UID:baseball365-60011862-20230924T140000@quickscores.com
DTSTAMP:20260420T095800Z
DTSTART;TZID=America/Los_Angeles:20230924T140000
DURATION:PT1H30M0S
SUMMARY:SO CAL COBRAS 12U vs. Gamespeed 12u
DESCRIPTION:12u - Top Prospect Athletics
LOCATION:EFF 5
CATEGORIES:QuickScores, Baseball Game
TRANSP:OPAQUE
BEGIN:VALARM
TRIGGER:-PT2H
ACTION:DISPLAY
DESCRIPTION:SO CAL COBRAS 12U vs. Gamespeed 12u
END:VALARM
END:VEVENT
BEGIN:VEVENT
UID:baseball365-60083778-20231001T120000@quickscores.com
DTSTAMP:20260420T095800Z
DTSTART;TZID=America/Los_Angeles:20231001T120000
DURATION:PT1H30M0S
SUMMARY:Cheviot Hills 12U vs. Gamespeed 12u
DESCRIPTION:12u - Top Prospect Athletics
LOCATION:EFF 5
CATEGORIES:QuickScores, Baseball Game
TRANSP:OPAQUE
BEGIN:VALARM
TRIGGER:-PT2H
ACTION:DISPLAY
DESCRIPTION:Cheviot Hills 12U vs. Gamespeed 12u
END:VALARM
END:VEVENT
BEGIN:VEVENT
UID:baseball365-60083780-20231001T163000@quickscores.com
DTSTAMP:20260420T095800Z
DTSTART;TZID=America/Los_Angeles:20231001T163000
DURATION:PT1H30M0S
SUMMARY:Gamespeed 12u vs. Wilshire Warriors 12U
DESCRIPTION:12u - Top Prospect Athletics
LOCATION:EFF 5
CATEGORIES:QuickScores, Baseball Game
TRANSP:OPAQUE
BEGIN:VALARM
TRIGGER:-PT2H
ACTION:DISPLAY
DESCRIPTION:Gamespeed 12u vs. Wilshire Warriors 12U
END:VALARM
END:VEVENT
BEGIN:VEVENT
UID:baseball365-60153272-20231008T143000@quickscores.com
DTSTAMP:20260420T095800Z
DTSTART;TZID=America/Los_Angeles:20231008T143000
DURATION:PT1H30M0S
SUMMARY:Gamespeed 12u vs. EKB Knights 12U
DESCRIPTION:12u - Top Prospect Athletics
LOCATION:EFF 6
CATEGORIES:QuickScores, Baseball Game
TRANSP:OPAQUE
BEGIN:VALARM
TRIGGER:-PT2H
ACTION:DISPLAY
DESCRIPTION:Gamespeed 12u vs. EKB Knights 12U
END:VALARM
END:VEVENT
BEGIN:VEVENT
UID:baseball365-60153273-20231008T163000@quickscores.com
DTSTAMP:20260420T095800Z
DTSTART;TZID=America/Los_Angeles:20231008T163000
DURATION:PT1H30M0S
SUMMARY:Gamespeed 12u vs. Toluca Titans 12U
DESCRIPTION:12u - Top Prospect Athletics
LOCATION:EFF 6
CATEGORIES:QuickScores, Baseball Game
TRANSP:OPAQUE
BEGIN:VALARM
TRIGGER:-PT2H
ACTION:DISPLAY
DESCRIPTION:Gamespeed 12u vs. Toluca Titans 12U
END:VALARM
END:VEVENT
BEGIN:VEVENT
UID:baseball365-60290751-20231022T140000@quickscores.com
DTSTAMP:20260420T095800Z
DTSTART;TZID=America/Los_Angeles:20231022T140000
DURATION:PT1H30M0S
SUMMARY:Gamespeed 12u vs. Yetis 12u
DESCRIPTION:12u - Top Prospect Athletics
LOCATION:EFF 6
CATEGORIES:QuickScores, Baseball Game
TRANSP:OPAQUE
BEGIN:VALARM
TRIGGER:-PT2H
ACTION:DISPLAY
DESCRIPTION:Gamespeed 12u vs. Yetis 12u
END:VALARM
END:VEVENT
BEGIN:VEVENT
UID:baseball365-60290753-20231022T160000@quickscores.com
DTSTAMP:20260420T095800Z
DTSTART;TZID=America/Los_Angeles:20231022T160000
DURATION:PT1H30M0S
SUMMARY:Gamespeed 12u vs. SO CAL COBRAS 12U
DESCRIPTION:12u - Top Prospect Athletics
LOCATION:EFF 5
CATEGORIES:QuickScores, Baseball Game
TRANSP:OPAQUE
BEGIN:VALARM
TRIGGER:-PT2H
ACTION:DISPLAY
DESCRIPTION:Gamespeed 12u vs. SO CAL COBRAS 12U
END:VALARM
END:VEVENT
BEGIN:VEVENT
UID:baseball365-60407973-20231029T120000@quickscores.com
DTSTAMP:20260420T095800Z
DTSTART;TZID=America/Los_Angeles:20231029T120000
DURATION:PT1H30M0S
SUMMARY:Gamespeed 12u vs. West Coast Prospects BLACK
DESCRIPTION:12u - Top Prospect Athletics
LOCATION:EFF 5
CATEGORIES:QuickScores, Baseball Game
TRANSP:OPAQUE
BEGIN:VALARM
TRIGGER:-PT2H
ACTION:DISPLAY
DESCRIPTION:Gamespeed 12u vs. West Coast Prospects BLACK
END:VALARM
END:VEVENT
BEGIN:VEVENT
UID:baseball365-60407974-20231029T140000@quickscores.com
DTSTAMP:20260420T095800Z
DTSTART;TZID=America/Los_Angeles:20231029T140000
DURATION:PT1H30M0S
SUMMARY:Wilshire Warriors 12U vs. Gamespeed 12u
DESCRIPTION:12u - Top Prospect Athletics
LOCATION:EFF 5
CATEGORIES:QuickScores, Baseball Game
TRANSP:OPAQUE
BEGIN:VALARM
TRIGGER:-PT2H
ACTION:DISPLAY
DESCRIPTION:Wilshire Warriors 12U vs. Gamespeed 12u
END:VALARM
END:VEVENT
BEGIN:VEVENT
UID:baseball365-60498763-20231105T113000@quickscores.com
DTSTAMP:20260420T095800Z
DTSTART;TZID=America/Los_Angeles:20231105T113000
DURATION:PT1H30M0S
SUMMARY:Gamespeed 12u vs. Desert Dogs 12U
DESCRIPTION:12u - Top Prospect Athletics
LOCATION:SIBL #3
CATEGORIES:QuickScores, Baseball Game
TRANSP:OPAQUE
BEGIN:VALARM
TRIGGER:-PT2H
ACTION:DISPLAY
DESCRIPTION:Gamespeed 12u vs. Desert Dogs 12U
END:VALARM
END:VEVENT
BEGIN:VEVENT
UID:baseball365-60498765-20231105T153000@quickscores.com
DTSTAMP:20260420T095800Z
DTSTART;TZID=America/Los_Angeles:20231105T153000
DURATION:PT1H30M0S
SUMMARY:Gamespeed 12u vs. KTB Seals
DESCRIPTION:12u - Top Prospect Athletics
LOCATION:SIBL #3
CATEGORIES:QuickScores, Baseball Game
TRANSP:OPAQUE
BEGIN:VALARM
TRIGGER:-PT2H
ACTION:DISPLAY
DESCRIPTION:Gamespeed 12u vs. KTB Seals
END:VALARM
END:VEVENT
END:VCALENDAR
