BEGIN:VCALENDAR
VERSION:2.0
PRODID:-//QuickScores.com//BQ Dynamic iCal Creator//EN
METHOD:PUBLISH
X-WR-CALNAME:Desert Dogs 12U - 12u - Fall Baseball 2023
X-WR-CALDESC:QuickScores game calendar
X-PUBLISHED-TTL:PT24H
REFRESH-INTERVAL;VALUE=DURATION:PT24H
CALSCALE:GREGORIAN
BEGIN:VTIMEZONE
TZID:America/Los_Angeles
X-LIC-LOCATION:America/Los_Angeles
BEGIN:DAYLIGHT
TZNAME:PDT
TZOFFSETFROM:-0800
TZOFFSETTO:-0700
DTSTART:19700308T020000
RRULE:FREQ=YEARLY;BYMONTH=3;BYDAY=2SU
END:DAYLIGHT
BEGIN:STANDARD
TZNAME:PST
TZOFFSETFROM:-0700
TZOFFSETTO:-0800
DTSTART:19701101T020000
RRULE:FREQ=YEARLY;BYMONTH=11;BYDAY=1SU
END:STANDARD
END:VTIMEZONE
BEGIN:VEVENT
UID:baseball365-59809863-20230910T143000@quickscores.com
DTSTAMP:20260422T233800Z
DTSTART;TZID=America/Los_Angeles:20230910T143000
DURATION:PT1H30M0S
SUMMARY:I5 vs. Desert Dogs 12U
DESCRIPTION:12u - Top Prospect Athletics
LOCATION:SIBL BRONCO
CATEGORIES:QuickScores, Baseball Game
TRANSP:OPAQUE
BEGIN:VALARM
TRIGGER:-PT2H
ACTION:DISPLAY
DESCRIPTION:I5 vs. Desert Dogs 12U
END:VALARM
END:VEVENT
BEGIN:VEVENT
UID:baseball365-59810096-20230910T163000@quickscores.com
DTSTAMP:20260422T233800Z
DTSTART;TZID=America/Los_Angeles:20230910T163000
DURATION:PT1H30M0S
SUMMARY:Desert Dogs 12U vs. 365 Shockers 12U Gold
DESCRIPTION:12u - Top Prospect Athletics
LOCATION:SIBL BRONCO
CATEGORIES:QuickScores, Baseball Game
TRANSP:OPAQUE
BEGIN:VALARM
TRIGGER:-PT2H
ACTION:DISPLAY
DESCRIPTION:Desert Dogs 12U vs. 365 Shockers 12U Gold
END:VALARM
END:VEVENT
BEGIN:VEVENT
UID:baseball365-60011798-20230924T103000@quickscores.com
DTSTAMP:20260422T233800Z
DTSTART;TZID=America/Los_Angeles:20230924T103000
DURATION:PT1H30M0S
SUMMARY:Strike One 12U vs. Desert Dogs 12U
DESCRIPTION:12u - Top Prospect Athletics
LOCATION:SIBL #6
CATEGORIES:QuickScores, Baseball Game
TRANSP:OPAQUE
BEGIN:VALARM
TRIGGER:-PT2H
ACTION:DISPLAY
DESCRIPTION:Strike One 12U vs. Desert Dogs 12U
END:VALARM
END:VEVENT
BEGIN:VEVENT
UID:baseball365-60011800-20230924T143000@quickscores.com
DTSTAMP:20260422T233800Z
DTSTART;TZID=America/Los_Angeles:20230924T143000
DURATION:PT1H30M0S
SUMMARY:Desert Dogs 12U vs. AV Punishers
DESCRIPTION:12u - Top Prospect Athletics
LOCATION:SIBL #6
CATEGORIES:QuickScores, Baseball Game
TRANSP:OPAQUE
BEGIN:VALARM
TRIGGER:-PT2H
ACTION:DISPLAY
DESCRIPTION:Desert Dogs 12U vs. AV Punishers
END:VALARM
END:VEVENT
BEGIN:VEVENT
UID:baseball365-60153266-20231008T100000@quickscores.com
DTSTAMP:20260422T233800Z
DTSTART;TZID=America/Los_Angeles:20231008T100000
DURATION:PT1H30M0S
SUMMARY:KTB Seals vs. Desert Dogs 12U
DESCRIPTION:12u - Top Prospect Athletics
LOCATION:EFF 5
CATEGORIES:QuickScores, Baseball Game
TRANSP:OPAQUE
BEGIN:VALARM
TRIGGER:-PT2H
ACTION:DISPLAY
DESCRIPTION:KTB Seals vs. Desert Dogs 12U
END:VALARM
END:VEVENT
BEGIN:VEVENT
UID:baseball365-60153267-20231008T123000@quickscores.com
DTSTAMP:20260422T233800Z
DTSTART;TZID=America/Los_Angeles:20231008T123000
DURATION:PT1H30M0S
SUMMARY:Encino Mavericks 12U vs. Desert Dogs 12U
DESCRIPTION:12u - Top Prospect Athletics
LOCATION:EFF 5
CATEGORIES:QuickScores, Baseball Game
TRANSP:OPAQUE
BEGIN:VALARM
TRIGGER:-PT2H
ACTION:DISPLAY
DESCRIPTION:Encino Mavericks 12U vs. Desert Dogs 12U
END:VALARM
END:VEVENT
BEGIN:VEVENT
UID:baseball365-60290748-20231022T080000@quickscores.com
DTSTAMP:20260422T233800Z
DTSTART;TZID=America/Los_Angeles:20231022T080000
DURATION:PT1H30M0S
SUMMARY:365 Shockers East vs. Desert Dogs 12U
DESCRIPTION:12u - Top Prospect Athletics
LOCATION:EFF 5
CATEGORIES:QuickScores, Baseball Game
TRANSP:OPAQUE
BEGIN:VALARM
TRIGGER:-PT2H
ACTION:DISPLAY
DESCRIPTION:365 Shockers East vs. Desert Dogs 12U
END:VALARM
END:VEVENT
BEGIN:VEVENT
UID:baseball365-60314277-20231022T100000@quickscores.com
DTSTAMP:20260422T233800Z
DTSTART;TZID=America/Los_Angeles:20231022T100000
DURATION:PT1H30M0S
SUMMARY:Strike One 12U vs. Desert Dogs 12U
DESCRIPTION:12u - Top Prospect Athletics
LOCATION:EFF 6
CATEGORIES:QuickScores, Baseball Game
TRANSP:OPAQUE
BEGIN:VALARM
TRIGGER:-PT2H
ACTION:DISPLAY
DESCRIPTION:Strike One 12U vs. Desert Dogs 12U
END:VALARM
END:VEVENT
BEGIN:VEVENT
UID:baseball365-60498762-20231105T093000@quickscores.com
DTSTAMP:20260422T233800Z
DTSTART;TZID=America/Los_Angeles:20231105T093000
DURATION:PT1H30M0S
SUMMARY:Yetis 12u vs. Desert Dogs 12U
DESCRIPTION:12u - Top Prospect Athletics
LOCATION:SIBL #3
CATEGORIES:QuickScores, Baseball Game
TRANSP:OPAQUE
BEGIN:VALARM
TRIGGER:-PT2H
ACTION:DISPLAY
DESCRIPTION:Yetis 12u vs. Desert Dogs 12U
END:VALARM
END:VEVENT
BEGIN:VEVENT
UID:baseball365-60498763-20231105T113000@quickscores.com
DTSTAMP:20260422T233800Z
DTSTART;TZID=America/Los_Angeles:20231105T113000
DURATION:PT1H30M0S
SUMMARY:Gamespeed 12u vs. Desert Dogs 12U
DESCRIPTION:12u - Top Prospect Athletics
LOCATION:SIBL #3
CATEGORIES:QuickScores, Baseball Game
TRANSP:OPAQUE
BEGIN:VALARM
TRIGGER:-PT2H
ACTION:DISPLAY
DESCRIPTION:Gamespeed 12u vs. Desert Dogs 12U
END:VALARM
END:VEVENT
END:VCALENDAR
