BEGIN:VCALENDAR
VERSION:2.0
PRODID:-//QuickScores.com//BQ Dynamic iCal Creator//EN
METHOD:PUBLISH
X-WR-CALNAME:365 Shockers 12U Gold - 12u - Fall Baseball 2023
X-WR-CALDESC:QuickScores game calendar
X-PUBLISHED-TTL:PT24H
REFRESH-INTERVAL;VALUE=DURATION:PT24H
CALSCALE:GREGORIAN
BEGIN:VTIMEZONE
TZID:America/Los_Angeles
X-LIC-LOCATION:America/Los_Angeles
BEGIN:DAYLIGHT
TZNAME:PDT
TZOFFSETFROM:-0800
TZOFFSETTO:-0700
DTSTART:19700308T020000
RRULE:FREQ=YEARLY;BYMONTH=3;BYDAY=2SU
END:DAYLIGHT
BEGIN:STANDARD
TZNAME:PST
TZOFFSETFROM:-0700
TZOFFSETTO:-0800
DTSTART:19701101T020000
RRULE:FREQ=YEARLY;BYMONTH=11;BYDAY=1SU
END:STANDARD
END:VTIMEZONE
BEGIN:VEVENT
UID:baseball365-59810096-20230910T163000@quickscores.com
DTSTAMP:20260424T004900Z
DTSTART;TZID=America/Los_Angeles:20230910T163000
DURATION:PT1H30M0S
SUMMARY:Desert Dogs 12U vs. 365 Shockers 12U Gold
DESCRIPTION:12u - Top Prospect Athletics
LOCATION:SIBL BRONCO
CATEGORIES:QuickScores, Baseball Game
TRANSP:OPAQUE
BEGIN:VALARM
TRIGGER:-PT2H
ACTION:DISPLAY
DESCRIPTION:Desert Dogs 12U vs. 365 Shockers 12U Gold
END:VALARM
END:VEVENT
BEGIN:VEVENT
UID:baseball365-59926857-20230917T083000@quickscores.com
DTSTAMP:20260424T004900Z
DTSTART;TZID=America/Los_Angeles:20230917T083000
DURATION:PT1H30M0S
SUMMARY:365 Shockers 12U Gold vs. West Coast Prospects GOLD
DESCRIPTION:12u - Top Prospect Athletics
LOCATION:EFF 4
CATEGORIES:QuickScores, Baseball Game
TRANSP:OPAQUE
BEGIN:VALARM
TRIGGER:-PT2H
ACTION:DISPLAY
DESCRIPTION:365 Shockers 12U Gold vs. West Coast Prospects GOLD
END:VALARM
END:VEVENT
BEGIN:VEVENT
UID:baseball365-60083685-20231001T124500@quickscores.com
DTSTAMP:20260424T004900Z
DTSTART;TZID=America/Los_Angeles:20231001T124500
DURATION:PT1H30M0S
SUMMARY:365 Shockers 12U Gold vs. LC Spartans
DESCRIPTION:12u - Top Prospect Athletics
LOCATION:SIBL #4
CATEGORIES:QuickScores, Baseball Game
TRANSP:OPAQUE
BEGIN:VALARM
TRIGGER:-PT2H
ACTION:DISPLAY
DESCRIPTION:365 Shockers 12U Gold vs. LC Spartans
END:VALARM
END:VEVENT
BEGIN:VEVENT
UID:baseball365-60083686-20231001T144500@quickscores.com
DTSTAMP:20260424T004900Z
DTSTART;TZID=America/Los_Angeles:20231001T144500
DURATION:PT1H30M0S
SUMMARY:365 Shockers 12U Gold vs. South Pasadena Pride 12U
DESCRIPTION:12u - Top Prospect Athletics
LOCATION:SIBL #4
CATEGORIES:QuickScores, Baseball Game
TRANSP:OPAQUE
BEGIN:VALARM
TRIGGER:-PT2H
ACTION:DISPLAY
DESCRIPTION:365 Shockers 12U Gold vs. South Pasadena Pride 12U
END:VALARM
END:VEVENT
BEGIN:VEVENT
UID:baseball365-60212957-20231015T120000@quickscores.com
DTSTAMP:20260424T004900Z
DTSTART;TZID=America/Los_Angeles:20231015T120000
DURATION:PT1H30M0S
SUMMARY:Toluca Titans 12U vs. 365 Shockers 12U Gold
DESCRIPTION:12u - Top Prospect Athletics
LOCATION:SIBL #3
CATEGORIES:QuickScores, Baseball Game
TRANSP:OPAQUE
BEGIN:VALARM
TRIGGER:-PT2H
ACTION:DISPLAY
DESCRIPTION:Toluca Titans 12U vs. 365 Shockers 12U Gold
END:VALARM
END:VEVENT
BEGIN:VEVENT
UID:baseball365-60214019-20231015T163000@quickscores.com
DTSTAMP:20260424T004900Z
DTSTART;TZID=America/Los_Angeles:20231015T163000
DURATION:PT1H30M0S
SUMMARY:365 Shockers 12U Gold vs. KTB Seals
DESCRIPTION:12u - Top Prospect Athletics
LOCATION:SIBL #3
CATEGORIES:QuickScores, Baseball Game
TRANSP:OPAQUE
BEGIN:VALARM
TRIGGER:-PT2H
ACTION:DISPLAY
DESCRIPTION:365 Shockers 12U Gold vs. KTB Seals
END:VALARM
END:VEVENT
BEGIN:VEVENT
UID:baseball365-60314354-20231022T120000@quickscores.com
DTSTAMP:20260424T004900Z
DTSTART;TZID=America/Los_Angeles:20231022T120000
DURATION:PT1H30M0S
SUMMARY:Toluca Titans 12U vs. 365 Shockers 12U Gold
DESCRIPTION:12u - Top Prospect Athletics
LOCATION:EFF 6
CATEGORIES:QuickScores, Baseball Game
TRANSP:OPAQUE
BEGIN:VALARM
TRIGGER:-PT2H
ACTION:DISPLAY
DESCRIPTION:Toluca Titans 12U vs. 365 Shockers 12U Gold
END:VALARM
END:VEVENT
BEGIN:VEVENT
UID:baseball365-60499756-20231105T093000@quickscores.com
DTSTAMP:20260424T004900Z
DTSTART;TZID=America/Los_Angeles:20231105T093000
DURATION:PT1H30M0S
SUMMARY:365 Shockers 12U Gold vs. Encino Mavericks 12U
DESCRIPTION:12u - Top Prospect Athletics
LOCATION:EFF 6
CATEGORIES:QuickScores, Baseball Game
TRANSP:OPAQUE
BEGIN:VALARM
TRIGGER:-PT2H
ACTION:DISPLAY
DESCRIPTION:365 Shockers 12U Gold vs. Encino Mavericks 12U
END:VALARM
END:VEVENT
END:VCALENDAR
