BEGIN:VCALENDAR
VERSION:2.0
PRODID:-//QuickScores.com//BQ Dynamic iCal Creator//EN
METHOD:PUBLISH
X-WR-CALNAME:MVP Hustle  Luna - 8u/9uaa - Fall 2022
X-WR-CALDESC:QuickScores game calendar
X-PUBLISHED-TTL:PT24H
REFRESH-INTERVAL;VALUE=DURATION:PT24H
CALSCALE:GREGORIAN
BEGIN:VTIMEZONE
TZID:America/Los_Angeles
X-LIC-LOCATION:America/Los_Angeles
BEGIN:DAYLIGHT
TZNAME:PDT
TZOFFSETFROM:-0800
TZOFFSETTO:-0700
DTSTART:19700308T020000
RRULE:FREQ=YEARLY;BYMONTH=3;BYDAY=2SU
END:DAYLIGHT
BEGIN:STANDARD
TZNAME:PST
TZOFFSETFROM:-0700
TZOFFSETTO:-0800
DTSTART:19701101T020000
RRULE:FREQ=YEARLY;BYMONTH=11;BYDAY=1SU
END:STANDARD
END:VTIMEZONE
BEGIN:VEVENT
UID:baseball365-55165560-20220925T083000@quickscores.com
DTSTAMP:20260424T165600Z
DTSTART;TZID=America/Los_Angeles:20220925T083000
DURATION:PT1H30M0S
SUMMARY:MVP Hustle  Luna vs. EnFuego
DESCRIPTION:8u/9uaa - Top Prospect Athletics
LOCATION:2a
CATEGORIES:QuickScores, Baseball Game
TRANSP:OPAQUE
BEGIN:VALARM
TRIGGER:-PT2H
ACTION:DISPLAY
DESCRIPTION:MVP Hustle  Luna vs. EnFuego
END:VALARM
END:VEVENT
BEGIN:VEVENT
UID:baseball365-55165561-20220925T103000@quickscores.com
DTSTAMP:20260424T165600Z
DTSTART;TZID=America/Los_Angeles:20220925T103000
DURATION:PT1H30M0S
SUMMARY:MVP Hustle  Luna vs. Wilshire Warriors 8U
DESCRIPTION:8u/9uaa - Top Prospect Athletics
LOCATION:2a
CATEGORIES:QuickScores, Baseball Game
TRANSP:OPAQUE
BEGIN:VALARM
TRIGGER:-PT2H
ACTION:DISPLAY
DESCRIPTION:MVP Hustle  Luna vs. Wilshire Warriors 8U
END:VALARM
END:VEVENT
BEGIN:VEVENT
UID:baseball365-55234147-20221002T080000@quickscores.com
DTSTAMP:20260424T165600Z
DTSTART;TZID=America/Los_Angeles:20221002T080000
DURATION:PT1H30M0S
SUMMARY:MVP Hustle  Luna vs. PALI RIPTIDE GREEN
DESCRIPTION:8u/9uaa - Top Prospect Athletics
LOCATION:2a
CATEGORIES:QuickScores, Baseball Game
TRANSP:OPAQUE
BEGIN:VALARM
TRIGGER:-PT2H
ACTION:DISPLAY
DESCRIPTION:MVP Hustle  Luna vs. PALI RIPTIDE GREEN
END:VALARM
END:VEVENT
BEGIN:VEVENT
UID:baseball365-55234146-20221002T100000@quickscores.com
DTSTAMP:20260424T165600Z
DTSTART;TZID=America/Los_Angeles:20221002T100000
DURATION:PT1H30M0S
SUMMARY:365 Shockers 8U vs. MVP Hustle  Luna
DESCRIPTION:8u/9uaa - Top Prospect Athletics
LOCATION:2a
CATEGORIES:QuickScores, Baseball Game
TRANSP:OPAQUE
BEGIN:VALARM
TRIGGER:-PT2H
ACTION:DISPLAY
DESCRIPTION:365 Shockers 8U vs. MVP Hustle  Luna
END:VALARM
END:VEVENT
BEGIN:VEVENT
UID:baseball365-55351830-20221016T080000@quickscores.com
DTSTAMP:20260424T165600Z
DTSTART;TZID=America/Los_Angeles:20221016T080000
DURATION:PT1H30M0S
SUMMARY:MVP Hustle  Luna vs. EnFuego
DESCRIPTION:8u/9uaa - Top Prospect Athletics
LOCATION:2a
CATEGORIES:QuickScores, Baseball Game
TRANSP:OPAQUE
BEGIN:VALARM
TRIGGER:-PT2H
ACTION:DISPLAY
DESCRIPTION:MVP Hustle  Luna vs. EnFuego
END:VALARM
END:VEVENT
BEGIN:VEVENT
UID:baseball365-55326775-20221016T100000@quickscores.com
DTSTAMP:20260424T165600Z
DTSTART;TZID=America/Los_Angeles:20221016T100000
DURATION:PT1H30M0S
SUMMARY:MVP Hustle  Luna vs. SO Sharks 8U
DESCRIPTION:8u/9uaa - Top Prospect Athletics
LOCATION:2a
CATEGORIES:QuickScores, Baseball Game
TRANSP:OPAQUE
BEGIN:VALARM
TRIGGER:-PT2H
ACTION:DISPLAY
DESCRIPTION:MVP Hustle  Luna vs. SO Sharks 8U
END:VALARM
END:VEVENT
END:VCALENDAR
