BEGIN:VCALENDAR
VERSION:2.0
PRODID:-//QuickScores.com//BQ Dynamic iCal Creator//EN
METHOD:PUBLISH
X-WR-CALNAME:365 Shockers 8U - 8u/9uaa - Fall 2022
X-WR-CALDESC:QuickScores game calendar
X-PUBLISHED-TTL:PT24H
REFRESH-INTERVAL;VALUE=DURATION:PT24H
CALSCALE:GREGORIAN
BEGIN:VTIMEZONE
TZID:America/Los_Angeles
X-LIC-LOCATION:America/Los_Angeles
BEGIN:DAYLIGHT
TZNAME:PDT
TZOFFSETFROM:-0800
TZOFFSETTO:-0700
DTSTART:19700308T020000
RRULE:FREQ=YEARLY;BYMONTH=3;BYDAY=2SU
END:DAYLIGHT
BEGIN:STANDARD
TZNAME:PST
TZOFFSETFROM:-0700
TZOFFSETTO:-0800
DTSTART:19701101T020000
RRULE:FREQ=YEARLY;BYMONTH=11;BYDAY=1SU
END:STANDARD
END:VTIMEZONE
BEGIN:VEVENT
UID:baseball365-54996849-20220911T123000@quickscores.com
DTSTAMP:20260425T105400Z
DTSTART;TZID=America/Los_Angeles:20220911T123000
DURATION:PT1H30M0S
SUMMARY:Pali Riptide 8U vs. 365 Shockers 8U
DESCRIPTION:8u/9uaa - Top Prospect Athletics
LOCATION:2a
CATEGORIES:QuickScores, Baseball Game
TRANSP:OPAQUE
BEGIN:VALARM
TRIGGER:-PT2H
ACTION:DISPLAY
DESCRIPTION:Pali Riptide 8U vs. 365 Shockers 8U
END:VALARM
END:VEVENT
BEGIN:VEVENT
UID:baseball365-55099812-20220918T123000@quickscores.com
DTSTAMP:20260425T105400Z
DTSTART;TZID=America/Los_Angeles:20220918T123000
DURATION:PT1H30M0S
SUMMARY:365 Shockers 8U vs. SO Sharks 8U
DESCRIPTION:8u/9uaa - Top Prospect Athletics
LOCATION:2a
CATEGORIES:QuickScores, Baseball Game
TRANSP:OPAQUE
BEGIN:VALARM
TRIGGER:-PT2H
ACTION:DISPLAY
DESCRIPTION:365 Shockers 8U vs. SO Sharks 8U
END:VALARM
END:VEVENT
BEGIN:VEVENT
UID:baseball365-55165564-20220925T163000@quickscores.com
DTSTAMP:20260425T105400Z
DTSTART;TZID=America/Los_Angeles:20220925T163000
DURATION:PT1H30M0S
SUMMARY:Honeybadgers 8U vs. 365 Shockers 8U
DESCRIPTION:8u/9uaa - Top Prospect Athletics
LOCATION:2a
CATEGORIES:QuickScores, Baseball Game
TRANSP:OPAQUE
BEGIN:VALARM
TRIGGER:-PT2H
ACTION:DISPLAY
DESCRIPTION:Honeybadgers 8U vs. 365 Shockers 8U
END:VALARM
END:VEVENT
BEGIN:VEVENT
UID:baseball365-55234146-20221002T100000@quickscores.com
DTSTAMP:20260425T105400Z
DTSTART;TZID=America/Los_Angeles:20221002T100000
DURATION:PT1H30M0S
SUMMARY:365 Shockers 8U vs. MVP Hustle  Luna
DESCRIPTION:8u/9uaa - Top Prospect Athletics
LOCATION:2a
CATEGORIES:QuickScores, Baseball Game
TRANSP:OPAQUE
BEGIN:VALARM
TRIGGER:-PT2H
ACTION:DISPLAY
DESCRIPTION:365 Shockers 8U vs. MVP Hustle  Luna
END:VALARM
END:VEVENT
BEGIN:VEVENT
UID:baseball365-55465428-20221030T120000@quickscores.com
DTSTAMP:20260425T105400Z
DTSTART;TZID=America/Los_Angeles:20221030T120000
DURATION:PT1H30M0S
SUMMARY:365 Shockers 8U vs. PALI RIPTIDE GREEN
DESCRIPTION:8u/9uaa - Top Prospect Athletics
LOCATION:2a
CATEGORIES:QuickScores, Baseball Game
TRANSP:OPAQUE
BEGIN:VALARM
TRIGGER:-PT2H
ACTION:DISPLAY
DESCRIPTION:365 Shockers 8U vs. PALI RIPTIDE GREEN
END:VALARM
END:VEVENT
BEGIN:VEVENT
UID:baseball365-55465429-20221030T143000@quickscores.com
DTSTAMP:20260425T105400Z
DTSTART;TZID=America/Los_Angeles:20221030T143000
DURATION:PT1H30M0S
SUMMARY:SO Sharks 8U vs. 365 Shockers 8U
DESCRIPTION:8u/9uaa - Top Prospect Athletics
LOCATION:2a
CATEGORIES:QuickScores, Baseball Game
TRANSP:OPAQUE
BEGIN:VALARM
TRIGGER:-PT2H
ACTION:DISPLAY
DESCRIPTION:SO Sharks 8U vs. 365 Shockers 8U
END:VALARM
END:VEVENT
BEGIN:VEVENT
UID:baseball365-55546611-20221106T113000@quickscores.com
DTSTAMP:20260425T105400Z
DTSTART;TZID=America/Los_Angeles:20221106T113000
DURATION:PT1H30M0S
SUMMARY:SANDLOT vs. 365 Shockers 8U
DESCRIPTION:8u/9uaa - Top Prospect Athletics
LOCATION:2a
CATEGORIES:QuickScores, Baseball Game
TRANSP:OPAQUE
BEGIN:VALARM
TRIGGER:-PT2H
ACTION:DISPLAY
DESCRIPTION:SANDLOT vs. 365 Shockers 8U
END:VALARM
END:VEVENT
END:VCALENDAR
